From mboxrd@z Thu Jan  1 00:00:00 1970
Return-Path: <test-report-bounces@dpdk.org>
Received: from mails.dpdk.org (mails.dpdk.org [217.70.189.124])
	by inbox.dpdk.org (Postfix) with ESMTP id 50F2F462CD
	for <public@inbox.dpdk.org>; Thu, 27 Feb 2025 01:29:33 +0100 (CET)
Received: from mails.dpdk.org (localhost [127.0.0.1])
	by mails.dpdk.org (Postfix) with ESMTP id 2CCC040299;
	Thu, 27 Feb 2025 01:29:33 +0100 (CET)
Received: from mail-io1-f97.google.com (mail-io1-f97.google.com
 [209.85.166.97]) by mails.dpdk.org (Postfix) with ESMTP id CD48140290
 for <test-report@dpdk.org>; Thu, 27 Feb 2025 01:29:31 +0100 (CET)
Received: by mail-io1-f97.google.com with SMTP id
 ca18e2360f4ac-855a8c1ffe9so12116239f.1
 for <test-report@dpdk.org>; Wed, 26 Feb 2025 16:29:31 -0800 (PST)
DKIM-Signature: v=1; a=rsa-sha256; c=relaxed/relaxed;
 d=iol.unh.edu; s=unh-iol; t=1740616171; x=1741220971; darn=dpdk.org;
 h=references:in-reply-to:cc:to:from:subject:message-id:date:from:to
 :cc:subject:date:message-id:reply-to;
 bh=xmZGYbd2v/jpphng7BItIUEiFopDUNx7eBjmjQuCv/8=;
 b=SByYTmy1qPEiOZPvGgVHGT4ZjLS1FJK6cg1o/Z8j/36GjgojknRBwsTvpeYyU/Esy9
 hMw3p0tArVJrAq6Qw/3zUDRUGM6NrWJ3yMnvHmjmPjBFnhb2qTunguCHFHsKRCCyuBvG
 WJcvCc1pqsZVq90wylfX+ZT9HZ2aA6ssO5iB4=
X-Google-DKIM-Signature: v=1; a=rsa-sha256; c=relaxed/relaxed;
 d=1e100.net; s=20230601; t=1740616171; x=1741220971;
 h=references:in-reply-to:cc:to:from:subject:message-id:date
 :x-gm-message-state:from:to:cc:subject:date:message-id:reply-to;
 bh=xmZGYbd2v/jpphng7BItIUEiFopDUNx7eBjmjQuCv/8=;
 b=L8c3KFLU60JPqn3UV4+ZceoUKvW4Xd57sgsGzB9I8v2nWBD/3DSm625R/bDv/f3wMe
 vvxgFIVNVjNxN5RAj9YG1HdozKh2D6LWHPCcuB0Xph8JuOFdrC7Q2PECZ6+umDmb4N0F
 U4Au4zDUOwUYDf89QjFbQ/+K3XCjyBKSl53XKvZ4/UQ8XQj56IiGq+0kFMTkDoUsQXni
 8tjLUCYVvh4HCYWLO+uTRLxanp/EVOOXXGhWMSDTzbGsCkm6HzzGBh0e3ijiR5CdcvFf
 ccENzMZLvuTgkTCILG6DRue7Aoh4IJL2uJp+Ai5KQ9XwQcX1vQQc+UlhhQwb8bCIQx8S
 h+xQ==
X-Gm-Message-State: AOJu0YyUcrPBBycWRplUHTABwgkI7KlrtfjKv3+NWrjSqKU0lrzMSUkm
 5ch3MsW91kvPxHyT0CnrcIxGk7tbUiV+5PkwoNK9dYW8d1FavSwSyV0BZj+i2XKLvt1BzYQ7yDP
 udRgUzIBEuc9M3TeKKHYQhlfkJD9BKlZTDSUVuduryo7aUc7/Itn1VvHW
X-Gm-Gg: ASbGncvkJII0mk+Sk+LW6kchzbY7Bz83Tj/3O97OK3pOQmBKHT8N2v6DKUeP3PYXasj
 OJnbyMQMhF/zRp26rTD1njzqVKT8xgdAPgX4EBu4+ZLcwDOWqaNsC4uMlafpwL51uRu1UFwed+v
 IOez4vancAaAEHh1XDLMLphvAC2RRx5K0xm6o/rltdltzwPp5erJwxW9GueD4FDP0bUozMm549w
 9YPKaGE2TJKIQU0HJ/rSo2KP3TYkVu6YnIFOK2yn/H8oVBiLzgMAhWBAisEJ2FF4F4PRYRnyJ+x
 H0K7vl6G5JzXWOTIHeP0vhwAbw5xU7nd9irgy9UbWSArH9kBWy5d
X-Google-Smtp-Source: AGHT+IHFS5Hkr9yJRit6bz3T/GfhOJYHJklh4jwejSmvenM4rrgx2V8pFS+UxswzxZIRS0q+Cbi5uo8F7WMJ
X-Received: by 2002:a05:6e02:3f10:b0:3d3:d8af:6f with SMTP id
 e9e14a558f8ab-3d3d8af0135mr32411525ab.8.1740616171118; 
 Wed, 26 Feb 2025 16:29:31 -0800 (PST)
Received: from postal.iol.unh.edu (postal.iol.unh.edu.
 [2606:4100:3880:1234::84]) by smtp-relay.gmail.com with ESMTPS id
 e9e14a558f8ab-3d3dedbaf0esm140955ab.0.2025.02.26.16.29.31
 (version=TLS1_2 cipher=ECDHE-ECDSA-AES128-GCM-SHA256 bits=128/128);
 Wed, 26 Feb 2025 16:29:31 -0800 (PST)
X-Relaying-Domain: iol.unh.edu
Date: Wed, 26 Feb 2025 16:29:31 -0800 (PST)
Message-ID: <67bfb1eb.050a0220.1e949e.0e5dSMTPIN_ADDED_MISSING@mx.google.com>
Received: from [172.21.0.8] (unknown [172.18.0.240])
 by postal.iol.unh.edu (Postfix) with ESMTP id 7F43A6052471;
 Wed, 26 Feb 2025 19:29:30 -0500 (EST)
Subject: |SUCCESS| pw151824-151835 [PATCH] [12/12] net/xsc: avoid pointer cas
From: dpdklab@iol.unh.edu
To: Test Report <test-report@dpdk.org>
Cc: dpdk-test-reports@iol.unh.edu
In-Reply-To: <20250222035756.2290067-13-wanry@yunsilicon.com>
References: <20250222035756.2290067-13-wanry@yunsilicon.com>
Content-Type: text/plain
X-BeenThere: test-report@dpdk.org
X-Mailman-Version: 2.1.29
Precedence: list
List-Id: automatic DPDK test reports <test-report.dpdk.org>
List-Unsubscribe: <https://mails.dpdk.org/options/test-report>,
 <mailto:test-report-request@dpdk.org?subject=unsubscribe>
List-Archive: <http://mails.dpdk.org/archives/test-report/>
List-Post: <mailto:test-report@dpdk.org>
List-Help: <mailto:test-report-request@dpdk.org?subject=help>
List-Subscribe: <https://mails.dpdk.org/listinfo/test-report>,
 <mailto:test-report-request@dpdk.org?subject=subscribe>
Errors-To: test-report-bounces@dpdk.org

Test-Label: iol-unit-arm64-testing
Test-Status: SUCCESS
http://dpdk.org/patch/151835

_Testing PASS_

Submitter: Renyong Wan <wanry@yunsilicon.com>
Date: Saturday, February 22 2025 03:57:57 
DPDK git baseline: Repo:dpdk
  Branch: master
  CommitID:fab31a03ba98e7457284df95dd9eef2223a4ccaa

151824-151835 --> testing pass

Upstream job id: Generic-Unit-Test-DPDK#319069

Test environment and result as below:

+-----------------------------+----------------+--------------+---------------------------+------------------------------+
|         Environment         | dpdk_unit_test | lpm_autotest | cryptodev_sw_zuc_autotest | cryptodev_sw_snow3g_autotest |
+=============================+================+==============+===========================+==============================+
| CentOS Stream 9 (ARM)       | PASS           | SKIPPED      | SKIPPED                   | SKIPPED                      |
+-----------------------------+----------------+--------------+---------------------------+------------------------------+
| Debian 11 (Buster) (ARM)    | PASS           | SKIPPED      | SKIPPED                   | SKIPPED                      |
+-----------------------------+----------------+--------------+---------------------------+------------------------------+
| CentOS Stream 10 (ARM)      | PASS           | SKIPPED      | SKIPPED                   | SKIPPED                      |
+-----------------------------+----------------+--------------+---------------------------+------------------------------+
| Fedora 41 (ARM)             | PASS           | SKIPPED      | SKIPPED                   | SKIPPED                      |
+-----------------------------+----------------+--------------+---------------------------+------------------------------+
| Debian 12 (arm)             | PASS           | SKIPPED      | PASS                      | PASS                         |
+-----------------------------+----------------+--------------+---------------------------+------------------------------+
| Fedora 40 (ARM)             | PASS           | SKIPPED      | SKIPPED                   | SKIPPED                      |
+-----------------------------+----------------+--------------+---------------------------+------------------------------+
| Ubuntu 20.04 (ARM)          | PASS           | SKIPPED      | SKIPPED                   | SKIPPED                      |
+-----------------------------+----------------+--------------+---------------------------+------------------------------+
| Fedora 41 (ARM Clang)       | PASS           | SKIPPED      | SKIPPED                   | SKIPPED                      |
+-----------------------------+----------------+--------------+---------------------------+------------------------------+
| Fedora 40 (ARM Clang)       | PASS           | SKIPPED      | SKIPPED                   | SKIPPED                      |
+-----------------------------+----------------+--------------+---------------------------+------------------------------+
| RHEL9 (ARM)                 | PASS           | SKIPPED      | SKIPPED                   | SKIPPED                      |
+-----------------------------+----------------+--------------+---------------------------+------------------------------+
| Ubuntu 22.04 (ARM)          | PASS           | SKIPPED      | SKIPPED                   | SKIPPED                      |
+-----------------------------+----------------+--------------+---------------------------+------------------------------+
| Ubuntu 24.04 (ARM)          | PASS           | SKIPPED      | SKIPPED                   | SKIPPED                      |
+-----------------------------+----------------+--------------+---------------------------+------------------------------+
| 32-bit Ubuntu 22.04.4 (ARM) | PASS           | SKIPPED      | SKIPPED                   | SKIPPED                      |
+-----------------------------+----------------+--------------+---------------------------+------------------------------+
| Ubuntu 20.04 ARM SVE        | SKIPPED        | PASS         | SKIPPED                   | SKIPPED                      |
+-----------------------------+----------------+--------------+---------------------------+------------------------------+


CentOS Stream 9 (ARM)
	Kernel: Depends on container host
	Compiler: gcc 11.5.0 20240719 (Red Hat 11.5.0-2)

Debian 11 (Buster) (ARM)
	Kernel: Depends on container host
	Compiler: gcc (Debian 10.2.1-6) 10.2.1 20210110

CentOS Stream 10 (ARM)
	Kernel: Depends on container host
	Compiler: gcc 14.2.1 20241104 (Red Hat 14.2.1-6)

Fedora 41 (ARM)
	Kernel: Depends on container host
	Compiler: gcc 14.2.1 20240912 (Red Hat 14.2.1-3)

Debian 12 (arm)
	Kernel: Depends on container host
	Compiler: gcc (Debian 12.2.0-14) 12.2.0

Fedora 40 (ARM)
	Kernel: Depends on container host
	Compiler: gcc 14.2.1 20240912 (Red Hat 14.2.1-3)

Ubuntu 20.04 (ARM)
	Kernel: Depends on container host
	Compiler: gcc (Ubuntu 9.4.0-1ubuntu1~20.04.2) 9.4.0

Fedora 41 (ARM Clang)
	Kernel: Depends on container host
	Compiler: clang 19.1.5 (Fedora 19.1.5-1.fc41)

Fedora 40 (ARM Clang)
	Kernel: Depends on container host
	Compiler: clang 18.1.8 (Fedora 18.1.8-1.fc40)

RHEL9 (ARM)
	Kernel: Depends on container host
	Compiler: gcc 11.5.0 20240719 (Red Hat 11.5.0-2)

Ubuntu 22.04 (ARM)
	Kernel: Depends on container host
	Compiler: gcc (Ubuntu 11.4.0-1ubuntu1~22.04) 11.4.0

Ubuntu 24.04 (ARM)
	Kernel: Depends on container host
	Compiler: gcc (Ubuntu 13.3.0-6ubuntu2~24.04) 13.3.0

32-bit Ubuntu 22.04.4 (ARM)
	Kernel: 5.15.83+ aarch64
	Compiler: gcc (Ubuntu 11.4.0-1ubuntu1~22.04) 11.4.0

Ubuntu 20.04 ARM SVE
	Kernel: Depends on container host
	Compiler: gcc (Ubuntu 10.5.0-1ubuntu1~20.04) 10.5.0

To view detailed results, visit:
https://lab.dpdk.org/results/dashboard/patchsets/32649/

UNH-IOL DPDK Community Lab

To manage your email subscriptions, visit: 
https://lab.dpdk.org/results/dashboard/preferences/subscriptions/