From mboxrd@z Thu Jan  1 00:00:00 1970
Return-Path: <test-report-bounces@dpdk.org>
Received: from mails.dpdk.org (mails.dpdk.org [217.70.189.124])
	by inbox.dpdk.org (Postfix) with ESMTP id B1961462CE
	for <public@inbox.dpdk.org>; Thu, 27 Feb 2025 03:19:27 +0100 (CET)
Received: from mails.dpdk.org (localhost [127.0.0.1])
	by mails.dpdk.org (Postfix) with ESMTP id A68F740299;
	Thu, 27 Feb 2025 03:19:27 +0100 (CET)
Received: from mail-il1-f225.google.com (mail-il1-f225.google.com
 [209.85.166.225])
 by mails.dpdk.org (Postfix) with ESMTP id 40FDD40290
 for <test-report@dpdk.org>; Thu, 27 Feb 2025 03:19:26 +0100 (CET)
Received: by mail-il1-f225.google.com with SMTP id
 e9e14a558f8ab-3d2f5a932f5so1658035ab.1
 for <test-report@dpdk.org>; Wed, 26 Feb 2025 18:19:26 -0800 (PST)
DKIM-Signature: v=1; a=rsa-sha256; c=relaxed/relaxed;
 d=iol.unh.edu; s=unh-iol; t=1740622765; x=1741227565; darn=dpdk.org;
 h=references:in-reply-to:cc:to:from:subject:message-id:date:from:to
 :cc:subject:date:message-id:reply-to;
 bh=gbxB7fnLXb4vL4sfNbif+uxCoj4au0ruEZUHhSnCL+o=;
 b=CRbfm/XsvWhCLtV325ZyW5Z15AYP4/wExiASs8RAazm3xwma3u1ZHGkozINX0DRJxJ
 Jf9X4nSwpeYDiegMyi8xBOtOjl82TKefEjA7+rzTOv5/boakVA+Jld98r0I9QoNS/Tcj
 /3xtZWGix4d6H9sJ3yrGjr5QanSp0DsThm7j8=
X-Google-DKIM-Signature: v=1; a=rsa-sha256; c=relaxed/relaxed;
 d=1e100.net; s=20230601; t=1740622765; x=1741227565;
 h=references:in-reply-to:cc:to:from:subject:message-id:date
 :x-gm-message-state:from:to:cc:subject:date:message-id:reply-to;
 bh=gbxB7fnLXb4vL4sfNbif+uxCoj4au0ruEZUHhSnCL+o=;
 b=M3DIBrsxeP7z+bZ0gu5gSSBXGs3E2op98bNMvqpQA0ESLHQWMbKPGTONnh+q+XGDhy
 3RH+ml3ztIpQuqirGUeDVHEVgtYhsJ3WCuzeIwoPxDknsdwOUoA1Srd+kCLxLPCNf1Ax
 /B5hhZOx38b1fzTjKj6mgn1u0+ZfrZTKGuSMEl2aRa+GYLuSl0LSLY/teDiYO4rK2j1P
 dzn2Li9FgYBGaO7m7PqJpbns81/B6zgq8sx0d9zrMo0dB+CRyWWcDTbXmZb83DTPtPGr
 sNyX95OIZ6gpfK72RZIIkHFBUyaoR7DNh7MQeu57OBN5c3l66EBcHgYAF0mFhPyGbtkF
 Vl3g==
X-Gm-Message-State: AOJu0Yyu5LoOU4r1U3/sO2tm1/ven41NgizzOvbnEW9yiti3Uy8C5xTf
 4Rh3WFep8blqkZEdPY1qHanf2lD/sJOqyc7LQO5JKLAgtb7lnKhLhg5D3It7r7LsksT0dJ2PJTv
 LG3hsCLye2zX8d+cdoGAFK4kwm6na1FW6Se8+cP6pjzaqqUo2qh9YG/nA
X-Gm-Gg: ASbGncvbykxmgNClYfAq09gs8nVqO4+G6cwm4/IxQCXOq+KQQBIfqWLyEnsScMvdImv
 KNuhxF3gMZVYjVBomukZo+TLQMYtXdHjEeowUFWpnj1yrjiOL+g24dneIgPUcjnbUTzruGFzNAz
 w4oklSi92MjqY3JPGBBsPPPUiuYKBivEEhsOr9N672nrT0G20NDHViMho5LwdawAOFytcM8MAH9
 FIDJbiZlHYVSjsHSeMVABKf3lQlfvHKobCEUXcfPJjtRBuPePm8yRb93+Zzbd6emyol4q1odP3P
 X3RY0/K180dT9XHGFdqV7kxeAAMBHFv/HsfC27+jDLQaejuEyxuM
X-Google-Smtp-Source: AGHT+IFh3qdZGTCHC4ezG7hKetz/3oWqTxfHyp0Zi6HLxNWhyzbFc76F9iLgYBdy8eLhi4wv6eGUbB7Z/zmC
X-Received: by 2002:a92:c549:0:b0:3d3:dcc4:a58e with SMTP id
 e9e14a558f8ab-3d3dcc4a5f6mr19001235ab.8.1740622765540; 
 Wed, 26 Feb 2025 18:19:25 -0800 (PST)
Received: from postal.iol.unh.edu (postal.iol.unh.edu.
 [2606:4100:3880:1234::84]) by smtp-relay.gmail.com with ESMTPS id
 e9e14a558f8ab-3d3deecb44csm212345ab.49.2025.02.26.18.19.25
 (version=TLS1_2 cipher=ECDHE-ECDSA-AES128-GCM-SHA256 bits=128/128);
 Wed, 26 Feb 2025 18:19:25 -0800 (PST)
X-Relaying-Domain: iol.unh.edu
Date: Wed, 26 Feb 2025 18:19:25 -0800 (PST)
Message-ID: <67bfcbad.050a0220.4835f.14f2SMTPIN_ADDED_MISSING@mx.google.com>
Received: from [172.21.0.9] (unknown [172.18.0.240])
 by postal.iol.unh.edu (Postfix) with ESMTP id EF0676052471;
 Wed, 26 Feb 2025 21:19:24 -0500 (EST)
Subject: |SUCCESS| pw151824-151835 [PATCH] [12/12] net/xsc: avoid pointer cas
From: dpdklab@iol.unh.edu
To: Test Report <test-report@dpdk.org>
Cc: dpdk-test-reports@iol.unh.edu
In-Reply-To: <20250222035756.2290067-13-wanry@yunsilicon.com>
References: <20250222035756.2290067-13-wanry@yunsilicon.com>
Content-Type: text/plain
X-BeenThere: test-report@dpdk.org
X-Mailman-Version: 2.1.29
Precedence: list
List-Id: automatic DPDK test reports <test-report.dpdk.org>
List-Unsubscribe: <https://mails.dpdk.org/options/test-report>,
 <mailto:test-report-request@dpdk.org?subject=unsubscribe>
List-Archive: <http://mails.dpdk.org/archives/test-report/>
List-Post: <mailto:test-report@dpdk.org>
List-Help: <mailto:test-report-request@dpdk.org?subject=help>
List-Subscribe: <https://mails.dpdk.org/listinfo/test-report>,
 <mailto:test-report-request@dpdk.org?subject=subscribe>
Errors-To: test-report-bounces@dpdk.org

Test-Label: iol-compile-arm64-testing
Test-Status: SUCCESS
http://dpdk.org/patch/151835

_Testing PASS_

Submitter: Renyong Wan <wanry@yunsilicon.com>
Date: Saturday, February 22 2025 03:57:57 
DPDK git baseline: Repo:dpdk
  Branch: master
  CommitID:fab31a03ba98e7457284df95dd9eef2223a4ccaa

151824-151835 --> testing pass

Upstream job id: Generic-DPDK-Compile-Meson#365975

Test environment and result as below:

+----------------------------------------+--------------------+
|              Environment               | dpdk_meson_compile |
+========================================+====================+
| RHEL9 (ARM)                            | PASS               |
+----------------------------------------+--------------------+
| Ubuntu 20.04 ARM GCC Cross Compile     | PASS               |
+----------------------------------------+--------------------+
| Debian 12 with MUSDK                   | PASS               |
+----------------------------------------+--------------------+
| Ubuntu 20.04 ARM SVE                   | PASS               |
+----------------------------------------+--------------------+
| Fedora 40 (ARM Clang)                  | PASS               |
+----------------------------------------+--------------------+
| Fedora 40 (ARM)                        | PASS               |
+----------------------------------------+--------------------+
| Ubuntu 22.04 (ARM)                     | PASS               |
+----------------------------------------+--------------------+
| Ubuntu 24.04 (ARM)                     | PASS               |
+----------------------------------------+--------------------+
| Fedora 41 (ARM)                        | PASS               |
+----------------------------------------+--------------------+
| Fedora 41 (ARM Clang)                  | PASS               |
+----------------------------------------+--------------------+
| Ubuntu 20.04 (ARM)                     | PASS               |
+----------------------------------------+--------------------+
| CentOS Stream 9 (ARM)                  | PASS               |
+----------------------------------------+--------------------+
| CentOS Stream 10 (ARM)                 | PASS               |
+----------------------------------------+--------------------+
| Debian 12 (arm)                        | PASS               |
+----------------------------------------+--------------------+
| Debian 11 (Buster) (ARM)               | PASS               |
+----------------------------------------+--------------------+
| Ubuntu 20.04 ARM Clang Cross Compile   | PASS               |
+----------------------------------------+--------------------+
| Ubuntu 20.04 aarch32 GCC Cross Compile | PASS               |
+----------------------------------------+--------------------+


RHEL9 (ARM)
	Kernel: Depends on container host
	Compiler: gcc 11.5.0 20240719 (Red Hat 11.5.0-2)

Ubuntu 20.04 ARM GCC Cross Compile
	Kernel: Depends on container host
	Compiler: aarch64-linux-gnu-gcc (Ubuntu 9.4.0-1ubuntu1~20.04.2) 9.4.0

Debian 12 with MUSDK
	Kernel: Depends on container host
	Compiler: gcc (Debian 12.2.0-14) 12.2.0

Ubuntu 20.04 ARM SVE
	Kernel: Depends on container host
	Compiler: gcc (Ubuntu 10.5.0-1ubuntu1~20.04) 10.5.0

Fedora 40 (ARM Clang)
	Kernel: Depends on container host
	Compiler: clang 18.1.8 (Fedora 18.1.8-1.fc40)

Fedora 40 (ARM)
	Kernel: Depends on container host
	Compiler: gcc 14.2.1 20240912 (Red Hat 14.2.1-3)

Ubuntu 22.04 (ARM)
	Kernel: Depends on container host
	Compiler: gcc (Ubuntu 11.4.0-1ubuntu1~22.04) 11.4.0

Ubuntu 24.04 (ARM)
	Kernel: Depends on container host
	Compiler: gcc (Ubuntu 13.3.0-6ubuntu2~24.04) 13.3.0

Fedora 41 (ARM)
	Kernel: Depends on container host
	Compiler: gcc 14.2.1 20240912 (Red Hat 14.2.1-3)

Fedora 41 (ARM Clang)
	Kernel: Depends on container host
	Compiler: clang 19.1.5 (Fedora 19.1.5-1.fc41)

Ubuntu 20.04 (ARM)
	Kernel: Depends on container host
	Compiler: gcc (Ubuntu 9.4.0-1ubuntu1~20.04.2) 9.4.0

CentOS Stream 9 (ARM)
	Kernel: Depends on container host
	Compiler: gcc 11.5.0 20240719 (Red Hat 11.5.0-2)

CentOS Stream 10 (ARM)
	Kernel: Depends on container host
	Compiler: gcc 14.2.1 20241104 (Red Hat 14.2.1-6)

Debian 12 (arm)
	Kernel: Depends on container host
	Compiler: gcc (Debian 12.2.0-14) 12.2.0

Debian 11 (Buster) (ARM)
	Kernel: Depends on container host
	Compiler: gcc (Debian 10.2.1-6) 10.2.1 20210110

Ubuntu 20.04 ARM Clang Cross Compile
	Kernel: Depends on container host
	Compiler: clang 10.0.0-4ubuntu1

Ubuntu 20.04 aarch32 GCC Cross Compile
	Kernel: Depends on container host
	Compiler: gcc 9.4.0

To view detailed results, visit:
https://lab.dpdk.org/results/dashboard/patchsets/32649/

UNH-IOL DPDK Community Lab

To manage your email subscriptions, visit: 
https://lab.dpdk.org/results/dashboard/preferences/subscriptions/