From mboxrd@z Thu Jan 1 00:00:00 1970 Return-Path: Received: from mails.dpdk.org (mails.dpdk.org [217.70.189.124]) by inbox.dpdk.org (Postfix) with ESMTP id 37C09462D0 for ; Thu, 27 Feb 2025 04:07:35 +0100 (CET) Received: from mails.dpdk.org (localhost [127.0.0.1]) by mails.dpdk.org (Postfix) with ESMTP id 2DA9940299; Thu, 27 Feb 2025 04:07:35 +0100 (CET) Received: from mail-pl1-f227.google.com (mail-pl1-f227.google.com [209.85.214.227]) by mails.dpdk.org (Postfix) with ESMTP id 81A4840290 for ; Thu, 27 Feb 2025 04:07:33 +0100 (CET) Received: by mail-pl1-f227.google.com with SMTP id d9443c01a7336-2234daaf269so9731615ad.3 for ; Wed, 26 Feb 2025 19:07:33 -0800 (PST) DKIM-Signature: v=1; a=rsa-sha256; c=relaxed/relaxed; d=iol.unh.edu; s=unh-iol; t=1740625652; x=1741230452; darn=dpdk.org; h=cc:to:from:subject:message-id:date:from:to:cc:subject:date :message-id:reply-to; bh=tuYRCccPqR+/BPtDBbEv1ErxmM79U4Jn1bovsJEadrg=; b=JisEALMcTf7G8Af1Jkx+QZFg30BJhGHx1iA2/YOQmbozQfUJMpYVhjhsNrECkjMJO8 jf5mSmb3NDW9o7294GZJElfOIPScxpiVsmLwpjHH1hF3OAvqRvWQ2Yl7p8zJmYh1wxLE Mq5XL4JMt4ft6N+hq/dqDw+2m9GPqEhvYH/14= X-Google-DKIM-Signature: v=1; a=rsa-sha256; c=relaxed/relaxed; d=1e100.net; s=20230601; t=1740625652; x=1741230452; h=cc:to:from:subject:message-id:date:x-gm-message-state:from:to:cc :subject:date:message-id:reply-to; bh=tuYRCccPqR+/BPtDBbEv1ErxmM79U4Jn1bovsJEadrg=; b=BV7mOAeZbM8NMW3jAej5yPGVTdNrBjD0YH8t233kLJ9gvvPfamtKWwXxWNxqZDgdaR 5Hrhj88oENuPEmOJpuzCpDPDrP3Jd6AgJ2yh9RjZTXQQUpYj3n3RgLJn/sHNitOtoY/l jCkSWS/OikXG1b/orE17fvuOZI7Q2MukLCSeC0+4o/yymBHbmaIDBMO0v5QSsF+jV55F Lajtkn1BRn9q5olYUAcTjFkxWmpG8NMEU/lgSLDTk19kAIWb6Y7scjK+Tcv+j2XPZDLl eFatwGQHKVzqeKlspK0DUTxkGtpZ0HGZLfLyBjex0e1fHr4YBYT8T8QwBFVIEUUMJ8o8 ClAA== X-Gm-Message-State: AOJu0Yw5uEsZjHAB670NvawH33i0MR+77VskVvgWSIGJE3loQkTpllXu 86Dvz669M7ZgIDu0BdS8DvemwCvUltWMrfIG2m4CgY/a+B+3kKwyfuxAN2ghzJLSBYsi0q2X+NM yV6cB8cQOBbC+3kM/LQe81gSj7WYiNEFsGY9pJDgPXc7BbA1Y X-Gm-Gg: ASbGncsdhNNkh6DF7SN5RYPkFoVJBvsWwlNYq/RBLWXxlzG4glFxgn1/48WVWJAfPFT VnMxaBlbHS501LurfxZTpuv59ppG11qRtFS/Jhx6wnAa/W2Yd8TgfswRIKcCfTQLhdvWe7vMCkr s/vHHuiXARIiDParKQPVrj75U4c0StikGmU7+HnmL6VcwNiHe312zm8mljgLTNmNYVAwdfqol4r kZCofiCTHxUxNSIXA0ZcEZQ7mvrEGL/dL3KdSWzuTuiXTXcjsQt7/AimLfWIEUsMM74LpJQpuhf 14IP2DKHfZD/VcY2uNqToq8CmgNVXJkdSR7BnEhR9eTHcEBOvgY8 X-Google-Smtp-Source: AGHT+IG2tEuKqQLlfr4mFAtkrrmnglDgC51DSSraohTcXZioaQh6XafrQ/0FO90si2fzv3EYoZOePu6hVgkp X-Received: by 2002:a17:903:1984:b0:223:4b88:77ff with SMTP id d9443c01a7336-2234b887eb6mr18460065ad.6.1740625652497; Wed, 26 Feb 2025 19:07:32 -0800 (PST) Received: from postal.iol.unh.edu (postal.iol.unh.edu. [2606:4100:3880:1234::84]) by smtp-relay.gmail.com with ESMTPS id 98e67ed59e1d1-2fea69704a3sm28860a91.12.2025.02.26.19.07.32 (version=TLS1_2 cipher=ECDHE-ECDSA-AES128-GCM-SHA256 bits=128/128); Wed, 26 Feb 2025 19:07:32 -0800 (PST) X-Relaying-Domain: iol.unh.edu Date: Wed, 26 Feb 2025 19:07:32 -0800 (PST) Message-ID: <67bfd6f4.170a0220.2da05d.19efSMTPIN_ADDED_MISSING@mx.google.com> Received: from [172.21.0.7] (unknown [172.18.0.240]) by postal.iol.unh.edu (Postfix) with ESMTP id 9C9966052471; Wed, 26 Feb 2025 22:07:31 -0500 (EST) Subject: |SUCCESS| [GIT MASTER] 39594cdfcb730ea667370b1e304313d10996aff3 From: dpdklab@iol.unh.edu To: Test Report Cc: dpdk-test-reports@iol.unh.edu, Xueming Li , Christian Ehrhardt , Kevin Traynor , Luca Boccassi Content-Type: text/plain X-BeenThere: test-report@dpdk.org X-Mailman-Version: 2.1.29 Precedence: list List-Id: automatic DPDK test reports List-Unsubscribe: , List-Archive: List-Post: List-Help: List-Subscribe: , Errors-To: test-report-bounces@dpdk.org _Testing PASS_ Branch: tags/v24.11 39594cdfcb730ea667370b1e304313d10996aff3 --> testing pass Upstream job id: Generic-VM-Unit-Test-DPDK#27380 Test environment and result as below: +---------------------+----------------+ | Environment | dpdk_unit_test | +=====================+================+ | CentOS Stream 9 | PASS | +---------------------+----------------+ | CentOS Stream 10 | PASS | +---------------------+----------------+ | Debian Bullseye | PASS | +---------------------+----------------+ | Fedora 40 (Clang) | PASS | +---------------------+----------------+ | Debian 12 | PASS | +---------------------+----------------+ | Fedora 40 | PASS | +---------------------+----------------+ | Fedora 41 | PASS | +---------------------+----------------+ | RHEL8 | PASS | +---------------------+----------------+ | RHEL9 | PASS | +---------------------+----------------+ | Fedora 41 (Clang) | PASS | +---------------------+----------------+ | Ubuntu 22.04 | PASS | +---------------------+----------------+ | Ubuntu 20.04 | PASS | +---------------------+----------------+ | Ubuntu 24.04 | PASS | +---------------------+----------------+ | Windows Server 2022 | PASS | +---------------------+----------------+ CentOS Stream 9 Kernel: Depends on container host Compiler: gcc 11.5.0 20240719 (Red Hat 11.5.0-2) CentOS Stream 10 Kernel: Depends on container host Compiler: gcc 14.2.1 20241104 (Red Hat 14.2.1-6) Debian Bullseye Kernel: Depends on container host Compiler: gcc (Debian 10.2.1-6) 10.2.1 20210110 Fedora 40 (Clang) Kernel: Depends on container host Compiler: clang 18.1.8 (Fedora 18.1.8-1.fc40) Debian 12 Kernel: Depends on container host Compiler: gcc (Debian 12.2.0-14) 12.2.0 Fedora 40 Kernel: Depends on container host Compiler: gcc 14.2.1 20240912 (Red Hat 14.2.1-3) Fedora 41 Kernel: Depends on container host Compiler: gcc 14.2.1 20240912 (Red Hat 14.2.1-3) RHEL8 Kernel: Depends on container host Compiler: gcc 8.5.0 20210514 (Red Hat 8.5.0-22) RHEL9 Kernel: Depends on container host Compiler: gcc 11.5.0 20240719 (Red Hat 11.5.0-2) Fedora 41 (Clang) Kernel: Depends on container host Compiler: clang 19.1.5 (Fedora 19.1.5-1.fc41) Ubuntu 22.04 Kernel: Depends on container host Compiler: gcc (Ubuntu 11.4.0-1ubuntu1~22.04) 11.4.0 Ubuntu 20.04 Kernel: Depends on container host Compiler: gcc (Ubuntu 9.4.0-1ubuntu1~20.04.2) 9.4.0 Ubuntu 24.04 Kernel: Depends on container host Compiler: gcc (Ubuntu 13.3.0-6ubuntu2~24.04) 13.3.0 Windows Server 2022 Kernel: 10.0.20348.2031 Compiler: clang 15.0.7, gcc 14.1.0 (MinGW), and MSVC VS 19.39.33521 To view detailed results, visit: https://lab.dpdk.org/results/dashboard/tarballs/32736/ UNH-IOL DPDK Community Lab To manage your email subscriptions, visit: https://lab.dpdk.org/results/dashboard/preferences/subscriptions/