From mboxrd@z Thu Jan 1 00:00:00 1970 Return-Path: Received: from mails.dpdk.org (mails.dpdk.org [217.70.189.124]) by inbox.dpdk.org (Postfix) with ESMTP id 0FAD1462D5 for ; Thu, 27 Feb 2025 10:44:59 +0100 (CET) Received: from mails.dpdk.org (localhost [127.0.0.1]) by mails.dpdk.org (Postfix) with ESMTP id 0ABBC40A6E; Thu, 27 Feb 2025 10:44:59 +0100 (CET) Received: from mail-pl1-f225.google.com (mail-pl1-f225.google.com [209.85.214.225]) by mails.dpdk.org (Postfix) with ESMTP id A37F140A6F for ; Thu, 27 Feb 2025 10:44:57 +0100 (CET) Received: by mail-pl1-f225.google.com with SMTP id d9443c01a7336-223594b3c6dso4152215ad.2 for ; Thu, 27 Feb 2025 01:44:57 -0800 (PST) DKIM-Signature: v=1; a=rsa-sha256; c=relaxed/relaxed; d=iol.unh.edu; s=unh-iol; t=1740649497; x=1741254297; darn=dpdk.org; h=cc:to:from:subject:message-id:date:from:to:cc:subject:date :message-id:reply-to; bh=hPKi0F4IWObH/JqBtqjZQnaqGY3xghqKbrs7g8x24a8=; b=T2m4TE/XvVB2jBf7f5aakT1fDIrj5iLX+Q7VUsTttAi62u7a6Tk2k+Tz96rFk/nXWr XSBgC/8a12gdB4Kl/dvAvl4qdVzvwwq8x8Jhk3t9xl6YcDZZat2bHacF1VzFzCssqnlI gixnr9KoJitDnE2CbJYgSqw7o5/htFaYo4WaM= X-Google-DKIM-Signature: v=1; a=rsa-sha256; c=relaxed/relaxed; d=1e100.net; s=20230601; t=1740649497; x=1741254297; h=cc:to:from:subject:message-id:date:x-gm-message-state:from:to:cc :subject:date:message-id:reply-to; bh=hPKi0F4IWObH/JqBtqjZQnaqGY3xghqKbrs7g8x24a8=; b=L70v9kJNapiN52haUd1so9VduNcZdG3XFup3uxXzXnXfZji7THqoHRVJW0KL+Y9TGn zQ2nFYdE61Bwyo2c86kpJeZgWmwOgpuP7dfxApPJyIaIHQ7s8hgV/EO1L3EwSIRquVTm J5ewA124LL9DtyP7MxrvrupjoiXHiBhLAG6Nhdb75YXcQNaJCQ8ZOXgKioW/E0QEJdE/ mMqPYcyB+h4ZI2i1s+/ItrQ0z6sdbOTOSdXn63SQQctZXyKW6izNAwVz8u0bdgO/PQVK j2dYBLJrPNyBrbB0AJHVVKK97Alp1A7XxwmWhyL3ryIi7VXSzTKjWkRfzSdEjALQh/22 yqFg== X-Gm-Message-State: AOJu0YwgevU0p+RhVKZQL/qpyLRAIN12ntDm2+I+JyOd7slzKZYchW1H 2DBrRYlVPhsPtaZcj7Y3Ppfbu41rsHtYIAjE+B5fcoXrQ1WYyYmdxyrct2aWRO9CfFRuTxtviqW AGj7CI7bC/E+I355v1ByJG7pUwmL0Qy7jDyAcXDsd X-Gm-Gg: ASbGnctlBGvxmK2sbjOEAdHFSqOFTJWWPFYv/BX7qcMRe7SYhtKP6Npkcs6Kp2HaYDb +5DbzN8aZFZJvIl3jtdtuSxXbeF91s1HhrOk3d/fP4i8EwYNq/jiDCoo9oCxVK1MVJmIVETwcV7 iGVDMuQ01Ni666ZhUaSGFg57MwnJPUfUzOyJzv25RYg6myf4LXs0o8+irNWopwx2laBsTemZg2B mmi5s48zbIB7GoQ7lVbjhcpp/BewoEPfEKSZRg4ZsTBWZaNyZRqrUGtoinGX9aJPPaIzDxCYgIm h48PW7djSS6LpBikdY5ureSe5xnkjRzusXH7ePZ/ X-Google-Smtp-Source: AGHT+IGDMfdoGfFJe9ngY+JIGiKEnpU5hIhIGxToociBSFyQscK01qh+SLqJe7T1vDbD8z0qKSaoVWCHI6y1 X-Received: by 2002:a05:6a00:3d48:b0:730:75b1:7218 with SMTP id d2e1a72fcca58-7347918de02mr17752141b3a.16.1740649496831; Thu, 27 Feb 2025 01:44:56 -0800 (PST) Received: from postal.iol.unh.edu (postal.iol.unh.edu. [132.177.123.84]) by smtp-relay.gmail.com with ESMTPS id d2e1a72fcca58-7349feca568sm64692b3a.20.2025.02.27.01.44.56 (version=TLS1_2 cipher=ECDHE-ECDSA-AES128-GCM-SHA256 bits=128/128); Thu, 27 Feb 2025 01:44:56 -0800 (PST) X-Relaying-Domain: iol.unh.edu Date: Thu, 27 Feb 2025 01:44:56 -0800 (PST) Message-ID: <67c03418.050a0220.2fa2f7.391cSMTPIN_ADDED_MISSING@mx.google.com> Received: from [172.21.0.8] (unknown [172.18.0.240]) by postal.iol.unh.edu (Postfix) with ESMTP id E2B7A6052471; Thu, 27 Feb 2025 04:44:55 -0500 (EST) Subject: |SUCCESS| [GIT MASTER] 9da9b641cb67dd0b85a1bfec1631830cb3c38738 From: dpdklab@iol.unh.edu To: Test Report Cc: dpdk-test-reports@iol.unh.edu, Bruce Richardson Content-Type: text/plain X-BeenThere: test-report@dpdk.org X-Mailman-Version: 2.1.29 Precedence: list List-Id: automatic DPDK test reports List-Unsubscribe: , List-Archive: List-Post: List-Help: List-Subscribe: , Errors-To: test-report-bounces@dpdk.org _Testing PASS_ Branch: dpdk-next-net-intel 9da9b641cb67dd0b85a1bfec1631830cb3c38738 --> testing pass Upstream job id: ACVP-FIPS-testing#9055 Test environment and result as below: +--------------------+----------------------+----------------------+ | Environment | compressdev_zlib_pmd | dpdk_fips_validation | +====================+======================+======================+ | Ubuntu 22.04 (ARM) | PASS | SKIPPED | +--------------------+----------------------+----------------------+ | Ubuntu 22.04 | PASS | SKIPPED | +--------------------+----------------------+----------------------+ | Ubuntu 20.04 | SKIPPED | PASS | +--------------------+----------------------+----------------------+ Ubuntu 22.04 (ARM) Kernel: 5.15.0-97-generic Compiler: gcc gcc (Ubuntu 11.4.0-1ubuntu1~22.04) 11.4.0 Ubuntu 22.04 Kernel: 5.15.0-100-generic Compiler: gcc gcc (Ubuntu 11.4.0-1ubuntu1~22.04) 11.4.0 Ubuntu 20.04 Kernel: Depends on container host Compiler: gcc (Ubuntu 9.4.0-1ubuntu1~20.04.2) 9.4.0 To view detailed results, visit: https://lab.dpdk.org/results/dashboard/tarballs/32729/ UNH-IOL DPDK Community Lab To manage your email subscriptions, visit: https://lab.dpdk.org/results/dashboard/preferences/subscriptions/