From mboxrd@z Thu Jan 1 00:00:00 1970 Return-Path: Received: from mails.dpdk.org (mails.dpdk.org [217.70.189.124]) by inbox.dpdk.org (Postfix) with ESMTP id 72447462D8 for ; Thu, 27 Feb 2025 16:34:56 +0100 (CET) Received: from mails.dpdk.org (localhost [127.0.0.1]) by mails.dpdk.org (Postfix) with ESMTP id 50889402D7; Thu, 27 Feb 2025 16:34:56 +0100 (CET) Received: from mail-io1-f100.google.com (mail-io1-f100.google.com [209.85.166.100]) by mails.dpdk.org (Postfix) with ESMTP id 3F73740287 for ; Thu, 27 Feb 2025 16:34:55 +0100 (CET) Received: by mail-io1-f100.google.com with SMTP id ca18e2360f4ac-855d6bdfe05so31874439f.2 for ; Thu, 27 Feb 2025 07:34:55 -0800 (PST) DKIM-Signature: v=1; a=rsa-sha256; c=relaxed/relaxed; d=iol.unh.edu; s=unh-iol; t=1740670494; x=1741275294; darn=dpdk.org; h=cc:to:from:subject:message-id:date:from:to:cc:subject:date :message-id:reply-to; bh=XZAGQDO0K4oAgVX1WzFf/s1HuA4r22WIoF/8+JEA5gg=; b=YtGw4+ldOQk8sF8vvYTrD+D7+oPk2Ezpi7qV6K/P622Di0xSRaIqtTJQyggU9Sr4Wv 8VsGdwYaaOZDfw5drx/aVVeXbppLobdk53vKbX4MEznpATXPB/RWeL3fY6ElzYf5TJPG 6RmfIW23yeEKGXQm2qXhqvkeLi10eNzbAP19I= X-Google-DKIM-Signature: v=1; a=rsa-sha256; c=relaxed/relaxed; d=1e100.net; s=20230601; t=1740670494; x=1741275294; h=cc:to:from:subject:message-id:date:x-gm-message-state:from:to:cc :subject:date:message-id:reply-to; bh=XZAGQDO0K4oAgVX1WzFf/s1HuA4r22WIoF/8+JEA5gg=; b=rkYbGMdz91+yC1iYIKbqsWVvaB/+sm2PNqfdMPxxJJ2X8wgUvsODG/l2SK0hNEFjb7 tEH8vsf9/CEGdZmEiTzv0MPWg9IF34wpg0+hrCjMiqIQMN5nEo4xJiqiU9g81hJpgXS1 +SFHgjDQjw0KdSDoySRe1mEoyuJ68F4Cg1x+D2KYypUJLEIhvOyL1Hd6KjqyKB9wBOWu dg7e0aGgDaK0EbQcOajpayGuzs4UqXZjeiIVINgHN/kHWiJ6sd5DUDD25AQx4VIiXEL1 tPdOZk0ryvksigdIr+H1nV42a7Pid23t9Ldc181zoBKsZpNwCr1Sky6KZODbj8F7OMbX 0X3w== X-Gm-Message-State: AOJu0YyUVd5Hd5BOJROAHAKRfED8FOQtYV59FyqHWku7dfSaGv5EccfZ 5W1RD90O8XdXREyclqAMYN+3tUbgB9Kq2GlFqUArBj8WTM78iW+LlAAsHVPqqQVkx/xV20F3qdh 68QW12W+DjRhXYMx6G0kCaLGf/fIEDp0s X-Gm-Gg: ASbGnct851v9dHBQ192y9jEClY0HeQHASMI3rkdx54jpvom5IcPc/P9b9iO34ToZpq8 9t2T8l2U5ehW5LkNfYFSTT9DLuMe9/IWltJlpvmN1R+l3jh9065jBeY0bKmtKT4HLXYXV7wg0U9 LilZivETIc87/zXPi7/vdAjJK7vvdVjmrTETdWU6QNWIAp/CBRT98IBqfRT+9ImZn0iBrnrP9oS BiVW0QHSDQ2KhCKusRV3fxs/XT8/wHXUC1Mzf6uuZnsPeLAgCE7AT5Vx7Cl+v4oxyBoBH7ALhtv 0KK0VyBT7L3KvANn+DkGQ9ltjAibfsJNQHeh0NYh X-Google-Smtp-Source: AGHT+IEjL/ZzO4Lw/dP8H6xkW96clEVYTYUdfYoZCzvwDiHPCu8cDKXNH1fExcf+f5JMDbaSRdnDrRwlBVF5 X-Received: by 2002:a05:6602:14d3:b0:855:bd9c:7175 with SMTP id ca18e2360f4ac-856203c12a0mr1388661039f.12.1740670494566; Thu, 27 Feb 2025 07:34:54 -0800 (PST) Received: from postal.iol.unh.edu (postal.iol.unh.edu. [132.177.123.84]) by smtp-relay.gmail.com with ESMTPS id ca18e2360f4ac-8587512fdc5sm10792239f.13.2025.02.27.07.34.54 (version=TLS1_2 cipher=ECDHE-ECDSA-AES128-GCM-SHA256 bits=128/128); Thu, 27 Feb 2025 07:34:54 -0800 (PST) X-Relaying-Domain: iol.unh.edu Date: Thu, 27 Feb 2025 07:34:54 -0800 (PST) Message-ID: <67c0861e.050a0220.9d0e3.6604SMTPIN_ADDED_MISSING@mx.google.com> Received: from [172.21.0.7] (unknown [172.18.0.240]) by postal.iol.unh.edu (Postfix) with ESMTP id F16766052471; Thu, 27 Feb 2025 10:34:53 -0500 (EST) Subject: |SUCCESS| [GIT MASTER] 39594cdfcb730ea667370b1e304313d10996aff3 From: dpdklab@iol.unh.edu To: Test Report Cc: dpdk-test-reports@iol.unh.edu, Xueming Li , Christian Ehrhardt , Kevin Traynor , Luca Boccassi Content-Type: text/plain X-BeenThere: test-report@dpdk.org X-Mailman-Version: 2.1.29 Precedence: list List-Id: automatic DPDK test reports List-Unsubscribe: , List-Archive: List-Post: List-Help: List-Subscribe: , Errors-To: test-report-bounces@dpdk.org _Testing PASS_ Branch: tags/v24.11 39594cdfcb730ea667370b1e304313d10996aff3 --> testing pass Upstream job id: Generic-DPDK-Compile-Meson#366226 Test environment and result as below: +------------------------------------+--------------------+ | Environment | dpdk_meson_compile | +====================================+====================+ | RHEL9 (ARM) | PASS | +------------------------------------+--------------------+ | Ubuntu 20.04 ARM SVE | PASS | +------------------------------------+--------------------+ | Fedora 40 (ARM) | PASS | +------------------------------------+--------------------+ | Debian 12 with MUSDK | PASS | +------------------------------------+--------------------+ | Fedora 40 (ARM Clang) | PASS | +------------------------------------+--------------------+ | CentOS Stream 10 (ARM) | PASS | +------------------------------------+--------------------+ | Ubuntu 20.04 (ARM) | PASS | +------------------------------------+--------------------+ | Fedora 41 (ARM) | PASS | +------------------------------------+--------------------+ | Ubuntu 22.04 (ARM) | PASS | +------------------------------------+--------------------+ | CentOS Stream 9 (ARM) | PASS | +------------------------------------+--------------------+ | Ubuntu 24.04 (ARM) | PASS | +------------------------------------+--------------------+ | Debian 12 (arm) | PASS | +------------------------------------+--------------------+ | Debian 11 (Buster) (ARM) | PASS | +------------------------------------+--------------------+ | Ubuntu 20.04 ARM GCC Cross Compile | PASS | +------------------------------------+--------------------+ | Fedora 41 (ARM Clang) | PASS | +------------------------------------+--------------------+ RHEL9 (ARM) Kernel: Depends on container host Compiler: gcc 11.5.0 20240719 (Red Hat 11.5.0-2) Ubuntu 20.04 ARM SVE Kernel: Depends on container host Compiler: gcc (Ubuntu 10.5.0-1ubuntu1~20.04) 10.5.0 Fedora 40 (ARM) Kernel: Depends on container host Compiler: gcc 14.2.1 20240912 (Red Hat 14.2.1-3) Debian 12 with MUSDK Kernel: Depends on container host Compiler: gcc (Debian 12.2.0-14) 12.2.0 Fedora 40 (ARM Clang) Kernel: Depends on container host Compiler: clang 18.1.8 (Fedora 18.1.8-1.fc40) CentOS Stream 10 (ARM) Kernel: Depends on container host Compiler: gcc 14.2.1 20241104 (Red Hat 14.2.1-6) Ubuntu 20.04 (ARM) Kernel: Depends on container host Compiler: gcc (Ubuntu 9.4.0-1ubuntu1~20.04.2) 9.4.0 Fedora 41 (ARM) Kernel: Depends on container host Compiler: gcc 14.2.1 20240912 (Red Hat 14.2.1-3) Ubuntu 22.04 (ARM) Kernel: Depends on container host Compiler: gcc (Ubuntu 11.4.0-1ubuntu1~22.04) 11.4.0 CentOS Stream 9 (ARM) Kernel: Depends on container host Compiler: gcc 11.5.0 20240719 (Red Hat 11.5.0-2) Ubuntu 24.04 (ARM) Kernel: Depends on container host Compiler: gcc (Ubuntu 13.3.0-6ubuntu2~24.04) 13.3.0 Debian 12 (arm) Kernel: Depends on container host Compiler: gcc (Debian 12.2.0-14) 12.2.0 Debian 11 (Buster) (ARM) Kernel: Depends on container host Compiler: gcc (Debian 10.2.1-6) 10.2.1 20210110 Ubuntu 20.04 ARM GCC Cross Compile Kernel: Depends on container host Compiler: aarch64-linux-gnu-gcc (Ubuntu 9.4.0-1ubuntu1~20.04.2) 9.4.0 Fedora 41 (ARM Clang) Kernel: Depends on container host Compiler: clang 19.1.5 (Fedora 19.1.5-1.fc41) To view detailed results, visit: https://lab.dpdk.org/results/dashboard/tarballs/32754/ UNH-IOL DPDK Community Lab To manage your email subscriptions, visit: https://lab.dpdk.org/results/dashboard/preferences/subscriptions/