From mboxrd@z Thu Jan  1 00:00:00 1970
Return-Path: <test-report-bounces@dpdk.org>
Received: from mails.dpdk.org (mails.dpdk.org [217.70.189.124])
	by inbox.dpdk.org (Postfix) with ESMTP id 168A6462DB
	for <public@inbox.dpdk.org>; Fri, 28 Feb 2025 01:20:17 +0100 (CET)
Received: from mails.dpdk.org (localhost [127.0.0.1])
	by mails.dpdk.org (Postfix) with ESMTP id 130B44029B;
	Fri, 28 Feb 2025 01:20:17 +0100 (CET)
Received: from mail-ot1-f99.google.com (mail-ot1-f99.google.com
 [209.85.210.99]) by mails.dpdk.org (Postfix) with ESMTP id 3222B4027F
 for <test-report@dpdk.org>; Fri, 28 Feb 2025 01:20:16 +0100 (CET)
Received: by mail-ot1-f99.google.com with SMTP id
 46e09a7af769-72720daed05so831952a34.2
 for <test-report@dpdk.org>; Thu, 27 Feb 2025 16:20:16 -0800 (PST)
DKIM-Signature: v=1; a=rsa-sha256; c=relaxed/relaxed;
 d=iol.unh.edu; s=unh-iol; t=1740702015; x=1741306815; darn=dpdk.org;
 h=references:in-reply-to:cc:to:from:subject:message-id:date:from:to
 :cc:subject:date:message-id:reply-to;
 bh=hgQW2Z7T6zy4q1A4ptWNfcEQxHF3yHWNLzOKaopui0E=;
 b=TMMsl0hlXy9wL6to0LOjv/HgIO724MX5V9zCDL3LY0UiKuU+eLwlcDRIh+9maPEhhf
 Ux70cayvnLIlEzOJ/X7DVqv55I5V3rzkqw/ytkFmSE7E0+JgPBsolaJAiduJkxk1aDN6
 TlI3pXj07RJGRwY2DIuuKy2jNSNFb6t3kTgT0=
X-Google-DKIM-Signature: v=1; a=rsa-sha256; c=relaxed/relaxed;
 d=1e100.net; s=20230601; t=1740702015; x=1741306815;
 h=references:in-reply-to:cc:to:from:subject:message-id:date
 :x-gm-message-state:from:to:cc:subject:date:message-id:reply-to;
 bh=hgQW2Z7T6zy4q1A4ptWNfcEQxHF3yHWNLzOKaopui0E=;
 b=vAiUwndvNfYbQZCxtKQcycW4xle43ZAGnbPKKiNvvJzUrUUErUxLlwG9QctKI6KdHi
 FX9rIlO98n9blfRJ++g2DRFw+d4tgxM/rw2/4Er+uSbvuQT9toKyNbnqcR4fCBBsefym
 69KBISdWodwfl3mbgUBc6enhqwmmMSaqXIfbnpiHpwvTpVm/oTmU0Kdc8e3jB5P25tGh
 7JUCDLQTOq0ECGnwTJt4DfsmdoX5XRwCb/xFPZZ7f6N9dXAB4FKhMtw2WZihiU1Olxo/
 9Ed+AKUxxKtB3MR/tOMRc2aOHL+a+aHLsg4VBOzRIrGvoxJsH7rGOS5V4Sbqbhj1pibZ
 nR1w==
X-Gm-Message-State: AOJu0Yzp0B/KzLHp8TOb8YJgJYRzG2RXbleXK8z4ZUiDPNp9rCfHO2FM
 C+NOSzGRyPHTmPWyp5IkyppaE0K2YAGUgCbK4l9xmqXsAW6mJztWSSgE7oxM6bIhOF46QnWI3Wv
 bvWDUEuUvsdUBiSg5KRsMBXtnnEWGk1u0yxITx71P/mkcqcpbpYDfUd2l
X-Gm-Gg: ASbGncthgBr5iJm0+VCkGdW6yDaXDitpG/FV6fFHYjJaNCcLzOs5m3tnxkD6SYvxNuN
 dl3IQY09aBnB6xPkoVjcC0liFnAgOhtMoF5D3cGAmx+1LMM8Z7j5ltEFEumDPDP3ilmuII5UQlt
 L4y7mXfxbp9qlrKQhDA6aAx6K68poKw2L86VZUON9dnuDO01kbIvPlI0m47ctCKtSpnnIqzpLv8
 VTTq2tYeA8v2usIlSTpGRaHlBWtPv6uh1FX0npIUPnWn+2W2HO/DhbTXeoH/MVXw9VZdpU9/yFh
 yxuDDGZemMdofGey6IFVBJhO3MgjMS0Gr/VS7FVocIYlRbqCRxtD
X-Google-Smtp-Source: AGHT+IHb2AfrFKguF1E5ZnPHMSD2o2HnaC5dLJFRw1CwaQyedOKII5Bmo8LpR6TUjGQtygsPyoTvARd5sHGt
X-Received: by 2002:a05:6830:2692:b0:71d:fb64:b601 with SMTP id
 46e09a7af769-728b8307214mr754032a34.27.1740702015315; 
 Thu, 27 Feb 2025 16:20:15 -0800 (PST)
Received: from postal.iol.unh.edu (postal.iol.unh.edu.
 [2606:4100:3880:1234::84]) by smtp-relay.gmail.com with ESMTPS id
 46e09a7af769-728afd6c784sm96920a34.7.2025.02.27.16.20.15
 (version=TLS1_2 cipher=ECDHE-ECDSA-AES128-GCM-SHA256 bits=128/128);
 Thu, 27 Feb 2025 16:20:15 -0800 (PST)
X-Relaying-Domain: iol.unh.edu
Date: Thu, 27 Feb 2025 16:20:15 -0800 (PST)
Message-ID: <67c1013f.050a0220.2d927c.5533SMTPIN_ADDED_MISSING@mx.google.com>
Received: from [172.21.0.7] (unknown [172.18.0.240])
 by postal.iol.unh.edu (Postfix) with ESMTP id B99596052471;
 Thu, 27 Feb 2025 19:20:14 -0500 (EST)
Subject: |SUCCESS| pw151987-151988 [PATCH] [2/2] net/xsc: suppress assign the
From: dpdklab@iol.unh.edu
To: Test Report <test-report@dpdk.org>
Cc: dpdk-test-reports@iol.unh.edu
In-Reply-To: <20250225024813.2489747-3-wanry@yunsilicon.com>
References: <20250225024813.2489747-3-wanry@yunsilicon.com>
Content-Type: text/plain
X-BeenThere: test-report@dpdk.org
X-Mailman-Version: 2.1.29
Precedence: list
List-Id: automatic DPDK test reports <test-report.dpdk.org>
List-Unsubscribe: <https://mails.dpdk.org/options/test-report>,
 <mailto:test-report-request@dpdk.org?subject=unsubscribe>
List-Archive: <http://mails.dpdk.org/archives/test-report/>
List-Post: <mailto:test-report@dpdk.org>
List-Help: <mailto:test-report-request@dpdk.org?subject=help>
List-Subscribe: <https://mails.dpdk.org/listinfo/test-report>,
 <mailto:test-report-request@dpdk.org?subject=subscribe>
Errors-To: test-report-bounces@dpdk.org

Test-Label: iol-compile-amd64-testing
Test-Status: SUCCESS
http://dpdk.org/patch/151988

_Testing PASS_

Submitter: Renyong Wan <wanry@yunsilicon.com>
Date: Tuesday, February 25 2025 02:48:15 
DPDK git baseline: Repo:dpdk
  Branch: master
  CommitID:5651e843d0fc6e01de164a9f9f3718c31e12ee2c

151987-151988 --> testing pass

Upstream job id: Windows-Compile-DPDK-Native#26930

Test environment and result as below:

+---------------------+--------------------+-------------------+------------------+-------------------+-------------------------+----------------------+
|     Environment     | dpdk_meson_compile | dpdk_compile_spdk | dpdk_compile_ovs | dpdk_msvc_compile | dpdk_llvm_clang_compile | dpdk_mingw64_compile |
+=====================+====================+===================+==================+===================+=========================+======================+
| FreeBSD 13.4        | PASS               | SKIPPED           | SKIPPED          | SKIPPED           | SKIPPED                 | SKIPPED              |
+---------------------+--------------------+-------------------+------------------+-------------------+-------------------------+----------------------+
| FreeBSD 14.2        | PASS               | SKIPPED           | SKIPPED          | SKIPPED           | SKIPPED                 | SKIPPED              |
+---------------------+--------------------+-------------------+------------------+-------------------+-------------------------+----------------------+
| CentOS Stream 9     | PASS               | PASS              | SKIPPED          | SKIPPED           | SKIPPED                 | SKIPPED              |
+---------------------+--------------------+-------------------+------------------+-------------------+-------------------------+----------------------+
| CentOS Stream 10    | PASS               | SKIPPED           | SKIPPED          | SKIPPED           | SKIPPED                 | SKIPPED              |
+---------------------+--------------------+-------------------+------------------+-------------------+-------------------------+----------------------+
| Debian Bullseye     | PASS               | PASS              | SKIPPED          | SKIPPED           | SKIPPED                 | SKIPPED              |
+---------------------+--------------------+-------------------+------------------+-------------------+-------------------------+----------------------+
| Debian 12           | PASS               | PASS              | SKIPPED          | SKIPPED           | SKIPPED                 | SKIPPED              |
+---------------------+--------------------+-------------------+------------------+-------------------+-------------------------+----------------------+
| Fedora 40 (Clang)   | PASS               | PASS              | SKIPPED          | SKIPPED           | SKIPPED                 | SKIPPED              |
+---------------------+--------------------+-------------------+------------------+-------------------+-------------------------+----------------------+
| Fedora 41 (Clang)   | PASS               | PASS              | PASS             | SKIPPED           | SKIPPED                 | SKIPPED              |
+---------------------+--------------------+-------------------+------------------+-------------------+-------------------------+----------------------+
| Fedora 41           | PASS               | PASS              | PASS             | SKIPPED           | SKIPPED                 | SKIPPED              |
+---------------------+--------------------+-------------------+------------------+-------------------+-------------------------+----------------------+
| openSUSE Leap 15    | PASS               | SKIPPED           | SKIPPED          | SKIPPED           | SKIPPED                 | SKIPPED              |
+---------------------+--------------------+-------------------+------------------+-------------------+-------------------------+----------------------+
| RHEL8               | PASS               | SKIPPED           | SKIPPED          | SKIPPED           | SKIPPED                 | SKIPPED              |
+---------------------+--------------------+-------------------+------------------+-------------------+-------------------------+----------------------+
| Ubuntu 20.04        | PASS               | SKIPPED           | SKIPPED          | SKIPPED           | SKIPPED                 | SKIPPED              |
+---------------------+--------------------+-------------------+------------------+-------------------+-------------------------+----------------------+
| Ubuntu 22.04        | PASS               | PASS              | SKIPPED          | SKIPPED           | SKIPPED                 | SKIPPED              |
+---------------------+--------------------+-------------------+------------------+-------------------+-------------------------+----------------------+
| Ubuntu 24.04        | PASS               | PASS              | PASS             | SKIPPED           | SKIPPED                 | SKIPPED              |
+---------------------+--------------------+-------------------+------------------+-------------------+-------------------------+----------------------+
| Alpine              | PASS               | SKIPPED           | SKIPPED          | SKIPPED           | SKIPPED                 | SKIPPED              |
+---------------------+--------------------+-------------------+------------------+-------------------+-------------------------+----------------------+
| RHEL9               | PASS               | SKIPPED           | SKIPPED          | SKIPPED           | SKIPPED                 | SKIPPED              |
+---------------------+--------------------+-------------------+------------------+-------------------+-------------------------+----------------------+
| Fedora 40           | PASS               | PASS              | SKIPPED          | SKIPPED           | SKIPPED                 | SKIPPED              |
+---------------------+--------------------+-------------------+------------------+-------------------+-------------------------+----------------------+
| Windows Server 2022 | SKIPPED            | SKIPPED           | SKIPPED          | PASS              | PASS                    | PASS                 |
+---------------------+--------------------+-------------------+------------------+-------------------+-------------------------+----------------------+


FreeBSD 13.4
	Kernel: 13.4-RELEASE-p1
	Compiler: clang 18.1.6

FreeBSD 14.2
	Kernel: 14.2-RELEASE
	Compiler: clang 18.1.6

CentOS Stream 9
	Kernel: Depends on container host
	Compiler: gcc 11.5.0 20240719 (Red Hat 11.5.0-2)

CentOS Stream 10
	Kernel: Depends on container host
	Compiler: gcc 14.2.1 20241104 (Red Hat 14.2.1-6)

Debian Bullseye
	Kernel: Depends on container host
	Compiler: gcc (Debian 10.2.1-6) 10.2.1 20210110

Debian 12
	Kernel: Depends on container host
	Compiler: gcc (Debian 12.2.0-14) 12.2.0

Fedora 40 (Clang)
	Kernel: Depends on container host
	Compiler: clang 18.1.8 (Fedora 18.1.8-1.fc40)

Fedora 41 (Clang)
	Kernel: Depends on container host
	Compiler: clang 19.1.5 (Fedora 19.1.5-1.fc41)

Fedora 41
	Kernel: Depends on container host
	Compiler: gcc 14.2.1 20240912 (Red Hat 14.2.1-3)

openSUSE Leap 15
	Kernel: Depends on container host
	Compiler: gcc (SUSE Linux) 7.5.0

RHEL8
	Kernel: Depends on container host
	Compiler: gcc 8.5.0 20210514 (Red Hat 8.5.0-22)

Ubuntu 20.04
	Kernel: Depends on container host
	Compiler: gcc (Ubuntu 9.4.0-1ubuntu1~20.04.2) 9.4.0

Ubuntu 22.04
	Kernel: Depends on container host
	Compiler: gcc (Ubuntu 11.4.0-1ubuntu1~22.04) 11.4.0

Ubuntu 24.04
	Kernel: Depends on container host
	Compiler: gcc (Ubuntu 13.3.0-6ubuntu2~24.04) 13.3.0

Alpine
	Kernel: Depends on container host
	Compiler: gcc (Alpine 14.2.0) 14.2.0

RHEL9
	Kernel: Depends on container host
	Compiler: gcc 11.5.0 20240719 (Red Hat 11.5.0-2)

Fedora 40
	Kernel: Depends on container host
	Compiler: gcc 14.2.1 20240912 (Red Hat 14.2.1-3)

Windows Server 2022
	Kernel: 10.0.20348.2031
	Compiler: clang 15.0.7, gcc 14.1.0 (MinGW), and MSVC VS 19.39.33521

To view detailed results, visit:
https://lab.dpdk.org/results/dashboard/patchsets/32674/

UNH-IOL DPDK Community Lab

To manage your email subscriptions, visit: 
https://lab.dpdk.org/results/dashboard/preferences/subscriptions/