From mboxrd@z Thu Jan 1 00:00:00 1970 Return-Path: Received: from mails.dpdk.org (mails.dpdk.org [217.70.189.124]) by inbox.dpdk.org (Postfix) with ESMTP id DCF04462E1 for ; Fri, 28 Feb 2025 06:42:30 +0100 (CET) Received: from mails.dpdk.org (localhost [127.0.0.1]) by mails.dpdk.org (Postfix) with ESMTP id D43B340E0A; Fri, 28 Feb 2025 06:42:30 +0100 (CET) Received: from mail-qk1-f228.google.com (mail-qk1-f228.google.com [209.85.222.228]) by mails.dpdk.org (Postfix) with ESMTP id 5BE574028C for ; Fri, 28 Feb 2025 06:42:29 +0100 (CET) Received: by mail-qk1-f228.google.com with SMTP id af79cd13be357-7c0a1c4780bso157076285a.3 for ; Thu, 27 Feb 2025 21:42:29 -0800 (PST) DKIM-Signature: v=1; a=rsa-sha256; c=relaxed/relaxed; d=iol.unh.edu; s=unh-iol; t=1740721348; x=1741326148; darn=dpdk.org; h=references:in-reply-to:cc:to:from:subject:message-id:date:from:to :cc:subject:date:message-id:reply-to; bh=mTq747mAHb/YXqcmf+sAPX1xoSwq00ZQq36Wl8OIawk=; b=e3pc58SUt6O6wyN+y0pvnYC5a4Z4Cii+km9vqnB+eaf1yJPShEV2YQXb0oROomZMLs w+2X251IOSiNR7FkoXenOUkilD+g6zTE0hkgMlIYk84Ynzv5cqbk47kbDaq7Zfc8dUfX a+uMKx+6hX+W9mlPyyV5S07Pm0vu7Bm/bd/cQ= X-Google-DKIM-Signature: v=1; a=rsa-sha256; c=relaxed/relaxed; d=1e100.net; s=20230601; t=1740721348; x=1741326148; h=references:in-reply-to:cc:to:from:subject:message-id:date :x-gm-message-state:from:to:cc:subject:date:message-id:reply-to; bh=mTq747mAHb/YXqcmf+sAPX1xoSwq00ZQq36Wl8OIawk=; b=m5vqkzsRmEATpOTXPrnGxZwVOmUkjWhDXHHQPEazYkLTDVxUdO+OsTFxvuV//Wu58T R5q1BA/rQWj9JsmIRnwW98ZWuwetLQhGQtxBQNSCXIYv8JjdL4hMvzRvOMCDa7PMIWbt cwThZdkyh2H/y8UgCTyIL7fIVWAUF4s2aVCh8JwznQuIWanVISJaUU8KCreS6itVP0R5 bW9dTuO68GEyFJzWziZ+g7GN2vrsXV592Y2IGSUCgSB3PjJzF/PFDb+ySoBiuWardtQD bZZhsl53xwVB4oH7IJIqSYlAFaeNVP6XW0FKuR1PphwSEpkdo2CWiKlcgJarCN1gvvVl nLoA== X-Gm-Message-State: AOJu0YzYE/m9SS+DLYTiP9Sppdz7aAoc8FxEA5EtE4fl0BUosmO+O+vt A2fmjCHDlFSeVf0cymYlPd6cc6QLw6Ign/rPKsfFUW4Jbx/a1+62vRFbh20sEIpQ+OXBTzbngiG e3/7Jj1cc5pZ9z+IgvkGBTqZB/7OVRuXqyt84EgI+TeDyEYa6c0MJ+yaA X-Gm-Gg: ASbGncsg3+laKljikSNDo4EMdDZOZ/9QkIuMfs63d8u8ojoBT93CK8Cs3hRUurhKwds 8i0/wpM88UD42yT5Wnk8erHFpoquWlp/2fpi5RjGVmOpQkqtprE8nX7TmdeONNMbXikaeJbFI4d gLsYUTU9xSg0ZlntDa/d7FcfLEIxQ2opkhxi4+E0uhdPJmWbzUXPkznvu5CHVp9KAYhjitI01BM FxwOAJ0duMJtd/NAtkcXnUgayiORFspuN29TZt/IlgxPe0TKfJuIjmTid+TjUEqKjkI7raquqkj ei/5SaPlEhQC6ka2zXmrequIWBiiLccp9RKlP21EV71ZiScjjTFd X-Google-Smtp-Source: AGHT+IF4/yegkhsNZDj8wiRdgdEf9Ppf2MvZcKCw2JiQnapfFF5KfY1aJ01EaSwuwD0qiQFYHVoa0reMVEh3 X-Received: by 2002:a05:620a:1a0a:b0:7c0:a389:f25e with SMTP id af79cd13be357-7c39c4a24e5mr369662485a.7.1740721348723; Thu, 27 Feb 2025 21:42:28 -0800 (PST) Received: from postal.iol.unh.edu (postal.iol.unh.edu. [2606:4100:3880:1234::84]) by smtp-relay.gmail.com with ESMTPS id 6a1803df08f44-6e8976a43ecsm1154436d6.63.2025.02.27.21.42.28 (version=TLS1_2 cipher=ECDHE-ECDSA-AES128-GCM-SHA256 bits=128/128); Thu, 27 Feb 2025 21:42:28 -0800 (PST) X-Relaying-Domain: iol.unh.edu Date: Thu, 27 Feb 2025 21:42:28 -0800 (PST) Message-ID: <67c14cc4.d40a0220.27df07.662bSMTPIN_ADDED_MISSING@mx.google.com> Received: from [172.21.0.8] (unknown [172.18.0.240]) by postal.iol.unh.edu (Postfix) with ESMTP id 6146E6052471; Fri, 28 Feb 2025 00:42:28 -0500 (EST) Subject: |SUCCESS| pw152102 [PATCH] mempool: micro optimizations From: dpdklab@iol.unh.edu To: Test Report Cc: dpdk-test-reports@iol.unh.edu In-Reply-To: <20250226155923.128859-1-mb@smartsharesystems.com> References: <20250226155923.128859-1-mb@smartsharesystems.com> Content-Type: text/plain X-BeenThere: test-report@dpdk.org X-Mailman-Version: 2.1.29 Precedence: list List-Id: automatic DPDK test reports List-Unsubscribe: , List-Archive: List-Post: List-Help: List-Subscribe: , Errors-To: test-report-bounces@dpdk.org Test-Label: iol-compile-amd64-testing Test-Status: SUCCESS http://dpdk.org/patch/152102 _Testing PASS_ Submitter: Morten Brorup Date: Wednesday, February 26 2025 15:59:22 DPDK git baseline: Repo:dpdk Branch: master CommitID:fab31a03ba98e7457284df95dd9eef2223a4ccaa 152102 --> testing pass Upstream job id: Windows-Compile-DPDK-VS#5081 Test environment and result as below: +---------------------+--------------------+-------------------+------------------+-------------------+ | Environment | dpdk_meson_compile | dpdk_compile_spdk | dpdk_compile_ovs | dpdk_msvc_compile | +=====================+====================+===================+==================+===================+ | CentOS Stream 9 | PASS | PASS | SKIPPED | SKIPPED | +---------------------+--------------------+-------------------+------------------+-------------------+ | CentOS Stream 10 | PASS | SKIPPED | SKIPPED | SKIPPED | +---------------------+--------------------+-------------------+------------------+-------------------+ | Debian Bullseye | PASS | PASS | SKIPPED | SKIPPED | +---------------------+--------------------+-------------------+------------------+-------------------+ | Debian 12 | PASS | PASS | SKIPPED | SKIPPED | +---------------------+--------------------+-------------------+------------------+-------------------+ | Fedora 40 (Clang) | PASS | PASS | SKIPPED | SKIPPED | +---------------------+--------------------+-------------------+------------------+-------------------+ | Fedora 40 | PASS | PASS | SKIPPED | SKIPPED | +---------------------+--------------------+-------------------+------------------+-------------------+ | Fedora 41 (Clang) | PASS | PASS | PASS | SKIPPED | +---------------------+--------------------+-------------------+------------------+-------------------+ | Fedora 41 | PASS | PASS | PASS | SKIPPED | +---------------------+--------------------+-------------------+------------------+-------------------+ | openSUSE Leap 15 | PASS | SKIPPED | SKIPPED | SKIPPED | +---------------------+--------------------+-------------------+------------------+-------------------+ | RHEL8 | PASS | SKIPPED | SKIPPED | SKIPPED | +---------------------+--------------------+-------------------+------------------+-------------------+ | RHEL9 | PASS | SKIPPED | SKIPPED | SKIPPED | +---------------------+--------------------+-------------------+------------------+-------------------+ | Ubuntu 20.04 | PASS | SKIPPED | SKIPPED | SKIPPED | +---------------------+--------------------+-------------------+------------------+-------------------+ | Ubuntu 22.04 | PASS | PASS | SKIPPED | SKIPPED | +---------------------+--------------------+-------------------+------------------+-------------------+ | Ubuntu 24.04 | PASS | PASS | PASS | SKIPPED | +---------------------+--------------------+-------------------+------------------+-------------------+ | Alpine | PASS | SKIPPED | SKIPPED | SKIPPED | +---------------------+--------------------+-------------------+------------------+-------------------+ | FreeBSD 13.4 | PASS | SKIPPED | SKIPPED | SKIPPED | +---------------------+--------------------+-------------------+------------------+-------------------+ | FreeBSD 14.2 | PASS | SKIPPED | SKIPPED | SKIPPED | +---------------------+--------------------+-------------------+------------------+-------------------+ | Windows Server 2022 | SKIPPED | SKIPPED | SKIPPED | PASS | +---------------------+--------------------+-------------------+------------------+-------------------+ CentOS Stream 9 Kernel: Depends on container host Compiler: gcc 11.5.0 20240719 (Red Hat 11.5.0-2) CentOS Stream 10 Kernel: Depends on container host Compiler: gcc 14.2.1 20241104 (Red Hat 14.2.1-6) Debian Bullseye Kernel: Depends on container host Compiler: gcc (Debian 10.2.1-6) 10.2.1 20210110 Debian 12 Kernel: Depends on container host Compiler: gcc (Debian 12.2.0-14) 12.2.0 Fedora 40 (Clang) Kernel: Depends on container host Compiler: clang 18.1.8 (Fedora 18.1.8-1.fc40) Fedora 40 Kernel: Depends on container host Compiler: gcc 14.2.1 20240912 (Red Hat 14.2.1-3) Fedora 41 (Clang) Kernel: Depends on container host Compiler: clang 19.1.5 (Fedora 19.1.5-1.fc41) Fedora 41 Kernel: Depends on container host Compiler: gcc 14.2.1 20240912 (Red Hat 14.2.1-3) openSUSE Leap 15 Kernel: Depends on container host Compiler: gcc (SUSE Linux) 7.5.0 RHEL8 Kernel: Depends on container host Compiler: gcc 8.5.0 20210514 (Red Hat 8.5.0-22) RHEL9 Kernel: Depends on container host Compiler: gcc 11.5.0 20240719 (Red Hat 11.5.0-2) Ubuntu 20.04 Kernel: Depends on container host Compiler: gcc (Ubuntu 9.4.0-1ubuntu1~20.04.2) 9.4.0 Ubuntu 22.04 Kernel: Depends on container host Compiler: gcc (Ubuntu 11.4.0-1ubuntu1~22.04) 11.4.0 Ubuntu 24.04 Kernel: Depends on container host Compiler: gcc (Ubuntu 13.3.0-6ubuntu2~24.04) 13.3.0 Alpine Kernel: Depends on container host Compiler: gcc (Alpine 14.2.0) 14.2.0 FreeBSD 13.4 Kernel: 13.4-RELEASE-p1 Compiler: clang 18.1.6 FreeBSD 14.2 Kernel: 14.2-RELEASE Compiler: clang 18.1.6 Windows Server 2022 Kernel: 10.0.20348.2031 Compiler: clang 15.0.7, gcc 14.1.0 (MinGW), and MSVC VS 19.39.33521 To view detailed results, visit: https://lab.dpdk.org/results/dashboard/patchsets/32696/ UNH-IOL DPDK Community Lab To manage your email subscriptions, visit: https://lab.dpdk.org/results/dashboard/preferences/subscriptions/