From mboxrd@z Thu Jan 1 00:00:00 1970 Return-Path: Received: from mails.dpdk.org (mails.dpdk.org [217.70.189.124]) by inbox.dpdk.org (Postfix) with ESMTP id 43E60462E3 for ; Fri, 28 Feb 2025 09:42:48 +0100 (CET) Received: from mails.dpdk.org (localhost [127.0.0.1]) by mails.dpdk.org (Postfix) with ESMTP id 3CC7340609; Fri, 28 Feb 2025 09:42:48 +0100 (CET) Received: from mail-qt1-f227.google.com (mail-qt1-f227.google.com [209.85.160.227]) by mails.dpdk.org (Postfix) with ESMTP id CE77E4028C for ; Fri, 28 Feb 2025 09:42:46 +0100 (CET) Received: by mail-qt1-f227.google.com with SMTP id d75a77b69052e-474bc1aaf5fso10213641cf.0 for ; Fri, 28 Feb 2025 00:42:46 -0800 (PST) DKIM-Signature: v=1; a=rsa-sha256; c=relaxed/relaxed; d=iol.unh.edu; s=unh-iol; t=1740732166; x=1741336966; darn=dpdk.org; h=cc:to:from:subject:message-id:date:from:to:cc:subject:date :message-id:reply-to; bh=n3v5v13N+luVmltsO69PfHTAw30o91cAnJfkoHqqDXE=; b=dbhdfUIuZXxcDO8xl44OaVUea4qfnzKj1YTUEMl0sgMb+hIsgaKpIzmybtt/wCeuNf 7nmgOZQ8ILqEJw5JHylwnkFpluEeTqUqrKUurVVTSMm0M7rrDBK7BrYTFmIVf1SbwUhZ DZ7t+DnCh5OJrPL9ctZj0Qq7heOMVOc2EA5mc= X-Google-DKIM-Signature: v=1; a=rsa-sha256; c=relaxed/relaxed; d=1e100.net; s=20230601; t=1740732166; x=1741336966; h=cc:to:from:subject:message-id:date:x-gm-message-state:from:to:cc :subject:date:message-id:reply-to; bh=n3v5v13N+luVmltsO69PfHTAw30o91cAnJfkoHqqDXE=; b=nMvYgHS3Y1OmOo6FKTVe6kx444JPwpVWZBoPr8Ksw+c1zMfzpa1imoImsDVP7CAPLU dr0A4LoqA8ZkGzO9as/lqKgSaeXoFClLDcyxjCnqJqVAU33H9Kg9eHzfbaFvI+RSNf65 ziKGbg4br6jnmcjaWxNo9sIJYWoZKuZMNFV+WHmn7kjE3dJzk9Xa15dbqOg2D+XGwdjN zycsSTVDZZFEutX3QUt54JHKInHJs3PvkBODW4iPv73Op/XYoe3LBz6Gj1YH1jaVVPHy MTzJq9Uh0zXGhJ0VB3pnFVA160BNF50Dw02uJxWa3Q2DK+CaSMHshpDbW7zOwSOfzfOo nyCw== X-Gm-Message-State: AOJu0YwxicuU1e0YMru6PAXLNJevZXEAmWOT5r2M0DgdR0FTmubUZIOr er1j0odk+GcEzdO7fQCwbTrXHzOMMYBpCR7WGMk2ifQbgmHrRUponbW4AqjkL+8aUgRPaXXC7Wo UEx5eIhdD6uQS2MRw3fuk0T7gaxW95oz6mXHUJ3RZs27rN30J X-Gm-Gg: ASbGncs2k5aNliveGqQKV3ScvDuU3gXMgdNt5XrWPZpLxKPHN7ap3J3+2Ak1TnUBhoX T301HBMUQmoPE1KW8FG0sdUjf3qx7oYL9Tcee9+NolWnk7wPwoUZoMY8LMOBang0iugoDfrpymr Nd/SS8wa+wRIC3LVoB4KRaW0Edal8HXYL0AUESYmJcYniXiQasUN7RE+9cVg3b0dZiAUVlUcjow r8CEjm1Q46VzYI4KSBhHJV6LdH8mJJ6nPuDorWC1assAvSe67A3CXJrEY8YRQoDCU3lJWolbDCH t7UaW0f6AUmCK+jjC0lkg3j29d79NG5onkQspP2UE8stBvboJv4l X-Google-Smtp-Source: AGHT+IFR3Bma2o35ZeHskxOhqedLmHzLuhomTWS1/+pingl3NuRxGgLVDXy4iztOP7qE2E2JYaWTi3PvwxvA X-Received: by 2002:ac8:5f12:0:b0:472:1c67:c281 with SMTP id d75a77b69052e-474bc0f6bccmr36610931cf.38.1740732166075; Fri, 28 Feb 2025 00:42:46 -0800 (PST) Received: from postal.iol.unh.edu (postal.iol.unh.edu. [2606:4100:3880:1234::84]) by smtp-relay.gmail.com with ESMTPS id d75a77b69052e-474691a7fe5sm1833501cf.4.2025.02.28.00.42.46 (version=TLS1_2 cipher=ECDHE-ECDSA-AES128-GCM-SHA256 bits=128/128); Fri, 28 Feb 2025 00:42:46 -0800 (PST) X-Relaying-Domain: iol.unh.edu Date: Fri, 28 Feb 2025 00:42:46 -0800 (PST) Message-ID: <67c17706.c80a0220.2c4bd4.a188SMTPIN_ADDED_MISSING@mx.google.com> Received: from [172.21.0.8] (unknown [172.18.0.240]) by postal.iol.unh.edu (Postfix) with ESMTP id 8B1B76052471; Fri, 28 Feb 2025 03:42:45 -0500 (EST) Subject: |SUCCESS| [GIT MASTER] 39594cdfcb730ea667370b1e304313d10996aff3 From: dpdklab@iol.unh.edu To: Test Report Cc: dpdk-test-reports@iol.unh.edu, Xueming Li , Christian Ehrhardt , Kevin Traynor , Luca Boccassi Content-Type: text/plain X-BeenThere: test-report@dpdk.org X-Mailman-Version: 2.1.29 Precedence: list List-Id: automatic DPDK test reports List-Unsubscribe: , List-Archive: List-Post: List-Help: List-Subscribe: , Errors-To: test-report-bounces@dpdk.org _Testing PASS_ Branch: tags/v24.11 39594cdfcb730ea667370b1e304313d10996aff3 --> testing pass Upstream job id: Generic-Unit-Test-DPDK#319794 Test environment and result as below: +-----------------------------+----------------+------------------------------+--------------+---------------------------+ | Environment | dpdk_unit_test | cryptodev_sw_snow3g_autotest | lpm_autotest | cryptodev_sw_zuc_autotest | +=============================+================+==============================+==============+===========================+ | CentOS Stream 10 (ARM) | PASS | SKIPPED | SKIPPED | SKIPPED | +-----------------------------+----------------+------------------------------+--------------+---------------------------+ | CentOS Stream 9 (ARM) | PASS | SKIPPED | SKIPPED | SKIPPED | +-----------------------------+----------------+------------------------------+--------------+---------------------------+ | Fedora 40 (ARM) | PASS | SKIPPED | SKIPPED | SKIPPED | +-----------------------------+----------------+------------------------------+--------------+---------------------------+ | Debian 11 (Buster) (ARM) | PASS | SKIPPED | SKIPPED | SKIPPED | +-----------------------------+----------------+------------------------------+--------------+---------------------------+ | 32-bit Ubuntu 22.04.4 (ARM) | PASS | SKIPPED | SKIPPED | SKIPPED | +-----------------------------+----------------+------------------------------+--------------+---------------------------+ | Fedora 41 (ARM Clang) | PASS | SKIPPED | SKIPPED | SKIPPED | +-----------------------------+----------------+------------------------------+--------------+---------------------------+ | Debian 12 (arm) | PASS | PASS | SKIPPED | PASS | +-----------------------------+----------------+------------------------------+--------------+---------------------------+ | Fedora 41 (ARM) | PASS | SKIPPED | SKIPPED | SKIPPED | +-----------------------------+----------------+------------------------------+--------------+---------------------------+ | Fedora 40 (ARM Clang) | PASS | SKIPPED | SKIPPED | SKIPPED | +-----------------------------+----------------+------------------------------+--------------+---------------------------+ | RHEL9 (ARM) | PASS | SKIPPED | SKIPPED | SKIPPED | +-----------------------------+----------------+------------------------------+--------------+---------------------------+ | Ubuntu 22.04 (ARM) | PASS | SKIPPED | SKIPPED | SKIPPED | +-----------------------------+----------------+------------------------------+--------------+---------------------------+ | Ubuntu 20.04 (ARM) | PASS | SKIPPED | SKIPPED | SKIPPED | +-----------------------------+----------------+------------------------------+--------------+---------------------------+ | Ubuntu 24.04 (ARM) | PASS | SKIPPED | SKIPPED | SKIPPED | +-----------------------------+----------------+------------------------------+--------------+---------------------------+ | Ubuntu 20.04 ARM SVE | SKIPPED | SKIPPED | PASS | SKIPPED | +-----------------------------+----------------+------------------------------+--------------+---------------------------+ CentOS Stream 10 (ARM) Kernel: Depends on container host Compiler: gcc 14.2.1 20241104 (Red Hat 14.2.1-6) CentOS Stream 9 (ARM) Kernel: Depends on container host Compiler: gcc 11.5.0 20240719 (Red Hat 11.5.0-2) Fedora 40 (ARM) Kernel: Depends on container host Compiler: gcc 14.2.1 20240912 (Red Hat 14.2.1-3) Debian 11 (Buster) (ARM) Kernel: Depends on container host Compiler: gcc (Debian 10.2.1-6) 10.2.1 20210110 32-bit Ubuntu 22.04.4 (ARM) Kernel: 5.15.83+ aarch64 Compiler: gcc (Ubuntu 11.4.0-1ubuntu1~22.04) 11.4.0 Fedora 41 (ARM Clang) Kernel: Depends on container host Compiler: clang 19.1.5 (Fedora 19.1.5-1.fc41) Debian 12 (arm) Kernel: Depends on container host Compiler: gcc (Debian 12.2.0-14) 12.2.0 Fedora 41 (ARM) Kernel: Depends on container host Compiler: gcc 14.2.1 20240912 (Red Hat 14.2.1-3) Fedora 40 (ARM Clang) Kernel: Depends on container host Compiler: clang 18.1.8 (Fedora 18.1.8-1.fc40) RHEL9 (ARM) Kernel: Depends on container host Compiler: gcc 11.5.0 20240719 (Red Hat 11.5.0-2) Ubuntu 22.04 (ARM) Kernel: Depends on container host Compiler: gcc (Ubuntu 11.4.0-1ubuntu1~22.04) 11.4.0 Ubuntu 20.04 (ARM) Kernel: Depends on container host Compiler: gcc (Ubuntu 9.4.0-1ubuntu1~20.04.2) 9.4.0 Ubuntu 24.04 (ARM) Kernel: Depends on container host Compiler: gcc (Ubuntu 13.3.0-6ubuntu2~24.04) 13.3.0 Ubuntu 20.04 ARM SVE Kernel: Depends on container host Compiler: gcc (Ubuntu 10.5.0-1ubuntu1~20.04) 10.5.0 To view detailed results, visit: https://lab.dpdk.org/results/dashboard/tarballs/32775/ UNH-IOL DPDK Community Lab To manage your email subscriptions, visit: https://lab.dpdk.org/results/dashboard/preferences/subscriptions/