From mboxrd@z Thu Jan 1 00:00:00 1970 Return-Path: Received: from mails.dpdk.org (mails.dpdk.org [217.70.189.124]) by inbox.dpdk.org (Postfix) with ESMTP id 7BEE3462E3 for ; Fri, 28 Feb 2025 09:58:21 +0100 (CET) Received: from mails.dpdk.org (localhost [127.0.0.1]) by mails.dpdk.org (Postfix) with ESMTP id 6F8F440609; Fri, 28 Feb 2025 09:58:21 +0100 (CET) Received: from mail-io1-f99.google.com (mail-io1-f99.google.com [209.85.166.99]) by mails.dpdk.org (Postfix) with ESMTP id ADDD74028C for ; Fri, 28 Feb 2025 09:58:19 +0100 (CET) Received: by mail-io1-f99.google.com with SMTP id ca18e2360f4ac-85595f813caso144954839f.3 for ; Fri, 28 Feb 2025 00:58:19 -0800 (PST) DKIM-Signature: v=1; a=rsa-sha256; c=relaxed/relaxed; d=iol.unh.edu; s=unh-iol; t=1740733099; x=1741337899; darn=dpdk.org; h=cc:to:from:subject:message-id:date:from:to:cc:subject:date :message-id:reply-to; bh=wYn3lDWK1+t5ndt1yaJoUNYasujznf/ug8qLcsm8vPs=; b=R15VewuVpKs6H31oQHR0ZKQiRDpsWMEgcSFA0D7jXLw8J9nLna5zamkrT2ohUrL4UZ xkpNrFouDWwZ6sxzGPesJzP3PaFVcAMFfCTxTqLhKuJcXaMSVi2Q3uvjOav8AlvHtqCQ pfKIoEESC22aM7J++vx4mNJHAZZnkvJ7m+8Zo= X-Google-DKIM-Signature: v=1; a=rsa-sha256; c=relaxed/relaxed; d=1e100.net; s=20230601; t=1740733099; x=1741337899; h=cc:to:from:subject:message-id:date:x-gm-message-state:from:to:cc :subject:date:message-id:reply-to; bh=wYn3lDWK1+t5ndt1yaJoUNYasujznf/ug8qLcsm8vPs=; b=Ogkpqm+jiDieOoWmt/6QqPnso5wYpK2l7PMKIy+VoDUAdpBsTusW+RnGYNJy/hH4k5 wr4wRMf91RlZDhkEtuiQ+XkN/g26fSS/plyo22IsVqMrAZ4TsJPSgF+3XtX5o25JUuvI Ho/xECg5P5/8BkZRJ0t87D0sQaXClManXW0mlmvB35dmmkTVjVmSWId1O+X+3ns9HnDY 3urteYcdfB7z6ZlywbvakSmF0gH3f1AMvZkhlUG9KM2Wtjyv5VBfE+GIx8MV9Teyk6Bv yssBNvJtPwBrVHW9U/38dxKW45MpjOhVB+kezS4lKn5E5h5UFKBkqHbO/YpGExtLAAla /lZg== X-Gm-Message-State: AOJu0Yx5U+A+M6+VNVJJ8UdRmBY7iXM2xqcTjbVBhnBEXOA4fLLOMili OYZu7eDv4IJ9/rq4hBGU7IMqgaf2nqjQtX5n0tWeZ+uNVaC3niX09xXq29Yx27RVl9QdeNfX0hL bjkP947Gw7AGxpS1nOG1q6f1ZYWWL15iS X-Gm-Gg: ASbGnctHvNbJ/08+Iz7PtsX5RxaJKOnWDIjvZ7KFDPlsGM1VsU9yBeFjc//Pmt7N2Fm lQIOErvrXOPvRE7gmJlDECuF5S0csfYBuKuiD6kGJXl+Z5v1rBjgl74pKKcOWvVhB+rZWnguPei xi2zoMsG04Wrw7RYnAngyQj6fCSghevO+c4jQJcap8lsiaF8UjESREkaWucpw5NS3d/s5WivIt9 uSAycXsP3torq7h6lqXsxC/SGEkfkULm+oiQQV5atLaLpSfZ5I5rShafjJ0Vdf4kljS8AV9+gAu xcnQ8UFM6b2tPYfYk0ybvGZu/ch9ZWcip7wqmnzG X-Google-Smtp-Source: AGHT+IFBNne5KIqG7YPzxhvYNn05uhBjDNyAFu8AGDazwTHbJNXpsW3yNjpHxJ1BE155JqrPtBY9REVJqD/Y X-Received: by 2002:a05:6602:3fc1:b0:855:a4a4:a938 with SMTP id ca18e2360f4ac-85881f044f0mr184505339f.2.1740733099050; Fri, 28 Feb 2025 00:58:19 -0800 (PST) Received: from postal.iol.unh.edu (postal.iol.unh.edu. [132.177.123.84]) by smtp-relay.gmail.com with ESMTPS id ca18e2360f4ac-85875116281sm18502039f.7.2025.02.28.00.58.18 (version=TLS1_2 cipher=ECDHE-ECDSA-AES128-GCM-SHA256 bits=128/128); Fri, 28 Feb 2025 00:58:19 -0800 (PST) X-Relaying-Domain: iol.unh.edu Date: Fri, 28 Feb 2025 00:58:19 -0800 (PST) Message-ID: <67c17aab.050a0220.1909b0.a50eSMTPIN_ADDED_MISSING@mx.google.com> Received: from [172.21.0.7] (unknown [172.18.0.240]) by postal.iol.unh.edu (Postfix) with ESMTP id 836716052471; Fri, 28 Feb 2025 03:58:18 -0500 (EST) Subject: |SUCCESS| [GIT MASTER] 39594cdfcb730ea667370b1e304313d10996aff3 From: dpdklab@iol.unh.edu To: Test Report Cc: dpdk-test-reports@iol.unh.edu, Xueming Li , Christian Ehrhardt , Kevin Traynor , Luca Boccassi Content-Type: text/plain X-BeenThere: test-report@dpdk.org X-Mailman-Version: 2.1.29 Precedence: list List-Id: automatic DPDK test reports List-Unsubscribe: , List-Archive: List-Post: List-Help: List-Subscribe: , Errors-To: test-report-bounces@dpdk.org _Testing PASS_ Branch: tags/v24.11 39594cdfcb730ea667370b1e304313d10996aff3 --> testing pass Upstream job id: Generic-Unit-Test-DPDK#319792 Test environment and result as below: +-------------------+----------------+ | Environment | dpdk_unit_test | +===================+================+ | CentOS Stream 10 | PASS | +-------------------+----------------+ | CentOS Stream 9 | PASS | +-------------------+----------------+ | Debian 12 | PASS | +-------------------+----------------+ | Fedora 40 | PASS | +-------------------+----------------+ | Debian Bullseye | PASS | +-------------------+----------------+ | Fedora 40 (Clang) | PASS | +-------------------+----------------+ | Fedora 41 (Clang) | PASS | +-------------------+----------------+ | RHEL8 | PASS | +-------------------+----------------+ | Fedora 41 | PASS | +-------------------+----------------+ | RHEL9 | PASS | +-------------------+----------------+ | Ubuntu 20.04 | PASS | +-------------------+----------------+ | Ubuntu 24.04 | PASS | +-------------------+----------------+ | Ubuntu 22.04 | PASS | +-------------------+----------------+ CentOS Stream 10 Kernel: Depends on container host Compiler: gcc 14.2.1 20241104 (Red Hat 14.2.1-6) CentOS Stream 9 Kernel: Depends on container host Compiler: gcc 11.5.0 20240719 (Red Hat 11.5.0-2) Debian 12 Kernel: Depends on container host Compiler: gcc (Debian 12.2.0-14) 12.2.0 Fedora 40 Kernel: Depends on container host Compiler: gcc 14.2.1 20240912 (Red Hat 14.2.1-3) Debian Bullseye Kernel: Depends on container host Compiler: gcc (Debian 10.2.1-6) 10.2.1 20210110 Fedora 40 (Clang) Kernel: Depends on container host Compiler: clang 18.1.8 (Fedora 18.1.8-1.fc40) Fedora 41 (Clang) Kernel: Depends on container host Compiler: clang 19.1.5 (Fedora 19.1.5-1.fc41) RHEL8 Kernel: Depends on container host Compiler: gcc 8.5.0 20210514 (Red Hat 8.5.0-22) Fedora 41 Kernel: Depends on container host Compiler: gcc 14.2.1 20240912 (Red Hat 14.2.1-3) RHEL9 Kernel: Depends on container host Compiler: gcc 11.5.0 20240719 (Red Hat 11.5.0-2) Ubuntu 20.04 Kernel: Depends on container host Compiler: gcc (Ubuntu 9.4.0-1ubuntu1~20.04.2) 9.4.0 Ubuntu 24.04 Kernel: Depends on container host Compiler: gcc (Ubuntu 13.3.0-6ubuntu2~24.04) 13.3.0 Ubuntu 22.04 Kernel: Depends on container host Compiler: gcc (Ubuntu 11.4.0-1ubuntu1~22.04) 11.4.0 To view detailed results, visit: https://lab.dpdk.org/results/dashboard/tarballs/32775/ UNH-IOL DPDK Community Lab To manage your email subscriptions, visit: https://lab.dpdk.org/results/dashboard/preferences/subscriptions/