From mboxrd@z Thu Jan 1 00:00:00 1970 Return-Path: Received: from mails.dpdk.org (mails.dpdk.org [217.70.189.124]) by inbox.dpdk.org (Postfix) with ESMTP id 94141462E5 for ; Fri, 28 Feb 2025 10:21:28 +0100 (CET) Received: from mails.dpdk.org (localhost [127.0.0.1]) by mails.dpdk.org (Postfix) with ESMTP id 74C2740609; Fri, 28 Feb 2025 10:21:28 +0100 (CET) Received: from mail-io1-f97.google.com (mail-io1-f97.google.com [209.85.166.97]) by mails.dpdk.org (Postfix) with ESMTP id D17854028C for ; Fri, 28 Feb 2025 10:21:27 +0100 (CET) Received: by mail-io1-f97.google.com with SMTP id ca18e2360f4ac-855b2a5ad32so62210839f.1 for ; Fri, 28 Feb 2025 01:21:27 -0800 (PST) DKIM-Signature: v=1; a=rsa-sha256; c=relaxed/relaxed; d=iol.unh.edu; s=unh-iol; t=1740734487; x=1741339287; darn=dpdk.org; h=cc:to:from:subject:message-id:date:from:to:cc:subject:date :message-id:reply-to; bh=V9HOQGAVCTpgnBzy9blg4DaAr/o2EPtIYnTgqep+fsw=; b=J416DqD0eiSUbAFMzH4Yt2e5CW8FxHLN3aet3ZzU1kZ3ZjFc23ysRbMItQXss0yNTO LR2KXQMbK0hW5QfQEMCaYY9924BEs7k3OBq5O0L59yF0jXUFW1AgAikllY/LCdSgQT4s fNI7Ak9OxcVKtgyCELUlUSrPtC+pc4Cg43xCk= X-Google-DKIM-Signature: v=1; a=rsa-sha256; c=relaxed/relaxed; d=1e100.net; s=20230601; t=1740734487; x=1741339287; h=cc:to:from:subject:message-id:date:x-gm-message-state:from:to:cc :subject:date:message-id:reply-to; bh=V9HOQGAVCTpgnBzy9blg4DaAr/o2EPtIYnTgqep+fsw=; b=P0lFlxtEOZ0IHLiJ+PBvTaX9zh/RHLtV8golaYPSiucvZ6uuKJHD/Gg1r93WqhfKy4 sv7emZQxoI8vvpBTEmy+wRd0sgooIXQpzxhaMqpfQPIRaECM12/jyYDTt+vG6GOSzbBk GT2rurrRmCCN34y/zHrXQa3SiTVbR/D/xbGNi39lnXE61nxA6giclwPoZr4Y19xexkqb 76VrncU8MNRaM57VtZ44I3XEq9oUUnG+9vWl6mUo0YRv2ZqREVlXMk6zmVktLoPXOy/k F9joTNoMEpndYzJTL781Qfr7kj4eSdyBKAMbGOS4mZfP7SnZrzcG/jKLifAdqP41BadA RRDw== X-Gm-Message-State: AOJu0YyAIBkcWt1Cd7urolEmRoG6wkPUOiTzIKXVbaJKmO5PzjqQmem8 6StESXSJAcHGEeUIuwiGH3a58J9ZzTk2XaBcARUAjThjmVkGk9TZNuSSXX0AAG3bO3g4AkdHRBG jpN5/MtTKcXi1OV7hq+913JUwNdWplQs8NgmVfb/Z X-Gm-Gg: ASbGncuJUsmuZ8LF3hOWw7vrbg/Lc1HLEo2H6GhbJ7zf6pbrxUibDotjRuRkL4ovzT2 CmEZ7wNhNERqTse0ad0vKu5iWSeickh3B2wGXPVtlRTBQea64j2n79LwyteW+hi3EtkwTQSJQcw pyTZ4qgf0ARdTCrxA0cIs4DW+FWoCh2V/p7EILI8Go4sRdFQ9cu3zdAFsEbtZOqNX7noOyMt5nc Ngk+lJ2EPp0+GYg0erFQja9p7yED7hcyBwO+oOVbL4yyKFrJeJKzJry9yhBnmUNWFF6kcSzio9X /CU+inlkqwjkeIzDwshaWOdfi1jWasmxtnDMJei3 X-Google-Smtp-Source: AGHT+IG1wTD4/NrTZEsvOMjbudfYpaW18jjdQOw6KiceXQnHl9TkHpncGzkDAJ/GpK1oc5xEbCk/zHqq+4OB X-Received: by 2002:a05:6602:6b10:b0:855:a2b0:93d7 with SMTP id ca18e2360f4ac-85881fc4e79mr250639339f.10.1740734487165; Fri, 28 Feb 2025 01:21:27 -0800 (PST) Received: from postal.iol.unh.edu (postal.iol.unh.edu. [132.177.123.84]) by smtp-relay.gmail.com with ESMTPS id ca18e2360f4ac-8587511619dsm18242239f.9.2025.02.28.01.21.27 (version=TLS1_2 cipher=ECDHE-ECDSA-AES128-GCM-SHA256 bits=128/128); Fri, 28 Feb 2025 01:21:27 -0800 (PST) X-Relaying-Domain: iol.unh.edu Date: Fri, 28 Feb 2025 01:21:27 -0800 (PST) Message-ID: <67c18017.050a0220.2c8bc2.a1dcSMTPIN_ADDED_MISSING@mx.google.com> Received: from [172.21.0.8] (unknown [172.18.0.240]) by postal.iol.unh.edu (Postfix) with ESMTP id 80F526052471; Fri, 28 Feb 2025 04:21:26 -0500 (EST) Subject: |SUCCESS| [GIT MASTER] 5651e843d0fc6e01de164a9f9f3718c31e12ee2c From: dpdklab@iol.unh.edu To: Test Report Cc: dpdk-test-reports@iol.unh.edu, Stephen Hemminger Content-Type: text/plain X-BeenThere: test-report@dpdk.org X-Mailman-Version: 2.1.29 Precedence: list List-Id: automatic DPDK test reports List-Unsubscribe: , List-Archive: List-Post: List-Help: List-Subscribe: , Errors-To: test-report-bounces@dpdk.org _Testing PASS_ Branch: dpdk-next-net 5651e843d0fc6e01de164a9f9f3718c31e12ee2c --> testing pass Upstream job id: Windows-Compile-DPDK-Native#26940 Test environment and result as below: +---------------------+--------------------+-------------------+------------------+-------------------+-------------------------+----------------------+ | Environment | dpdk_meson_compile | dpdk_compile_spdk | dpdk_compile_ovs | dpdk_msvc_compile | dpdk_llvm_clang_compile | dpdk_mingw64_compile | +=====================+====================+===================+==================+===================+=========================+======================+ | CentOS Stream 9 | PASS | PASS | SKIPPED | SKIPPED | SKIPPED | SKIPPED | +---------------------+--------------------+-------------------+------------------+-------------------+-------------------------+----------------------+ | Debian Bullseye | PASS | PASS | SKIPPED | SKIPPED | SKIPPED | SKIPPED | +---------------------+--------------------+-------------------+------------------+-------------------+-------------------------+----------------------+ | CentOS Stream 10 | PASS | SKIPPED | SKIPPED | SKIPPED | SKIPPED | SKIPPED | +---------------------+--------------------+-------------------+------------------+-------------------+-------------------------+----------------------+ | Fedora 40 (Clang) | PASS | PASS | SKIPPED | SKIPPED | SKIPPED | SKIPPED | +---------------------+--------------------+-------------------+------------------+-------------------+-------------------------+----------------------+ | Debian 12 | PASS | PASS | SKIPPED | SKIPPED | SKIPPED | SKIPPED | +---------------------+--------------------+-------------------+------------------+-------------------+-------------------------+----------------------+ | Fedora 40 | PASS | PASS | SKIPPED | SKIPPED | SKIPPED | SKIPPED | +---------------------+--------------------+-------------------+------------------+-------------------+-------------------------+----------------------+ | Fedora 41 | PASS | PASS | PASS | SKIPPED | SKIPPED | SKIPPED | +---------------------+--------------------+-------------------+------------------+-------------------+-------------------------+----------------------+ | Fedora 41 (Clang) | PASS | PASS | PASS | SKIPPED | SKIPPED | SKIPPED | +---------------------+--------------------+-------------------+------------------+-------------------+-------------------------+----------------------+ | openSUSE Leap 15 | PASS | SKIPPED | SKIPPED | SKIPPED | SKIPPED | SKIPPED | +---------------------+--------------------+-------------------+------------------+-------------------+-------------------------+----------------------+ | RHEL8 | PASS | SKIPPED | SKIPPED | SKIPPED | SKIPPED | SKIPPED | +---------------------+--------------------+-------------------+------------------+-------------------+-------------------------+----------------------+ | RHEL9 | PASS | SKIPPED | SKIPPED | SKIPPED | SKIPPED | SKIPPED | +---------------------+--------------------+-------------------+------------------+-------------------+-------------------------+----------------------+ | Ubuntu 20.04 | PASS | SKIPPED | SKIPPED | SKIPPED | SKIPPED | SKIPPED | +---------------------+--------------------+-------------------+------------------+-------------------+-------------------------+----------------------+ | Ubuntu 22.04 | PASS | PASS | SKIPPED | SKIPPED | SKIPPED | SKIPPED | +---------------------+--------------------+-------------------+------------------+-------------------+-------------------------+----------------------+ | Ubuntu 24.04 | PASS | PASS | PASS | SKIPPED | SKIPPED | SKIPPED | +---------------------+--------------------+-------------------+------------------+-------------------+-------------------------+----------------------+ | Alpine | PASS | SKIPPED | SKIPPED | SKIPPED | SKIPPED | SKIPPED | +---------------------+--------------------+-------------------+------------------+-------------------+-------------------------+----------------------+ | FreeBSD 13.4 | PASS | SKIPPED | SKIPPED | SKIPPED | SKIPPED | SKIPPED | +---------------------+--------------------+-------------------+------------------+-------------------+-------------------------+----------------------+ | FreeBSD 14.2 | PASS | SKIPPED | SKIPPED | SKIPPED | SKIPPED | SKIPPED | +---------------------+--------------------+-------------------+------------------+-------------------+-------------------------+----------------------+ | Windows Server 2022 | SKIPPED | SKIPPED | SKIPPED | PASS | PASS | PASS | +---------------------+--------------------+-------------------+------------------+-------------------+-------------------------+----------------------+ CentOS Stream 9 Kernel: Depends on container host Compiler: gcc 11.5.0 20240719 (Red Hat 11.5.0-2) Debian Bullseye Kernel: Depends on container host Compiler: gcc (Debian 10.2.1-6) 10.2.1 20210110 CentOS Stream 10 Kernel: Depends on container host Compiler: gcc 14.2.1 20241104 (Red Hat 14.2.1-6) Fedora 40 (Clang) Kernel: Depends on container host Compiler: clang 18.1.8 (Fedora 18.1.8-1.fc40) Debian 12 Kernel: Depends on container host Compiler: gcc (Debian 12.2.0-14) 12.2.0 Fedora 40 Kernel: Depends on container host Compiler: gcc 14.2.1 20240912 (Red Hat 14.2.1-3) Fedora 41 Kernel: Depends on container host Compiler: gcc 14.2.1 20240912 (Red Hat 14.2.1-3) Fedora 41 (Clang) Kernel: Depends on container host Compiler: clang 19.1.5 (Fedora 19.1.5-1.fc41) openSUSE Leap 15 Kernel: Depends on container host Compiler: gcc (SUSE Linux) 7.5.0 RHEL8 Kernel: Depends on container host Compiler: gcc 8.5.0 20210514 (Red Hat 8.5.0-22) RHEL9 Kernel: Depends on container host Compiler: gcc 11.5.0 20240719 (Red Hat 11.5.0-2) Ubuntu 20.04 Kernel: Depends on container host Compiler: gcc (Ubuntu 9.4.0-1ubuntu1~20.04.2) 9.4.0 Ubuntu 22.04 Kernel: Depends on container host Compiler: gcc (Ubuntu 11.4.0-1ubuntu1~22.04) 11.4.0 Ubuntu 24.04 Kernel: Depends on container host Compiler: gcc (Ubuntu 13.3.0-6ubuntu2~24.04) 13.3.0 Alpine Kernel: Depends on container host Compiler: gcc (Alpine 14.2.0) 14.2.0 FreeBSD 13.4 Kernel: 13.4-RELEASE-p1 Compiler: clang 18.1.6 FreeBSD 14.2 Kernel: 14.2-RELEASE Compiler: clang 18.1.6 Windows Server 2022 Kernel: 10.0.20348.2031 Compiler: clang 15.0.7, gcc 14.1.0 (MinGW), and MSVC VS 19.39.33521 To view detailed results, visit: https://lab.dpdk.org/results/dashboard/tarballs/32740/ UNH-IOL DPDK Community Lab To manage your email subscriptions, visit: https://lab.dpdk.org/results/dashboard/preferences/subscriptions/