From mboxrd@z Thu Jan 1 00:00:00 1970 Return-Path: Received: from mails.dpdk.org (mails.dpdk.org [217.70.189.124]) by inbox.dpdk.org (Postfix) with ESMTP id 06997462E7 for ; Fri, 28 Feb 2025 14:04:07 +0100 (CET) Received: from mails.dpdk.org (localhost [127.0.0.1]) by mails.dpdk.org (Postfix) with ESMTP id 0065440E34; Fri, 28 Feb 2025 14:04:07 +0100 (CET) Received: from mail-io1-f100.google.com (mail-io1-f100.google.com [209.85.166.100]) by mails.dpdk.org (Postfix) with ESMTP id B155E40609 for ; Fri, 28 Feb 2025 14:04:05 +0100 (CET) Received: by mail-io1-f100.google.com with SMTP id ca18e2360f4ac-8559d67a0ebso169220639f.1 for ; Fri, 28 Feb 2025 05:04:05 -0800 (PST) DKIM-Signature: v=1; a=rsa-sha256; c=relaxed/relaxed; d=iol.unh.edu; s=unh-iol; t=1740747845; x=1741352645; darn=dpdk.org; h=cc:to:from:subject:message-id:date:from:to:cc:subject:date :message-id:reply-to; bh=hJqOckog9d6QDP+Un/lrfggQAWWDVBqiMrZ8jY1Qbqk=; b=FHqv15CerzSwzXlEMyxv27VNbsA3h8+UOKXosDRdZXh0DYbSRyuwR8Md+cnmejyzmO tKEvtVVOo9Yv3OcQWZRUaTi+EK+XfST8iqon6uLNW1BwyZpUm9d9tMBqb+86sOJkqrzW 3yFoYoMV8fLDgwd2q088ZIRPx7M+3Apy0Dnwc= X-Google-DKIM-Signature: v=1; a=rsa-sha256; c=relaxed/relaxed; d=1e100.net; s=20230601; t=1740747845; x=1741352645; h=cc:to:from:subject:message-id:date:x-gm-message-state:from:to:cc :subject:date:message-id:reply-to; bh=hJqOckog9d6QDP+Un/lrfggQAWWDVBqiMrZ8jY1Qbqk=; b=bPJQpbUX4G7nYyNkMyCYSBJEVxNdtCyL9EZUPHEmsUD+Zw7wfPAx2QhkIPX9wRyjVD +H2Wd328neUrFoz/4Z0Bynx5kO4krGiDvdqc5tDWNMZiVs+OqPRqAoDzHYX+GJHcU7gJ u9c2EpTF0cV2w+oXYG6eGqoU6oTuUrcpwxn89GFyjZfWab59oUyfmsVYIW5vDpyqkLvr IzK4GCMAe3UduxV9R24YnG14Jb6tzqRYVdCI2/umNuC3j1+MiFKO7reJlqAI+jyASrlG KYvm298Dsy441TX9lgK/RKQHeIFqOw2wZds1cDdkpp/yGgxcb6YE3/ST10/JfvOueBkM Acdg== X-Gm-Message-State: AOJu0Yz3NRtF6dTym+iOy8NoAI1j4mj1hGSIci9swgA5wod5evF6p/wh IJNzA8U3JIVFvxeQw7UpFi7g42JJdUiqQgEoDE3cXN41NkAJbCrzmPR/LB1t+rhndr8FgkEZQdC 6URbcsY5owvHny0P6MImGbYy+y4Uuxbb+ X-Gm-Gg: ASbGncu0/5npMHj+ykfaOweVcnd3+KjuyH55qSh2yQmuZEcX5Ec2ruRBwLd8lHz6DU5 6vZ0CBZZNSVbdpaX9z0Dn5HlUrFO31coAaF5jcUo1RUnWQeY9hhL9qjS/jp+BXU0EpL+JTAJ+Ml rbZYVYNFbNZdTXLU2AhSJWivWtCTWFigvomyLkkIRZUqg3x84eGQpnL2lEqqvfp0JufsuXbvOse vgB98SRW2FpJtoQQpgu7Ww0isVZEjKahAipDFPKWplvUto6uFezp8wTGTMMMG2fLQ3B1fltQ9Fp EfNJCCsTyK+rD9NZ+A5FDHhRD+TdvNbgAOD+sfji X-Google-Smtp-Source: AGHT+IGtq9+aGqmsE2Z6j8Sj0Mdu66UjIFocxJpAT85bBNwdTponxOXwauayjgt4FwiRlh+xEdaveG+Gvbxk X-Received: by 2002:a05:6602:60ca:b0:855:bd9c:7171 with SMTP id ca18e2360f4ac-85881f0457amr289857839f.2.1740747844956; Fri, 28 Feb 2025 05:04:04 -0800 (PST) Received: from postal.iol.unh.edu (postal.iol.unh.edu. [132.177.123.84]) by smtp-relay.gmail.com with ESMTPS id 8926c6da1cb9f-4f061fad09dsm200361173.60.2025.02.28.05.04.04 (version=TLS1_2 cipher=ECDHE-ECDSA-AES128-GCM-SHA256 bits=128/128); Fri, 28 Feb 2025 05:04:04 -0800 (PST) X-Relaying-Domain: iol.unh.edu Date: Fri, 28 Feb 2025 05:04:04 -0800 (PST) Message-ID: <67c1b444.050a0220.105f90.b1e6SMTPIN_ADDED_MISSING@mx.google.com> Received: from [172.21.0.9] (unknown [172.18.0.240]) by postal.iol.unh.edu (Postfix) with ESMTP id 700316052471; Fri, 28 Feb 2025 08:04:04 -0500 (EST) Subject: |SUCCESS| [GIT MASTER] 39594cdfcb730ea667370b1e304313d10996aff3 From: dpdklab@iol.unh.edu To: Test Report Cc: dpdk-test-reports@iol.unh.edu, Xueming Li , Christian Ehrhardt , Kevin Traynor , Luca Boccassi Content-Type: text/plain X-BeenThere: test-report@dpdk.org X-Mailman-Version: 2.1.29 Precedence: list List-Id: automatic DPDK test reports List-Unsubscribe: , List-Archive: List-Post: List-Help: List-Subscribe: , Errors-To: test-report-bounces@dpdk.org _Testing PASS_ Branch: tags/v24.11 39594cdfcb730ea667370b1e304313d10996aff3 --> testing pass Upstream job id: Generic-DPDK-Compile-Meson#366887 Test environment and result as below: +------------------------------------+--------------------+ | Environment | dpdk_meson_compile | +====================================+====================+ | RHEL9 (ARM) | PASS | +------------------------------------+--------------------+ | Ubuntu 20.04 ARM GCC Cross Compile | PASS | +------------------------------------+--------------------+ | Debian 12 with MUSDK | PASS | +------------------------------------+--------------------+ | Fedora 40 (ARM) | PASS | +------------------------------------+--------------------+ | Ubuntu 20.04 ARM SVE | PASS | +------------------------------------+--------------------+ | Fedora 41 (ARM) | PASS | +------------------------------------+--------------------+ | Fedora 40 (ARM Clang) | PASS | +------------------------------------+--------------------+ | Fedora 41 (ARM Clang) | PASS | +------------------------------------+--------------------+ | Ubuntu 20.04 (ARM) | PASS | +------------------------------------+--------------------+ | Ubuntu 22.04 (ARM) | PASS | +------------------------------------+--------------------+ | Ubuntu 24.04 (ARM) | PASS | +------------------------------------+--------------------+ | CentOS Stream 10 (ARM) | PASS | +------------------------------------+--------------------+ | CentOS Stream 9 (ARM) | PASS | +------------------------------------+--------------------+ | Debian 12 (arm) | PASS | +------------------------------------+--------------------+ | Debian 11 (Buster) (ARM) | PASS | +------------------------------------+--------------------+ RHEL9 (ARM) Kernel: Depends on container host Compiler: gcc 11.5.0 20240719 (Red Hat 11.5.0-2) Ubuntu 20.04 ARM GCC Cross Compile Kernel: Depends on container host Compiler: aarch64-linux-gnu-gcc (Ubuntu 9.4.0-1ubuntu1~20.04.2) 9.4.0 Debian 12 with MUSDK Kernel: Depends on container host Compiler: gcc (Debian 12.2.0-14) 12.2.0 Fedora 40 (ARM) Kernel: Depends on container host Compiler: gcc 14.2.1 20240912 (Red Hat 14.2.1-3) Ubuntu 20.04 ARM SVE Kernel: Depends on container host Compiler: gcc (Ubuntu 10.5.0-1ubuntu1~20.04) 10.5.0 Fedora 41 (ARM) Kernel: Depends on container host Compiler: gcc 14.2.1 20240912 (Red Hat 14.2.1-3) Fedora 40 (ARM Clang) Kernel: Depends on container host Compiler: clang 18.1.8 (Fedora 18.1.8-1.fc40) Fedora 41 (ARM Clang) Kernel: Depends on container host Compiler: clang 19.1.5 (Fedora 19.1.5-1.fc41) Ubuntu 20.04 (ARM) Kernel: Depends on container host Compiler: gcc (Ubuntu 9.4.0-1ubuntu1~20.04.2) 9.4.0 Ubuntu 22.04 (ARM) Kernel: Depends on container host Compiler: gcc (Ubuntu 11.4.0-1ubuntu1~22.04) 11.4.0 Ubuntu 24.04 (ARM) Kernel: Depends on container host Compiler: gcc (Ubuntu 13.3.0-6ubuntu2~24.04) 13.3.0 CentOS Stream 10 (ARM) Kernel: Depends on container host Compiler: gcc 14.2.1 20241104 (Red Hat 14.2.1-6) CentOS Stream 9 (ARM) Kernel: Depends on container host Compiler: gcc 11.5.0 20240719 (Red Hat 11.5.0-2) Debian 12 (arm) Kernel: Depends on container host Compiler: gcc (Debian 12.2.0-14) 12.2.0 Debian 11 (Buster) (ARM) Kernel: Depends on container host Compiler: gcc (Debian 10.2.1-6) 10.2.1 20210110 To view detailed results, visit: https://lab.dpdk.org/results/dashboard/tarballs/32775/ UNH-IOL DPDK Community Lab To manage your email subscriptions, visit: https://lab.dpdk.org/results/dashboard/preferences/subscriptions/