From mboxrd@z Thu Jan  1 00:00:00 1970
Return-Path: <test-report-bounces@dpdk.org>
Received: from mails.dpdk.org (mails.dpdk.org [217.70.189.124])
	by inbox.dpdk.org (Postfix) with ESMTP id EDA1E462E9
	for <public@inbox.dpdk.org>; Fri, 28 Feb 2025 18:28:45 +0100 (CET)
Received: from mails.dpdk.org (localhost [127.0.0.1])
	by mails.dpdk.org (Postfix) with ESMTP id D14A441060;
	Fri, 28 Feb 2025 18:28:45 +0100 (CET)
Received: from mail-pl1-f225.google.com (mail-pl1-f225.google.com
 [209.85.214.225])
 by mails.dpdk.org (Postfix) with ESMTP id 0C3DA40FB5
 for <test-report@dpdk.org>; Fri, 28 Feb 2025 18:28:45 +0100 (CET)
Received: by mail-pl1-f225.google.com with SMTP id
 d9443c01a7336-222e8d07dc6so45474405ad.1
 for <test-report@dpdk.org>; Fri, 28 Feb 2025 09:28:44 -0800 (PST)
DKIM-Signature: v=1; a=rsa-sha256; c=relaxed/relaxed;
 d=iol.unh.edu; s=unh-iol; t=1740763724; x=1741368524; darn=dpdk.org;
 h=references:in-reply-to:cc:to:from:subject:message-id:date:from:to
 :cc:subject:date:message-id:reply-to;
 bh=Wchyg8FdIA0wE+4OdX1DHK/lY1k0TrrRwYxvppevF1Q=;
 b=MHdLbq8+3J2dpizFuHrIZ5OTyOStoSoOyBNHA/jotOrMIqAXaiZ8Sru77lv51RfxeG
 frjzUQm2+fKjyO9Hq9vwk79D7SV0CnqzqvWdnE6QI5EMWORT8RSVFJ0PVRfBvAiHnp1A
 H72r3jwzWcAUqQOr1qJnYKTGvD85rbXzQBwBg=
X-Google-DKIM-Signature: v=1; a=rsa-sha256; c=relaxed/relaxed;
 d=1e100.net; s=20230601; t=1740763724; x=1741368524;
 h=references:in-reply-to:cc:to:from:subject:message-id:date
 :x-gm-message-state:from:to:cc:subject:date:message-id:reply-to;
 bh=Wchyg8FdIA0wE+4OdX1DHK/lY1k0TrrRwYxvppevF1Q=;
 b=ddhH0JAIAr7mgPGyyVBtD27f6DXrR/zojGYW/QZCnQxh+Yoc1y9hiiAUoP2nRZwSNs
 S+kdMPVgcv9wiL518ADADfw7QDe0FStUAHnZODOWOVgKhpC9oMGtsfcjkZv5oVHnxl5l
 IFuJGRmh5E+hWhAtf9LUGc/BFXQi4op5RCkpjxUMcmT9CIgUFyuIQXJ+fjUxcTUMfoSu
 345tt4u4vFxisaKSCz9jH8trGDDK26n1Rky5bO631gJkBNDEVcwyqnABPbhw9myh7JkV
 IVN/o+boxJ9oXdVRb+EB+HsDuN3CeZaLRXbgjsN+pE+0mzhm3MFs2B+Q5/BcJj8HNxhk
 NrRQ==
X-Gm-Message-State: AOJu0Yxl9RwLhu6puGFKOPqAZyq49f+htXbQ3y3N05aLKsxMOjhM2cPs
 1mFKcgj8Ed2pWjsY2+94BjXcK+jU9dFy/tvm8w3vO1jx7Z8P6bvWHe+jHPsQjIPCVSo04m+ZJ4V
 0bWqsELf0w5RO787EU0IgT2RKZQW1lReiIwjThRcPStDxQhFDMQqaYcQ7
X-Gm-Gg: ASbGncu3jcmimaOW6uGnie/QkRMVpgXeIjs8XBtzDKvTgENDSog2NhXcY8vXstEZLQt
 gV0aNk2no49BXU3HyFYXt/Fm3K7h5YMO/KiPGo9PYl2r8WBkqZ53UGa8CDoAH/whs3qFjzxdmus
 Nkj+4AfBBw5ZT89+HBgzrO4vuUQ3iXsb0uHQ66L+GPkBAptK6xtu4qmF8L+Pm7yqjT3Dvp6Ldyy
 iNYj4qGQtKNaEfsr8/1FyEwbp9PK9CkQwegYgKl7VraoRRa12e/WXUJnf8aBqwHRCmtHj0vBNgA
 J6ivYuzUFxXsOoiL4c/AEmnc57eNzatPFA0NHT3nE9JN6Dv/ywXe
X-Google-Smtp-Source: AGHT+IHh26uOTHMscbL7lD3hWAa0u3Rb0ohsW3UYwPDqKrie3HVofGTWXLCNtARJtDM/VPww5aXhv82d62wE
X-Received: by 2002:a17:903:1984:b0:221:751f:cfbe with SMTP id
 d9443c01a7336-223674dd810mr76646335ad.19.1740763724307; 
 Fri, 28 Feb 2025 09:28:44 -0800 (PST)
Received: from postal.iol.unh.edu (postal.iol.unh.edu.
 [2606:4100:3880:1234::84]) by smtp-relay.gmail.com with ESMTPS id
 d9443c01a7336-2235020e3casm1884945ad.68.2025.02.28.09.28.44
 (version=TLS1_2 cipher=ECDHE-ECDSA-AES128-GCM-SHA256 bits=128/128);
 Fri, 28 Feb 2025 09:28:44 -0800 (PST)
X-Relaying-Domain: iol.unh.edu
Date: Fri, 28 Feb 2025 09:28:44 -0800 (PST)
Message-ID: <67c1f24c.170a0220.2b1e9a.c314SMTPIN_ADDED_MISSING@mx.google.com>
Received: from [172.17.0.3] (unknown [172.18.0.217])
 by postal.iol.unh.edu (Postfix) with ESMTP id AE4116052471;
 Fri, 28 Feb 2025 12:28:43 -0500 (EST)
Subject: |WARNING| pw152093-152096 [PATCH] [V2,4/4] net/mlx5/hws: allow diffe
From: dpdklab@iol.unh.edu
To: Test Report <test-report@dpdk.org>
Cc: dpdk-test-reports@iol.unh.edu
In-Reply-To: <20250226083846.4023622-5-ophirmu@nvidia.com>
References: <20250226083846.4023622-5-ophirmu@nvidia.com>
Content-Type: text/plain
X-BeenThere: test-report@dpdk.org
X-Mailman-Version: 2.1.29
Precedence: list
List-Id: automatic DPDK test reports <test-report.dpdk.org>
List-Unsubscribe: <https://mails.dpdk.org/options/test-report>,
 <mailto:test-report-request@dpdk.org?subject=unsubscribe>
List-Archive: <http://mails.dpdk.org/archives/test-report/>
List-Post: <mailto:test-report@dpdk.org>
List-Help: <mailto:test-report-request@dpdk.org?subject=help>
List-Subscribe: <https://mails.dpdk.org/listinfo/test-report>,
 <mailto:test-report-request@dpdk.org?subject=subscribe>
Errors-To: test-report-bounces@dpdk.org

Test-Label: iol-unit-arm64-testing
Test-Status: WARNING
http://dpdk.org/patch/152096

_Testing issues_

Submitter: Ophir Munk <ophirmu@nvidia.com>
Date: Wednesday, February 26 2025 08:38:46 
DPDK git baseline: Repo:dpdk
  Branch: master
  CommitID:fab31a03ba98e7457284df95dd9eef2223a4ccaa

152093-152096 --> testing issues

Upstream job id: Aarch32-Unit-Test#5508

Test environment and result as below:

+-----------------------------+----------------+---------------------------+------------------------------+--------------+
|         Environment         | dpdk_unit_test | cryptodev_sw_zuc_autotest | cryptodev_sw_snow3g_autotest | lpm_autotest |
+=============================+================+===========================+==============================+==============+
| 32-bit Ubuntu 22.04.4 (ARM) | PASS           | SKIPPED                   | SKIPPED                      | SKIPPED      |
+-----------------------------+----------------+---------------------------+------------------------------+--------------+
| Debian 11 (Buster) (ARM)    | WARN           | SKIPPED                   | SKIPPED                      | SKIPPED      |
+-----------------------------+----------------+---------------------------+------------------------------+--------------+
| CentOS Stream 10 (ARM)      | WARN           | SKIPPED                   | SKIPPED                      | SKIPPED      |
+-----------------------------+----------------+---------------------------+------------------------------+--------------+
| CentOS Stream 9 (ARM)       | WARN           | SKIPPED                   | SKIPPED                      | SKIPPED      |
+-----------------------------+----------------+---------------------------+------------------------------+--------------+
| Fedora 40 (ARM Clang)       | WARN           | SKIPPED                   | SKIPPED                      | SKIPPED      |
+-----------------------------+----------------+---------------------------+------------------------------+--------------+
| Debian 12 (arm)             | WARN           | WARN                      | WARN                         | SKIPPED      |
+-----------------------------+----------------+---------------------------+------------------------------+--------------+
| Fedora 40 (ARM)             | WARN           | SKIPPED                   | SKIPPED                      | SKIPPED      |
+-----------------------------+----------------+---------------------------+------------------------------+--------------+
| Fedora 41 (ARM)             | WARN           | SKIPPED                   | SKIPPED                      | SKIPPED      |
+-----------------------------+----------------+---------------------------+------------------------------+--------------+
| Fedora 41 (ARM Clang)       | WARN           | SKIPPED                   | SKIPPED                      | SKIPPED      |
+-----------------------------+----------------+---------------------------+------------------------------+--------------+
| RHEL9 (ARM)                 | WARN           | SKIPPED                   | SKIPPED                      | SKIPPED      |
+-----------------------------+----------------+---------------------------+------------------------------+--------------+
| Ubuntu 20.04 (ARM)          | WARN           | SKIPPED                   | SKIPPED                      | SKIPPED      |
+-----------------------------+----------------+---------------------------+------------------------------+--------------+
| Ubuntu 22.04 (ARM)          | WARN           | SKIPPED                   | SKIPPED                      | SKIPPED      |
+-----------------------------+----------------+---------------------------+------------------------------+--------------+
| Ubuntu 24.04 (ARM)          | WARN           | SKIPPED                   | SKIPPED                      | SKIPPED      |
+-----------------------------+----------------+---------------------------+------------------------------+--------------+
| Ubuntu 20.04 ARM SVE        | SKIPPED        | SKIPPED                   | SKIPPED                      | PASS         |
+-----------------------------+----------------+---------------------------+------------------------------+--------------+

==== 20 line log output for Ubuntu 24.04 (ARM) (dpdk_unit_test): ====
|                                      ^~~~~~~~~~~~~~~~~
../drivers/common/mlx5/mlx5_devx_cmds.c:1352:40: note: in expansion of macro 'MLX5_GET'
1352 |                 attr->fdb_unified_en = MLX5_GET(wqe_based_flow_table_cap,
|                                        ^~~~~~~~
../drivers/common/mlx5/mlx5_prm.h:967:57: error: 'struct mlx5_ifc_wqe_based_flow_table_cap_bits' has no member named 'fdb_unified_en'
967 | #define __mlx5_bit_sz(typ, fld) sizeof(__mlx5_nullp(typ)->fld)
|                                                         ^~
../drivers/common/mlx5/mlx5_prm.h:976:47: note: in expansion of macro '__mlx5_bit_sz'
976 | #define __mlx5_mask(typ, fld) ((u32)((1ull << __mlx5_bit_sz(typ, fld)) - 1))
|                                               ^~~~~~~~~~~~~
../drivers/common/mlx5/mlx5_prm.h:1025:9: note: in expansion of macro '__mlx5_mask'
1025 |         __mlx5_mask(typ, fld))
|         ^~~~~~~~~~~
../drivers/common/mlx5/mlx5_devx_cmds.c:1352:40: note: in expansion of macro 'MLX5_GET'
1352 |                 attr->fdb_unified_en = MLX5_GET(wqe_based_flow_table_cap,
|                                        ^~~~~~~~
[774/3380] Compiling C object drivers/libtmp_rte_common_mlx5.a.p/common_mlx5_mlx5_common_mp.c.o
[775/3380] Compiling C object drivers/libtmp_rte_common_mlx5.a.p/common_mlx5_mlx5_common.c.o
[776/3380] Generating rte_common_cnxk.sym_chk with a custom command (wrapped by meson to capture output)
ninja: build stopped: subcommand failed.
==== End log output ====

32-bit Ubuntu 22.04.4 (ARM)
	Kernel: 5.15.83+ aarch64
	Compiler: gcc (Ubuntu 11.4.0-1ubuntu1~22.04) 11.4.0

Debian 11 (Buster) (ARM)
	Kernel: Depends on container host
	Compiler: gcc (Debian 10.2.1-6) 10.2.1 20210110

CentOS Stream 10 (ARM)
	Kernel: Depends on container host
	Compiler: gcc 14.2.1 20241104 (Red Hat 14.2.1-6)

CentOS Stream 9 (ARM)
	Kernel: Depends on container host
	Compiler: gcc 11.5.0 20240719 (Red Hat 11.5.0-2)

Fedora 40 (ARM Clang)
	Kernel: Depends on container host
	Compiler: clang 18.1.8 (Fedora 18.1.8-1.fc40)

Debian 12 (arm)
	Kernel: Depends on container host
	Compiler: gcc (Debian 12.2.0-14) 12.2.0

Fedora 40 (ARM)
	Kernel: Depends on container host
	Compiler: gcc 14.2.1 20240912 (Red Hat 14.2.1-3)

Fedora 41 (ARM)
	Kernel: Depends on container host
	Compiler: gcc 14.2.1 20240912 (Red Hat 14.2.1-3)

Fedora 41 (ARM Clang)
	Kernel: Depends on container host
	Compiler: clang 19.1.5 (Fedora 19.1.5-1.fc41)

RHEL9 (ARM)
	Kernel: Depends on container host
	Compiler: gcc 11.5.0 20240719 (Red Hat 11.5.0-2)

Ubuntu 20.04 (ARM)
	Kernel: Depends on container host
	Compiler: gcc (Ubuntu 9.4.0-1ubuntu1~20.04.2) 9.4.0

Ubuntu 22.04 (ARM)
	Kernel: Depends on container host
	Compiler: gcc (Ubuntu 11.4.0-1ubuntu1~22.04) 11.4.0

Ubuntu 24.04 (ARM)
	Kernel: Depends on container host
	Compiler: gcc (Ubuntu 13.3.0-6ubuntu2~24.04) 13.3.0

Ubuntu 20.04 ARM SVE
	Kernel: Depends on container host
	Compiler: gcc (Ubuntu 10.5.0-1ubuntu1~20.04) 10.5.0

To view detailed results, visit:
https://lab.dpdk.org/results/dashboard/patchsets/32692/

UNH-IOL DPDK Community Lab

To manage your email subscriptions, visit: 
https://lab.dpdk.org/results/dashboard/preferences/subscriptions/