From mboxrd@z Thu Jan  1 00:00:00 1970
Return-Path: <test-report-bounces@dpdk.org>
Received: from mails.dpdk.org (mails.dpdk.org [217.70.189.124])
	by inbox.dpdk.org (Postfix) with ESMTP id DA9FF462EB
	for <public@inbox.dpdk.org>; Fri, 28 Feb 2025 23:55:00 +0100 (CET)
Received: from mails.dpdk.org (localhost [127.0.0.1])
	by mails.dpdk.org (Postfix) with ESMTP id D3D7C40287;
	Fri, 28 Feb 2025 23:55:00 +0100 (CET)
Received: from mail-qt1-f225.google.com (mail-qt1-f225.google.com
 [209.85.160.225])
 by mails.dpdk.org (Postfix) with ESMTP id BF7C14027F
 for <test-report@dpdk.org>; Fri, 28 Feb 2025 23:54:59 +0100 (CET)
Received: by mail-qt1-f225.google.com with SMTP id
 d75a77b69052e-472039adb9bso32836881cf.0
 for <test-report@dpdk.org>; Fri, 28 Feb 2025 14:54:59 -0800 (PST)
DKIM-Signature: v=1; a=rsa-sha256; c=relaxed/relaxed;
 d=iol.unh.edu; s=unh-iol; t=1740783299; x=1741388099; darn=dpdk.org;
 h=references:in-reply-to:cc:to:from:subject:message-id:date:from:to
 :cc:subject:date:message-id:reply-to;
 bh=z52DBp55OE9142YTP/qf95blXCiEmBTOi+00JxkJanY=;
 b=H6EKEdBwWfv1cSe2PiLGYvzkbulQjiJoC1iLpmog69lvJSTxOXTYVvfwKOE+3AawVz
 bw/S2hT5GQ1jGbIY52GRgeS8kZgcoRLuBBP3HMl7fQnfEh25OSvAG/dyKrpZNEsRmPkC
 I3BhtZC+pKx9Lu30lrHXJ0JoyELqvLFv/agtY=
X-Google-DKIM-Signature: v=1; a=rsa-sha256; c=relaxed/relaxed;
 d=1e100.net; s=20230601; t=1740783299; x=1741388099;
 h=references:in-reply-to:cc:to:from:subject:message-id:date
 :x-gm-message-state:from:to:cc:subject:date:message-id:reply-to;
 bh=z52DBp55OE9142YTP/qf95blXCiEmBTOi+00JxkJanY=;
 b=HqB5SdREKG1WLWpxbOjBlSV6vS24d8mNzLSxaT5W0XzmLYvPXs6Vi4M2pNNAiMp3G9
 rzQ2rzZNKK3WrzdB3C/a00PdtDlHwDa9pTa6ik+oe2h29DE0dUVbaRQaPDhdUgK+cvis
 lslggeq2eQv6yHCP8mAx2Z1A9nGiD66k5gQ912zPSQGbX2P2LW3ZPeQ9NtQ82wySbEBM
 JHEZv4dAMnDbrvJn/L4CV/UEB3owsgfFOrsKXihGxOGcal2TvvpX1ySULE0ZrxJk7oDt
 qBw55SYitbT7F44Qw9GToALOAtQccGosyxVfDC66QnSYBX28WdKbnGmlT7PseM4kLq0E
 nTJQ==
X-Gm-Message-State: AOJu0Yxsage8khOwvOxEGGWjZBc6Doktu7b/y+yQnY1J+wDxT3WP8nLC
 D250MNyRBxZtJDyOu0Dtez9SLSL/VIQA1GJGVo+7sSJcFgOxmt5Wt9sF4g8NP9ALASxiWY5J+U1
 Vy6vYIvzLmS53G3uk1NAoW+jwFDS7dYwkMMHu84tM2g+fTSLa2Ti6lOr4
X-Gm-Gg: ASbGncvnVeLSAUFag6tAND/d3CTAAPk+AnUaRBOJi5gH7MVPYL5EiF3JZUylicf6YNA
 zIjy/lmwgDkGA2m11I/iex+4y3YpA4eQ5zS4XF7hOCIM2hW7jREC4G3A1zKgyAe0jAoLzqo6Ya/
 KOvwgJnybI8xaqRyzpbP2CzOCQU4idtn4ixalHq6NjmLizkjWqr4T7FQ2xI29I37LWk2qQXprld
 0zx7rhp13lkTfYT+IVK7Xs42NpHnM1Q1Yb3bXCMlpiZGIDMVp86JIkKki+c2eMTkwOeQzm/PEdb
 lJQs5wYtW2BItDcWi10928g6Jx1VE9ZdzfX/iLiKtgUen8cGPO2k
X-Google-Smtp-Source: AGHT+IE6zTJT3vaWaa/IfTXh3UxgXM2l7/iOVduXLwu01txDLTClFqzfp/BzpS/WJr7URNRGKVptkxjuDgRa
X-Received: by 2002:ac8:5793:0:b0:471:d07f:635f with SMTP id
 d75a77b69052e-474bc088487mr87153591cf.13.1740783299180; 
 Fri, 28 Feb 2025 14:54:59 -0800 (PST)
Received: from postal.iol.unh.edu (postal.iol.unh.edu.
 [2606:4100:3880:1234::84]) by smtp-relay.gmail.com with ESMTPS id
 d75a77b69052e-4746b5f25bbsm2625991cf.9.2025.02.28.14.54.59
 (version=TLS1_2 cipher=ECDHE-ECDSA-AES128-GCM-SHA256 bits=128/128);
 Fri, 28 Feb 2025 14:54:59 -0800 (PST)
X-Relaying-Domain: iol.unh.edu
Date: Fri, 28 Feb 2025 14:54:59 -0800 (PST)
Message-ID: <67c23ec3.c80a0220.40203.ef17SMTPIN_ADDED_MISSING@mx.google.com>
Received: from [172.21.0.8] (unknown [172.18.0.240])
 by postal.iol.unh.edu (Postfix) with ESMTP id CF3C56052471;
 Fri, 28 Feb 2025 17:54:58 -0500 (EST)
Subject: |SUCCESS| pw152152-152151 [PATCH] [2/2] devtools/dump-cpu-flags: add
From: dpdklab@iol.unh.edu
To: Test Report <test-report@dpdk.org>
Cc: dpdk-test-reports@iol.unh.edu
In-Reply-To: <1740707537-10517-3-git-send-email-andremue@linux.microsoft.com>
References: <1740707537-10517-3-git-send-email-andremue@linux.microsoft.com>
Content-Type: text/plain
X-BeenThere: test-report@dpdk.org
X-Mailman-Version: 2.1.29
Precedence: list
List-Id: automatic DPDK test reports <test-report.dpdk.org>
List-Unsubscribe: <https://mails.dpdk.org/options/test-report>,
 <mailto:test-report-request@dpdk.org?subject=unsubscribe>
List-Archive: <http://mails.dpdk.org/archives/test-report/>
List-Post: <mailto:test-report@dpdk.org>
List-Help: <mailto:test-report-request@dpdk.org?subject=help>
List-Subscribe: <https://mails.dpdk.org/listinfo/test-report>,
 <mailto:test-report-request@dpdk.org?subject=subscribe>
Errors-To: test-report-bounces@dpdk.org

Test-Label: iol-unit-arm64-testing
Test-Status: SUCCESS
http://dpdk.org/patch/152151

_Testing PASS_

Submitter: Andre Muezerie <andremue@linux.microsoft.com>
Date: Friday, February 28 2025 01:52:17 
DPDK git baseline: Repo:dpdk
  Branch: master
  CommitID:fab31a03ba98e7457284df95dd9eef2223a4ccaa

152152-152151 --> testing pass

Upstream job id: Generic-Unit-Test-DPDK#320118

Test environment and result as below:

+-----------------------------+----------------+------------------------------+--------------+---------------------------+
|         Environment         | dpdk_unit_test | cryptodev_sw_snow3g_autotest | lpm_autotest | cryptodev_sw_zuc_autotest |
+=============================+================+==============================+==============+===========================+
| 32-bit Ubuntu 22.04.4 (ARM) | PASS           | SKIPPED                      | SKIPPED      | SKIPPED                   |
+-----------------------------+----------------+------------------------------+--------------+---------------------------+
| Debian 12 (arm)             | SKIPPED        | PASS                         | SKIPPED      | PASS                      |
+-----------------------------+----------------+------------------------------+--------------+---------------------------+
| Ubuntu 20.04 ARM SVE        | SKIPPED        | SKIPPED                      | PASS         | SKIPPED                   |
+-----------------------------+----------------+------------------------------+--------------+---------------------------+


32-bit Ubuntu 22.04.4 (ARM)
	Kernel: 5.15.83+ aarch64
	Compiler: gcc (Ubuntu 11.4.0-1ubuntu1~22.04) 11.4.0

Debian 12 (arm)
	Kernel: Depends on container host
	Compiler: gcc (Debian 12.2.0-14) 12.2.0

Ubuntu 20.04 ARM SVE
	Kernel: Depends on container host
	Compiler: gcc (Ubuntu 10.5.0-1ubuntu1~20.04) 10.5.0

To view detailed results, visit:
https://lab.dpdk.org/results/dashboard/patchsets/32715/

UNH-IOL DPDK Community Lab

To manage your email subscriptions, visit: 
https://lab.dpdk.org/results/dashboard/preferences/subscriptions/