From mboxrd@z Thu Jan  1 00:00:00 1970
Return-Path: <test-report-bounces@dpdk.org>
Received: from mails.dpdk.org (mails.dpdk.org [217.70.189.124])
	by inbox.dpdk.org (Postfix) with ESMTP id 1A95F462EB
	for <public@inbox.dpdk.org>; Sat,  1 Mar 2025 01:14:53 +0100 (CET)
Received: from mails.dpdk.org (localhost [127.0.0.1])
	by mails.dpdk.org (Postfix) with ESMTP id 336BE4026C;
	Sat,  1 Mar 2025 01:14:52 +0100 (CET)
Received: from mail-pl1-f228.google.com (mail-pl1-f228.google.com
 [209.85.214.228])
 by mails.dpdk.org (Postfix) with ESMTP id AAB5B4025D
 for <test-report@dpdk.org>; Sat,  1 Mar 2025 01:14:50 +0100 (CET)
Received: by mail-pl1-f228.google.com with SMTP id
 d9443c01a7336-22349bb8605so56116095ad.0
 for <test-report@dpdk.org>; Fri, 28 Feb 2025 16:14:50 -0800 (PST)
DKIM-Signature: v=1; a=rsa-sha256; c=relaxed/relaxed;
 d=iol.unh.edu; s=unh-iol; t=1740788090; x=1741392890; darn=dpdk.org;
 h=references:in-reply-to:cc:to:from:subject:message-id:date:from:to
 :cc:subject:date:message-id:reply-to;
 bh=4WL8/FTlSQBIjo6CnOd641AIuzA6Fd4BSbro1b5ufn8=;
 b=Uc6prB0Qn/iJVYDlSek8mNC3GLKVnxUXRsgUEJRMwYfPL3iA0vzl27PE7DS+IvHhTv
 m/L0mzoPFF+OFlrf8miMAatTKDwtTOhT0uqNhPKFHIdQcyCwG0Df+KEEh8FijEQGLPoy
 FQ09ZCPd//XRV6QW8aZK8EwxVBJWF8HsN9fa4=
X-Google-DKIM-Signature: v=1; a=rsa-sha256; c=relaxed/relaxed;
 d=1e100.net; s=20230601; t=1740788090; x=1741392890;
 h=references:in-reply-to:cc:to:from:subject:message-id:date
 :x-gm-message-state:from:to:cc:subject:date:message-id:reply-to;
 bh=4WL8/FTlSQBIjo6CnOd641AIuzA6Fd4BSbro1b5ufn8=;
 b=r2sc6HZ8BDW9m9hCi6Rf/ktMF+YYvnUz/9NjCTP92OYQ6yCHr4ZbrAlp3r66Dx35ca
 8AjvEHj7jEcRxdx9pqvYbqVY0Xy82WZqbCJDGgnPnpdx9ZZQoQ3lLaMfXgMdAGjYhzOv
 qC1LQ+Gh09jKx0lDTpMTuwwSEwxhNIeZSq02nfZuyJCU98p2+zgirdilccZXCfv0jrCv
 kDJK6UGk7cPyDjXkqpDQMxPpgfd2374tylGKLqfxk7TDsizqYVqMCDkVwU/iLC+6LMSa
 0Oo+xog5HnxgvmWziRp5vhQ5OgnKM7vRXDpMjBLT9rmkvUye3gWBrb83HohaoURTeJSK
 d0kg==
X-Gm-Message-State: AOJu0YwJOwTAgOHY0bYvI8YgXAYLraoPInWnVu/hm8lk/0HvVXpTEHXW
 zRiwN+eu7+S0QCgFyU+itL0SJN6shvBSdZThynEmYFWH0P5VzfZ1p9hmjpmyNMNH7qIdARl8Jz+
 oF/XIjcsWFxq6Cws6WlTA7D4m250AjC+jgtPIrhB/XZVvcdq6YTpfrRnX
X-Gm-Gg: ASbGncu5xO4sa4shIm9O/5/t5/Z1+y6jIqTfSlRWgWvcsiceqK+TbtneE68NC8wZxc6
 RVX31a8PRJhfnd6gH4llXShVq3H2m8LuOg9Mg/YYIl7VUgmyQao2vz2U9PBoq6uEDvo7TK1rZr5
 JnF00fJNnQ1XQhXgCrtBmWMaImiE0LI7wN5VUoMK1dK4VI2ULeGc0savSkE388AtUlv8ct37vwp
 aqMk7ShZHvfW5LXlfBDdsDP00R0uvdH0ukjfjg2MuYlz6OmSw0OVNmq65h+41XyINAarhItLNSA
 RwdlwkHYzudNZJOpTHrrYJmJw1GtAelu5leSjhR80Mx5bECgOT/G
X-Google-Smtp-Source: AGHT+IGT6UB8mhhAu0BlCvnmywoeu2U6aRCJRH/uYyqyl2nPNvwCWFxnHgLT9q9lnEhJl5BI+bA2HDFHKP6p
X-Received: by 2002:a17:902:f64a:b0:223:5645:8e1a with SMTP id
 d9443c01a7336-2236926727dmr85269415ad.51.1740788089737; 
 Fri, 28 Feb 2025 16:14:49 -0800 (PST)
Received: from postal.iol.unh.edu (postal.iol.unh.edu.
 [2606:4100:3880:1234::84]) by smtp-relay.gmail.com with ESMTPS id
 d9443c01a7336-223504fad1bsm2304765ad.122.2025.02.28.16.14.49
 (version=TLS1_2 cipher=ECDHE-ECDSA-AES128-GCM-SHA256 bits=128/128);
 Fri, 28 Feb 2025 16:14:49 -0800 (PST)
X-Relaying-Domain: iol.unh.edu
Date: Fri, 28 Feb 2025 16:14:49 -0800 (PST)
Message-ID: <67c25179.170a0220.dae52.d38dSMTPIN_ADDED_MISSING@mx.google.com>
Received: from [172.21.0.9] (unknown [172.18.0.240])
 by postal.iol.unh.edu (Postfix) with ESMTP id 865416052471;
 Fri, 28 Feb 2025 19:14:48 -0500 (EST)
Subject: |SUCCESS| pw152152-152151 [PATCH] [2/2] devtools/dump-cpu-flags: add
From: dpdklab@iol.unh.edu
To: Test Report <test-report@dpdk.org>
Cc: dpdk-test-reports@iol.unh.edu
In-Reply-To: <1740707537-10517-3-git-send-email-andremue@linux.microsoft.com>
References: <1740707537-10517-3-git-send-email-andremue@linux.microsoft.com>
Content-Type: text/plain
X-BeenThere: test-report@dpdk.org
X-Mailman-Version: 2.1.29
Precedence: list
List-Id: automatic DPDK test reports <test-report.dpdk.org>
List-Unsubscribe: <https://mails.dpdk.org/options/test-report>,
 <mailto:test-report-request@dpdk.org?subject=unsubscribe>
List-Archive: <http://mails.dpdk.org/archives/test-report/>
List-Post: <mailto:test-report@dpdk.org>
List-Help: <mailto:test-report-request@dpdk.org?subject=help>
List-Subscribe: <https://mails.dpdk.org/listinfo/test-report>,
 <mailto:test-report-request@dpdk.org?subject=subscribe>
Errors-To: test-report-bounces@dpdk.org

Test-Label: iol-unit-arm64-testing
Test-Status: SUCCESS
http://dpdk.org/patch/152151

_Testing PASS_

Submitter: Andre Muezerie <andremue@linux.microsoft.com>
Date: Friday, February 28 2025 01:52:17 
DPDK git baseline: Repo:dpdk
  Branch: master
  CommitID:fab31a03ba98e7457284df95dd9eef2223a4ccaa

152152-152151 --> testing pass

Upstream job id: Generic-Unit-Test-DPDK#320145

Test environment and result as below:

+-----------------------------+----------------+------------------------------+--------------+---------------------------+
|         Environment         | dpdk_unit_test | cryptodev_sw_snow3g_autotest | lpm_autotest | cryptodev_sw_zuc_autotest |
+=============================+================+==============================+==============+===========================+
| 32-bit Ubuntu 22.04.4 (ARM) | PASS           | SKIPPED                      | SKIPPED      | SKIPPED                   |
+-----------------------------+----------------+------------------------------+--------------+---------------------------+
| CentOS Stream 10 (ARM)      | PASS           | SKIPPED                      | SKIPPED      | SKIPPED                   |
+-----------------------------+----------------+------------------------------+--------------+---------------------------+
| CentOS Stream 9 (ARM)       | PASS           | SKIPPED                      | SKIPPED      | SKIPPED                   |
+-----------------------------+----------------+------------------------------+--------------+---------------------------+
| Debian 11 (Buster) (ARM)    | PASS           | SKIPPED                      | SKIPPED      | SKIPPED                   |
+-----------------------------+----------------+------------------------------+--------------+---------------------------+
| Debian 12 (arm)             | PASS           | PASS                         | SKIPPED      | PASS                      |
+-----------------------------+----------------+------------------------------+--------------+---------------------------+
| Fedora 40 (ARM)             | PASS           | SKIPPED                      | SKIPPED      | SKIPPED                   |
+-----------------------------+----------------+------------------------------+--------------+---------------------------+
| Fedora 40 (ARM Clang)       | PASS           | SKIPPED                      | SKIPPED      | SKIPPED                   |
+-----------------------------+----------------+------------------------------+--------------+---------------------------+
| Fedora 41 (ARM)             | PASS           | SKIPPED                      | SKIPPED      | SKIPPED                   |
+-----------------------------+----------------+------------------------------+--------------+---------------------------+
| Ubuntu 22.04 (ARM)          | PASS           | SKIPPED                      | SKIPPED      | SKIPPED                   |
+-----------------------------+----------------+------------------------------+--------------+---------------------------+
| Fedora 41 (ARM Clang)       | PASS           | SKIPPED                      | SKIPPED      | SKIPPED                   |
+-----------------------------+----------------+------------------------------+--------------+---------------------------+
| RHEL9 (ARM)                 | PASS           | SKIPPED                      | SKIPPED      | SKIPPED                   |
+-----------------------------+----------------+------------------------------+--------------+---------------------------+
| Ubuntu 20.04 (ARM)          | PASS           | SKIPPED                      | SKIPPED      | SKIPPED                   |
+-----------------------------+----------------+------------------------------+--------------+---------------------------+
| Ubuntu 24.04 (ARM)          | PASS           | SKIPPED                      | SKIPPED      | SKIPPED                   |
+-----------------------------+----------------+------------------------------+--------------+---------------------------+
| Ubuntu 20.04 ARM SVE        | SKIPPED        | SKIPPED                      | PASS         | SKIPPED                   |
+-----------------------------+----------------+------------------------------+--------------+---------------------------+


32-bit Ubuntu 22.04.4 (ARM)
	Kernel: 5.15.83+ aarch64
	Compiler: gcc (Ubuntu 11.4.0-1ubuntu1~22.04) 11.4.0

CentOS Stream 10 (ARM)
	Kernel: Depends on container host
	Compiler: gcc 14.2.1 20241104 (Red Hat 14.2.1-6)

CentOS Stream 9 (ARM)
	Kernel: Depends on container host
	Compiler: gcc 11.5.0 20240719 (Red Hat 11.5.0-2)

Debian 11 (Buster) (ARM)
	Kernel: Depends on container host
	Compiler: gcc (Debian 10.2.1-6) 10.2.1 20210110

Debian 12 (arm)
	Kernel: Depends on container host
	Compiler: gcc (Debian 12.2.0-14) 12.2.0

Fedora 40 (ARM)
	Kernel: Depends on container host
	Compiler: gcc 14.2.1 20240912 (Red Hat 14.2.1-3)

Fedora 40 (ARM Clang)
	Kernel: Depends on container host
	Compiler: clang 18.1.8 (Fedora 18.1.8-1.fc40)

Fedora 41 (ARM)
	Kernel: Depends on container host
	Compiler: gcc 14.2.1 20240912 (Red Hat 14.2.1-3)

Ubuntu 22.04 (ARM)
	Kernel: Depends on container host
	Compiler: gcc (Ubuntu 11.4.0-1ubuntu1~22.04) 11.4.0

Fedora 41 (ARM Clang)
	Kernel: Depends on container host
	Compiler: clang 19.1.5 (Fedora 19.1.5-1.fc41)

RHEL9 (ARM)
	Kernel: Depends on container host
	Compiler: gcc 11.5.0 20240719 (Red Hat 11.5.0-2)

Ubuntu 20.04 (ARM)
	Kernel: Depends on container host
	Compiler: gcc (Ubuntu 9.4.0-1ubuntu1~20.04.2) 9.4.0

Ubuntu 24.04 (ARM)
	Kernel: Depends on container host
	Compiler: gcc (Ubuntu 13.3.0-6ubuntu2~24.04) 13.3.0

Ubuntu 20.04 ARM SVE
	Kernel: Depends on container host
	Compiler: gcc (Ubuntu 10.5.0-1ubuntu1~20.04) 10.5.0

To view detailed results, visit:
https://lab.dpdk.org/results/dashboard/patchsets/32715/

UNH-IOL DPDK Community Lab

To manage your email subscriptions, visit: 
https://lab.dpdk.org/results/dashboard/preferences/subscriptions/