From mboxrd@z Thu Jan  1 00:00:00 1970
Return-Path: <test-report-bounces@dpdk.org>
Received: from mails.dpdk.org (mails.dpdk.org [217.70.189.124])
	by inbox.dpdk.org (Postfix) with ESMTP id C6CD3462EF
	for <public@inbox.dpdk.org>; Sat,  1 Mar 2025 06:09:45 +0100 (CET)
Received: from mails.dpdk.org (localhost [127.0.0.1])
	by mails.dpdk.org (Postfix) with ESMTP id 9FBDC40281;
	Sat,  1 Mar 2025 06:09:45 +0100 (CET)
Received: from mail-il1-f225.google.com (mail-il1-f225.google.com
 [209.85.166.225])
 by mails.dpdk.org (Postfix) with ESMTP id 076434025D
 for <test-report@dpdk.org>; Sat,  1 Mar 2025 06:09:44 +0100 (CET)
Received: by mail-il1-f225.google.com with SMTP id
 e9e14a558f8ab-3d3db37f4e6so26960805ab.3
 for <test-report@dpdk.org>; Fri, 28 Feb 2025 21:09:43 -0800 (PST)
DKIM-Signature: v=1; a=rsa-sha256; c=relaxed/relaxed;
 d=iol.unh.edu; s=unh-iol; t=1740805783; x=1741410583; darn=dpdk.org;
 h=references:in-reply-to:cc:to:from:subject:message-id:date:from:to
 :cc:subject:date:message-id:reply-to;
 bh=LVkKwCgE+6+JS1EckwAcULxA3EmLgmZJ5z5V2b4fY68=;
 b=GhV1ts5WCPD+BDh3HUGRsJuqMYbne4qFk7+G+An34pCil6XzT3ZzRfJIggVOsKUqNc
 JFEizCmJCAyGJntqis+3K/dbJyi5O6iW+oxtBXPkByGXUUfhZh3deIkcWU9dGvWx9kJz
 lRD8S4RmoIlHftjcHL3yEH6REpi3b8khi0fnM=
X-Google-DKIM-Signature: v=1; a=rsa-sha256; c=relaxed/relaxed;
 d=1e100.net; s=20230601; t=1740805783; x=1741410583;
 h=references:in-reply-to:cc:to:from:subject:message-id:date
 :x-gm-message-state:from:to:cc:subject:date:message-id:reply-to;
 bh=LVkKwCgE+6+JS1EckwAcULxA3EmLgmZJ5z5V2b4fY68=;
 b=j5iAImWSJuN9l+UTUAsQA6EbfmI6QFV6bBCcRLn6thmAvLVj9ywxLcGywpaEAa9/1g
 PSTBPQTlIolmgffYpE1qUr2dYl3MmnU8ntpgFC4O+Z7mNvIR41UNQUjSDwv5IQ+JZEcM
 dgLvAfPzKIECu1/yyDFWF3/zLkTK+VWEBkDLV1gI++P3NF4Er7dlJVrMUF30H63BoxA7
 Z6ysH24EARNBmRX6lujh9HpBAy6Qs0pXvHwRaX7+VPY37fFAXknwy1Jn9rPxxCDEfeY9
 yoXuhFMG1+Ja+0/XaFjVFez+45gYcR1oBM3zupNWluTg8RONgN0Vob1TEmtfnAfiL5SX
 5qWg==
X-Gm-Message-State: AOJu0Yxsw4lIPfQh9uta310D8w0Hn1AoyEmZ0BDLuUdaZUQeSBpATCvC
 iWiYzY3h7VhiNhEPtXOzzjXS7F6nHFQRTrZHdSraWluRl36olDUzVaSOKIpHSP6Ymtz1lmTADJ/
 hGA4fKrAFQ7yK8sD5CgNuddMKSUn30OME6BNDWRxZ
X-Gm-Gg: ASbGncvsP+P/VRRj7ZKz4pYum44H/ZXctKblD42fwC0mNyH6IsIAWtqxg/n8slpp4Fh
 UHHXTJsBcBgYat83+VheBdQp/DzH5kLwB9xXdmnJiW/56MyPdAzqI6345ptom6pOp9l0ltiYEtf
 6HURKv5BoxT32bYPzOFRwD0AerJV7XUc3ReHCPWIBv2WT7toD9MzxdFHuyAB8qDsOHDZn+CbUfF
 HbgB1bmNZKBKUEfh16Eurg5LsTCneSMr4JdPiXhwWM2iCIsLXX6gbNf2xqkQmIGIBJJZ8AvKJEf
 rLxrD4Uhoc6vzD54J3nb8rmoaZ1ZyjB8Tt86PIV7
X-Google-Smtp-Source: AGHT+IEdtjKnw3vpsA0yIHlPRUzFxCd8tT3xJAcs45mRcNZcu/9Jf8PidixxBY2AuxMtUsHdqeLy7Iw1xN/d
X-Received: by 2002:a05:6e02:12c4:b0:3cf:c773:6992 with SMTP id
 e9e14a558f8ab-3d3e6e91d8cmr74082035ab.12.1740805783272; 
 Fri, 28 Feb 2025 21:09:43 -0800 (PST)
Received: from postal.iol.unh.edu (postal.iol.unh.edu. [132.177.123.84])
 by smtp-relay.gmail.com with ESMTPS id
 e9e14a558f8ab-3d3f0c7fad1sm1043125ab.27.2025.02.28.21.09.43
 (version=TLS1_2 cipher=ECDHE-ECDSA-AES128-GCM-SHA256 bits=128/128);
 Fri, 28 Feb 2025 21:09:43 -0800 (PST)
X-Relaying-Domain: iol.unh.edu
Date: Fri, 28 Feb 2025 21:09:43 -0800 (PST)
Message-ID: <67c29697.050a0220.1494be.5b91SMTPIN_ADDED_MISSING@mx.google.com>
Received: from [172.21.0.7] (unknown [172.18.0.240])
 by postal.iol.unh.edu (Postfix) with ESMTP id AA9336052471;
 Sat,  1 Mar 2025 00:09:42 -0500 (EST)
Subject: |SUCCESS| pw152154-152159 [PATCH] [v9,6/6] examples/vhost_crypto: su
From: dpdklab@iol.unh.edu
To: Test Report <test-report@dpdk.org>
Cc: dpdk-test-reports@iol.unh.edu
In-Reply-To: <e491d41c2ddde35e6568f6a460310c3e33b9d183.1740749809.git.gmuthukrishn@marvell.com>
References: <e491d41c2ddde35e6568f6a460310c3e33b9d183.1740749809.git.gmuthukrishn@marvell.com>
Content-Type: text/plain
X-BeenThere: test-report@dpdk.org
X-Mailman-Version: 2.1.29
Precedence: list
List-Id: automatic DPDK test reports <test-report.dpdk.org>
List-Unsubscribe: <https://mails.dpdk.org/options/test-report>,
 <mailto:test-report-request@dpdk.org?subject=unsubscribe>
List-Archive: <http://mails.dpdk.org/archives/test-report/>
List-Post: <mailto:test-report@dpdk.org>
List-Help: <mailto:test-report-request@dpdk.org?subject=help>
List-Subscribe: <https://mails.dpdk.org/listinfo/test-report>,
 <mailto:test-report-request@dpdk.org?subject=subscribe>
Errors-To: test-report-bounces@dpdk.org

Test-Label: iol-compile-amd64-testing
Test-Status: SUCCESS
http://dpdk.org/patch/152159

_Testing PASS_

Submitter: Gowrishankar Muthukrishnan <gmuthukrishn@marvell.com>
Date: Friday, February 28 2025 13:47:13 
DPDK git baseline: Repo:dpdk
  Branch: master
  CommitID:fab31a03ba98e7457284df95dd9eef2223a4ccaa

152154-152159 --> testing pass

Upstream job id: Windows-Compile-DPDK-VS#5102

Test environment and result as below:

+---------------------+--------------------+-------------------+------------------+-------------------+
|     Environment     | dpdk_meson_compile | dpdk_compile_spdk | dpdk_compile_ovs | dpdk_msvc_compile |
+=====================+====================+===================+==================+===================+
| CentOS Stream 9     | PASS               | PASS              | SKIPPED          | SKIPPED           |
+---------------------+--------------------+-------------------+------------------+-------------------+
| CentOS Stream 10    | PASS               | SKIPPED           | SKIPPED          | SKIPPED           |
+---------------------+--------------------+-------------------+------------------+-------------------+
| Debian Bullseye     | PASS               | PASS              | SKIPPED          | SKIPPED           |
+---------------------+--------------------+-------------------+------------------+-------------------+
| Debian 12           | PASS               | PASS              | SKIPPED          | SKIPPED           |
+---------------------+--------------------+-------------------+------------------+-------------------+
| Fedora 40           | PASS               | PASS              | SKIPPED          | SKIPPED           |
+---------------------+--------------------+-------------------+------------------+-------------------+
| Fedora 41 (Clang)   | PASS               | PASS              | PASS             | SKIPPED           |
+---------------------+--------------------+-------------------+------------------+-------------------+
| Fedora 40 (Clang)   | PASS               | PASS              | SKIPPED          | SKIPPED           |
+---------------------+--------------------+-------------------+------------------+-------------------+
| Fedora 41           | PASS               | PASS              | PASS             | SKIPPED           |
+---------------------+--------------------+-------------------+------------------+-------------------+
| openSUSE Leap 15    | PASS               | SKIPPED           | SKIPPED          | SKIPPED           |
+---------------------+--------------------+-------------------+------------------+-------------------+
| RHEL8               | PASS               | SKIPPED           | SKIPPED          | SKIPPED           |
+---------------------+--------------------+-------------------+------------------+-------------------+
| Ubuntu 22.04        | PASS               | PASS              | SKIPPED          | SKIPPED           |
+---------------------+--------------------+-------------------+------------------+-------------------+
| Ubuntu 24.04        | PASS               | PASS              | PASS             | SKIPPED           |
+---------------------+--------------------+-------------------+------------------+-------------------+
| Alpine              | PASS               | SKIPPED           | SKIPPED          | SKIPPED           |
+---------------------+--------------------+-------------------+------------------+-------------------+
| FreeBSD 13.4        | PASS               | SKIPPED           | SKIPPED          | SKIPPED           |
+---------------------+--------------------+-------------------+------------------+-------------------+
| FreeBSD 14.2        | PASS               | SKIPPED           | SKIPPED          | SKIPPED           |
+---------------------+--------------------+-------------------+------------------+-------------------+
| Ubuntu 20.04        | PASS               | SKIPPED           | SKIPPED          | SKIPPED           |
+---------------------+--------------------+-------------------+------------------+-------------------+
| RHEL9               | PASS               | SKIPPED           | SKIPPED          | SKIPPED           |
+---------------------+--------------------+-------------------+------------------+-------------------+
| Windows Server 2022 | SKIPPED            | SKIPPED           | SKIPPED          | PASS              |
+---------------------+--------------------+-------------------+------------------+-------------------+


CentOS Stream 9
	Kernel: Depends on container host
	Compiler: gcc 11.5.0 20240719 (Red Hat 11.5.0-2)

CentOS Stream 10
	Kernel: Depends on container host
	Compiler: gcc 14.2.1 20241104 (Red Hat 14.2.1-6)

Debian Bullseye
	Kernel: Depends on container host
	Compiler: gcc (Debian 10.2.1-6) 10.2.1 20210110

Debian 12
	Kernel: Depends on container host
	Compiler: gcc (Debian 12.2.0-14) 12.2.0

Fedora 40
	Kernel: Depends on container host
	Compiler: gcc 14.2.1 20240912 (Red Hat 14.2.1-3)

Fedora 41 (Clang)
	Kernel: Depends on container host
	Compiler: clang 19.1.5 (Fedora 19.1.5-1.fc41)

Fedora 40 (Clang)
	Kernel: Depends on container host
	Compiler: clang 18.1.8 (Fedora 18.1.8-1.fc40)

Fedora 41
	Kernel: Depends on container host
	Compiler: gcc 14.2.1 20240912 (Red Hat 14.2.1-3)

openSUSE Leap 15
	Kernel: Depends on container host
	Compiler: gcc (SUSE Linux) 7.5.0

RHEL8
	Kernel: Depends on container host
	Compiler: gcc 8.5.0 20210514 (Red Hat 8.5.0-22)

Ubuntu 22.04
	Kernel: Depends on container host
	Compiler: gcc (Ubuntu 11.4.0-1ubuntu1~22.04) 11.4.0

Ubuntu 24.04
	Kernel: Depends on container host
	Compiler: gcc (Ubuntu 13.3.0-6ubuntu2~24.04) 13.3.0

Alpine
	Kernel: Depends on container host
	Compiler: gcc (Alpine 14.2.0) 14.2.0

FreeBSD 13.4
	Kernel: 13.4-RELEASE-p1
	Compiler: clang 18.1.6

FreeBSD 14.2
	Kernel: 14.2-RELEASE
	Compiler: clang 18.1.6

Ubuntu 20.04
	Kernel: Depends on container host
	Compiler: gcc (Ubuntu 9.4.0-1ubuntu1~20.04.2) 9.4.0

RHEL9
	Kernel: Depends on container host
	Compiler: gcc 11.5.0 20240719 (Red Hat 11.5.0-2)

Windows Server 2022
	Kernel: 10.0.20348.2031
	Compiler: clang 15.0.7, gcc 14.1.0 (MinGW), and MSVC VS 19.39.33521

To view detailed results, visit:
https://lab.dpdk.org/results/dashboard/patchsets/32717/

UNH-IOL DPDK Community Lab

To manage your email subscriptions, visit: 
https://lab.dpdk.org/results/dashboard/preferences/subscriptions/