From mboxrd@z Thu Jan  1 00:00:00 1970
Return-Path: <test-report-bounces@dpdk.org>
Received: from mails.dpdk.org (mails.dpdk.org [217.70.189.124])
	by inbox.dpdk.org (Postfix) with ESMTP id B990A462EF
	for <public@inbox.dpdk.org>; Sat,  1 Mar 2025 07:22:37 +0100 (CET)
Received: from mails.dpdk.org (localhost [127.0.0.1])
	by mails.dpdk.org (Postfix) with ESMTP id B5782402A9;
	Sat,  1 Mar 2025 07:22:37 +0100 (CET)
Received: from mail-qv1-f100.google.com (mail-qv1-f100.google.com
 [209.85.219.100])
 by mails.dpdk.org (Postfix) with ESMTP id B7CAB40281
 for <test-report@dpdk.org>; Sat,  1 Mar 2025 07:22:36 +0100 (CET)
Received: by mail-qv1-f100.google.com with SMTP id
 6a1803df08f44-6e8955479c9so24182906d6.3
 for <test-report@dpdk.org>; Fri, 28 Feb 2025 22:22:36 -0800 (PST)
DKIM-Signature: v=1; a=rsa-sha256; c=relaxed/relaxed;
 d=iol.unh.edu; s=unh-iol; t=1740810156; x=1741414956; darn=dpdk.org;
 h=cc:to:from:subject:message-id:date:from:to:cc:subject:date
 :message-id:reply-to;
 bh=MhInPHCwPdouLy7Po9MWCiucDkR8sro2mQiYem3Ks3U=;
 b=Nt6JHYJ35f+LHVfgN3DCUXJiYDOCocglyemVd+FUPEXfUG2DTfXYKrA477hPVUCgfj
 QPwFvMvfZH1YJyTqUVCZjiSEQiZeh68tcHA1J1XoSej9o5EV4QdHrkQR0KJo+C0SOFUF
 HVCGXmLdMVF6sjMW++RH46P2IukI4BG1p6lAg=
X-Google-DKIM-Signature: v=1; a=rsa-sha256; c=relaxed/relaxed;
 d=1e100.net; s=20230601; t=1740810156; x=1741414956;
 h=cc:to:from:subject:message-id:date:x-gm-message-state:from:to:cc
 :subject:date:message-id:reply-to;
 bh=MhInPHCwPdouLy7Po9MWCiucDkR8sro2mQiYem3Ks3U=;
 b=rZSbi0UCmSF/LyzIsNsSNSkeWQNQ4XDFElVCepwDVvK2Hh8HqQ38wbt+5jEzOZC2fj
 HLA/jSIcAzQLxdK1yIGlL0vxksvp/NHufhR1/j85dayVvmW9bQAgucoykIXoRXISEpA7
 0ZaFqnbN4X94QV+GWeSbanPWrBMcHPz2YYfA2jrXM0wBHCIXtn5RXBQCgroX89ZisEeU
 E+phyD+gHGrkpeqHKyAYEr+14kAaPZcrIxdPXLbUb8kkMgTSfqk0PmeXfUajkvMQ64aY
 E6VqRpOHxIabk6P9f22ptUwMNbNR8xTwKbZirCjYkwIBEN6KuD6+eEprkr1Hr6piWlzq
 WSCQ==
X-Gm-Message-State: AOJu0YyhGpZ9f7Mv2Lnr2YpGeKvLy1T7e+rTWMMGXgCXLiPNgaR0Spku
 Y7SO0w39lsraehO4bVz8FZC8wHseL23daDR0jeC9/q0HjtW6dfnsnPWO2+XRyKGXyeWCyTPDY5a
 vTegnoySO8CnRFNOv8fxJ+8gP7wZAwSZ+
X-Gm-Gg: ASbGncu50Y3r2p3gG+2Wuha9G5JstOvTact5C/jD8DBBil1Wvx//6QH7l3XOqFSUTkZ
 qLHughyyO05rESqze2n7e0Gfy1pnRQXe7zhRQK8KX45K1cTsLFL+5D9wobzvsJ4QPbjYWaDexv6
 o87a35pBO/Sj73GMxweVt70Ynqyy1rdSAkJjmdkmPQxEYOGwKqA4SVLZVn3TjuALYrGWVMCdJRL
 WkpPA+8TxjqX+y2rFNeUvW345pcH9lJ6MfHJ+me+cfKw83A1bz59EBl1D2TcNuDwByAuv2rPmKB
 Bbbi/V3/Ko2hEnfRJxb590mOPP7CsXGEeKL5L6B3
X-Google-Smtp-Source: AGHT+IFU8WfNq4zdfDjDbXofjXpYJdxekfMO9zHBfxnNTYjLSMrZeQc+uoE/K2A/tYuGrBRjZCCuHi0hzNxE
X-Received: by 2002:a05:6214:2aa5:b0:6e6:656f:3c3f with SMTP id
 6a1803df08f44-6e8a0cb1f2emr77299616d6.11.1740810156071; 
 Fri, 28 Feb 2025 22:22:36 -0800 (PST)
Received: from postal.iol.unh.edu (postal.iol.unh.edu. [132.177.123.84])
 by smtp-relay.gmail.com with ESMTPS id
 6a1803df08f44-6e89760338fsm2210806d6.20.2025.02.28.22.22.36
 (version=TLS1_2 cipher=ECDHE-ECDSA-AES128-GCM-SHA256 bits=128/128);
 Fri, 28 Feb 2025 22:22:36 -0800 (PST)
X-Relaying-Domain: iol.unh.edu
Date: Fri, 28 Feb 2025 22:22:36 -0800 (PST)
Message-ID: <67c2a7ac.050a0220.253a9.ca21SMTPIN_ADDED_MISSING@mx.google.com>
Received: from [172.21.0.7] (unknown [172.18.0.240])
 by postal.iol.unh.edu (Postfix) with ESMTP id A5BF76052471;
 Sat,  1 Mar 2025 01:22:34 -0500 (EST)
Subject: |SUCCESS| [GIT MASTER] c66daa12e76d7b4912cfb7109a761856a7a873ab
From: dpdklab@iol.unh.edu
To: Test Report <test-report@dpdk.org>
Cc: dpdk-test-reports@iol.unh.edu, Xueming Li <xuemingl@nvidia.com>,
 Christian Ehrhardt <christian.ehrhardt@canonical.com>,
 Kevin Traynor <ktraynor@redhat.com>, Luca Boccassi <bluca@debian.org>
Content-Type: text/plain
X-BeenThere: test-report@dpdk.org
X-Mailman-Version: 2.1.29
Precedence: list
List-Id: automatic DPDK test reports <test-report.dpdk.org>
List-Unsubscribe: <https://mails.dpdk.org/options/test-report>,
 <mailto:test-report-request@dpdk.org?subject=unsubscribe>
List-Archive: <http://mails.dpdk.org/archives/test-report/>
List-Post: <mailto:test-report@dpdk.org>
List-Help: <mailto:test-report-request@dpdk.org?subject=help>
List-Subscribe: <https://mails.dpdk.org/listinfo/test-report>,
 <mailto:test-report-request@dpdk.org?subject=subscribe>
Errors-To: test-report-bounces@dpdk.org

_Testing PASS_

Branch: tags/v23.11

c66daa12e76d7b4912cfb7109a761856a7a873ab --> testing pass

Upstream job id: Generic-VM-Unit-Test-DPDK#27418

Test environment and result as below:

+---------------------+----------------+
|     Environment     | dpdk_unit_test |
+=====================+================+
| CentOS Stream 9     | PASS           |
+---------------------+----------------+
| CentOS Stream 10    | PASS           |
+---------------------+----------------+
| Debian 12           | PASS           |
+---------------------+----------------+
| Fedora 40 (Clang)   | PASS           |
+---------------------+----------------+
| Debian Bullseye     | PASS           |
+---------------------+----------------+
| Fedora 41           | PASS           |
+---------------------+----------------+
| Fedora 41 (Clang)   | PASS           |
+---------------------+----------------+
| Fedora 40           | PASS           |
+---------------------+----------------+
| RHEL9               | PASS           |
+---------------------+----------------+
| Ubuntu 20.04        | PASS           |
+---------------------+----------------+
| RHEL8               | PASS           |
+---------------------+----------------+
| Ubuntu 24.04        | PASS           |
+---------------------+----------------+
| Ubuntu 22.04        | PASS           |
+---------------------+----------------+
| Windows Server 2022 | PASS           |
+---------------------+----------------+


CentOS Stream 9
	Kernel: Depends on container host
	Compiler: gcc 11.5.0 20240719 (Red Hat 11.5.0-2)

CentOS Stream 10
	Kernel: Depends on container host
	Compiler: gcc 14.2.1 20241104 (Red Hat 14.2.1-6)

Debian 12
	Kernel: Depends on container host
	Compiler: gcc (Debian 12.2.0-14) 12.2.0

Fedora 40 (Clang)
	Kernel: Depends on container host
	Compiler: clang 18.1.8 (Fedora 18.1.8-1.fc40)

Debian Bullseye
	Kernel: Depends on container host
	Compiler: gcc (Debian 10.2.1-6) 10.2.1 20210110

Fedora 41
	Kernel: Depends on container host
	Compiler: gcc 14.2.1 20240912 (Red Hat 14.2.1-3)

Fedora 41 (Clang)
	Kernel: Depends on container host
	Compiler: clang 19.1.5 (Fedora 19.1.5-1.fc41)

Fedora 40
	Kernel: Depends on container host
	Compiler: gcc 14.2.1 20240912 (Red Hat 14.2.1-3)

RHEL9
	Kernel: Depends on container host
	Compiler: gcc 11.5.0 20240719 (Red Hat 11.5.0-2)

Ubuntu 20.04
	Kernel: Depends on container host
	Compiler: gcc (Ubuntu 9.4.0-1ubuntu1~20.04.2) 9.4.0

RHEL8
	Kernel: Depends on container host
	Compiler: gcc 8.5.0 20210514 (Red Hat 8.5.0-22)

Ubuntu 24.04
	Kernel: Depends on container host
	Compiler: gcc (Ubuntu 13.3.0-6ubuntu2~24.04) 13.3.0

Ubuntu 22.04
	Kernel: Depends on container host
	Compiler: gcc (Ubuntu 11.4.0-1ubuntu1~22.04) 11.4.0

Windows Server 2022
	Kernel: 10.0.20348.2031
	Compiler: clang 15.0.7, gcc 14.1.0 (MinGW), and MSVC VS 19.39.33521

To view detailed results, visit:
https://lab.dpdk.org/results/dashboard/tarballs/32777/

UNH-IOL DPDK Community Lab

To manage your email subscriptions, visit: 
https://lab.dpdk.org/results/dashboard/preferences/subscriptions/