From mboxrd@z Thu Jan  1 00:00:00 1970
Return-Path: <test-report-bounces@dpdk.org>
Received: from mails.dpdk.org (mails.dpdk.org [217.70.189.124])
	by inbox.dpdk.org (Postfix) with ESMTP id F0740462EF
	for <public@inbox.dpdk.org>; Sat,  1 Mar 2025 08:49:35 +0100 (CET)
Received: from mails.dpdk.org (localhost [127.0.0.1])
	by mails.dpdk.org (Postfix) with ESMTP id E944A402A9;
	Sat,  1 Mar 2025 08:49:35 +0100 (CET)
Received: from mail-pl1-f226.google.com (mail-pl1-f226.google.com
 [209.85.214.226])
 by mails.dpdk.org (Postfix) with ESMTP id 1102B402A9
 for <test-report@dpdk.org>; Sat,  1 Mar 2025 08:49:35 +0100 (CET)
Received: by mail-pl1-f226.google.com with SMTP id
 d9443c01a7336-2234e5347e2so59384435ad.1
 for <test-report@dpdk.org>; Fri, 28 Feb 2025 23:49:34 -0800 (PST)
DKIM-Signature: v=1; a=rsa-sha256; c=relaxed/relaxed;
 d=iol.unh.edu; s=unh-iol; t=1740815374; x=1741420174; darn=dpdk.org;
 h=cc:to:from:subject:message-id:date:from:to:cc:subject:date
 :message-id:reply-to;
 bh=kTTqQlBO1d/UXm4HEnu34HS6uSBrkc48EcbKMt+jOLM=;
 b=JssZn7whuIQ61UzRSrfXBpzyrlgFRLl/PVscYvxfINWg10zGQmmqSldGDDxfgaS0ue
 EHjKkXulI4Zc74Ed+pBabV0B+wHcL36m74pZS7tAWMHZAiRrwQ5jG8K33cKT9ZcWXfTh
 y3OMz+FfqICL1tKapg8QxnrgLXFaMaoV1HNCo=
X-Google-DKIM-Signature: v=1; a=rsa-sha256; c=relaxed/relaxed;
 d=1e100.net; s=20230601; t=1740815374; x=1741420174;
 h=cc:to:from:subject:message-id:date:x-gm-message-state:from:to:cc
 :subject:date:message-id:reply-to;
 bh=kTTqQlBO1d/UXm4HEnu34HS6uSBrkc48EcbKMt+jOLM=;
 b=Lu/7lr4WVkly/XOH3KQquBgNEwn+oLok5Xu9f3hnQIAnvBxJwC9+8zOD0kgZs8ej5m
 aQVm8BWNO33N49hfpyVu1VN7crowSFLmnNJv9Yqv4io3T8jSzVaqg4zikWoVxRAeEAtA
 iaR/PomfdSKn28Y0zE6OCOYxRbiRrn2hJBtrf1tvHm7cvUH2cNvsB03v+RoA/QR7416+
 oPD9hbwkxIZytWXwgWv41bNJezi/LFdIIbGdCFo8L0XCl6cbvZ3Pcuv/x+S9bCub+Th2
 hFQxb320TOkB9MpX1WZ22xQiClEGeF9QtBzjcKmFda2YzOKuNEqIZ42qajCr+FjNO6oU
 LSxA==
X-Gm-Message-State: AOJu0YwsB2pXXzkLqzwgWT8r23HHsxwQM6mVGFjQYvEYhOW+1Dl0bQDH
 33fFtYw+LIGVh1NFWk6pLpqpbIxN4UlYf/yEp4nVGZPMKu4J2++YH0cxgpz8vzJItidt9EL2Ncx
 Fmha6Mp92hqxpo7/uYYnIf+Wff2msrlYPUyNBj5Hb6us5wEIN
X-Gm-Gg: ASbGncuONuKQRj31Vjl6SIMr5sRuuSCtQcgCSO2/1hlY5NCPkZM6Lo73vec44QqCi4+
 F43rjPhcDuM/UugLE/0YcsHT04KNFLPXExq/Rja6mvgHk+5KfpBS62HFneYKE2jn8jROQh4cDjS
 AJdZN4b2jorI+NKhOITSjh8p3KRRoQv3OmZzoJktlMJAjvNtQzcO3rP0++7tB6S1vgBz0VMQcDw
 WbB8OfXrC0WMwdkHin9LrLhPyu/sUkY2yY4sT3v0s4GUL3iRwto1fXh/jU/z/vKA1aerCRBDKDd
 ZsmQKGX3eLtanU29ljKr4na5Febl+tiuJ4hdnGxajwv7qXGXY4gG
X-Google-Smtp-Source: AGHT+IFX9BuT7DnnuE/RdkCeIiXIFvSSO2KICUENyCLsUSVl46a2e2A127Tp32HT5c9y/J6fxXY72aLO2MHe
X-Received: by 2002:a17:903:32c8:b0:220:e392:c73 with SMTP id
 d9443c01a7336-22368f949f0mr115873735ad.22.1740815374073; 
 Fri, 28 Feb 2025 23:49:34 -0800 (PST)
Received: from postal.iol.unh.edu (postal.iol.unh.edu.
 [2606:4100:3880:1234::84]) by smtp-relay.gmail.com with ESMTPS id
 d9443c01a7336-223504c0a19sm2463735ad.70.2025.02.28.23.49.33
 (version=TLS1_2 cipher=ECDHE-ECDSA-AES128-GCM-SHA256 bits=128/128);
 Fri, 28 Feb 2025 23:49:34 -0800 (PST)
X-Relaying-Domain: iol.unh.edu
Date: Fri, 28 Feb 2025 23:49:34 -0800 (PST)
Message-ID: <67c2bc0e.170a0220.3c026d.d916SMTPIN_ADDED_MISSING@mx.google.com>
Received: from [172.21.0.7] (unknown [172.18.0.240])
 by postal.iol.unh.edu (Postfix) with ESMTP id 3A9356052471;
 Sat,  1 Mar 2025 02:49:33 -0500 (EST)
Subject: |SUCCESS| [GIT MASTER] c66daa12e76d7b4912cfb7109a761856a7a873ab
From: dpdklab@iol.unh.edu
To: Test Report <test-report@dpdk.org>
Cc: dpdk-test-reports@iol.unh.edu, Xueming Li <xuemingl@nvidia.com>,
 Christian Ehrhardt <christian.ehrhardt@canonical.com>,
 Kevin Traynor <ktraynor@redhat.com>, Luca Boccassi <bluca@debian.org>
Content-Type: text/plain
X-BeenThere: test-report@dpdk.org
X-Mailman-Version: 2.1.29
Precedence: list
List-Id: automatic DPDK test reports <test-report.dpdk.org>
List-Unsubscribe: <https://mails.dpdk.org/options/test-report>,
 <mailto:test-report-request@dpdk.org?subject=unsubscribe>
List-Archive: <http://mails.dpdk.org/archives/test-report/>
List-Post: <mailto:test-report@dpdk.org>
List-Help: <mailto:test-report-request@dpdk.org?subject=help>
List-Subscribe: <https://mails.dpdk.org/listinfo/test-report>,
 <mailto:test-report-request@dpdk.org?subject=subscribe>
Errors-To: test-report-bounces@dpdk.org

_Testing PASS_

Branch: tags/v23.11

c66daa12e76d7b4912cfb7109a761856a7a873ab --> testing pass

Upstream job id: Generic-DPDK-Compile-ABI#118554

Test environment and result as below:

+-------------------+----------+
|    Environment    | abi_test |
+===================+==========+
| CentOS Stream 9   | PASS     |
+-------------------+----------+
| Debian Bullseye   | PASS     |
+-------------------+----------+
| CentOS Stream 10  | PASS     |
+-------------------+----------+
| Fedora 41         | PASS     |
+-------------------+----------+
| Fedora 41 (Clang) | PASS     |
+-------------------+----------+
| Fedora 40         | PASS     |
+-------------------+----------+
| Fedora 40 (Clang) | PASS     |
+-------------------+----------+
| Debian 12         | PASS     |
+-------------------+----------+
| RHEL8             | PASS     |
+-------------------+----------+
| openSUSE Leap 15  | PASS     |
+-------------------+----------+
| RHEL9             | PASS     |
+-------------------+----------+
| Ubuntu 22.04      | PASS     |
+-------------------+----------+
| Ubuntu 24.04      | PASS     |
+-------------------+----------+


CentOS Stream 9
	Kernel: Depends on container host
	Compiler: gcc 11.5.0 20240719 (Red Hat 11.5.0-2)

Debian Bullseye
	Kernel: Depends on container host
	Compiler: gcc (Debian 10.2.1-6) 10.2.1 20210110

CentOS Stream 10
	Kernel: Depends on container host
	Compiler: gcc 14.2.1 20241104 (Red Hat 14.2.1-6)

Fedora 41
	Kernel: Depends on container host
	Compiler: gcc 14.2.1 20240912 (Red Hat 14.2.1-3)

Fedora 41 (Clang)
	Kernel: Depends on container host
	Compiler: clang 19.1.5 (Fedora 19.1.5-1.fc41)

Fedora 40
	Kernel: Depends on container host
	Compiler: gcc 14.2.1 20240912 (Red Hat 14.2.1-3)

Fedora 40 (Clang)
	Kernel: Depends on container host
	Compiler: clang 18.1.8 (Fedora 18.1.8-1.fc40)

Debian 12
	Kernel: Depends on container host
	Compiler: gcc (Debian 12.2.0-14) 12.2.0

RHEL8
	Kernel: Depends on container host
	Compiler: gcc 8.5.0 20210514 (Red Hat 8.5.0-22)

openSUSE Leap 15
	Kernel: Depends on container host
	Compiler: gcc (SUSE Linux) 7.5.0

RHEL9
	Kernel: Depends on container host
	Compiler: gcc 11.5.0 20240719 (Red Hat 11.5.0-2)

Ubuntu 22.04
	Kernel: Depends on container host
	Compiler: gcc (Ubuntu 11.4.0-1ubuntu1~22.04) 11.4.0

Ubuntu 24.04
	Kernel: Depends on container host
	Compiler: gcc (Ubuntu 13.3.0-6ubuntu2~24.04) 13.3.0

To view detailed results, visit:
https://lab.dpdk.org/results/dashboard/tarballs/32797/

UNH-IOL DPDK Community Lab

To manage your email subscriptions, visit: 
https://lab.dpdk.org/results/dashboard/preferences/subscriptions/