From mboxrd@z Thu Jan  1 00:00:00 1970
Return-Path: <test-report-bounces@dpdk.org>
Received: from mails.dpdk.org (mails.dpdk.org [217.70.189.124])
	by inbox.dpdk.org (Postfix) with ESMTP id A3BAF462EF
	for <public@inbox.dpdk.org>; Sat,  1 Mar 2025 09:35:45 +0100 (CET)
Received: from mails.dpdk.org (localhost [127.0.0.1])
	by mails.dpdk.org (Postfix) with ESMTP id 7E269402A9;
	Sat,  1 Mar 2025 09:35:45 +0100 (CET)
Received: from mail-pl1-f225.google.com (mail-pl1-f225.google.com
 [209.85.214.225])
 by mails.dpdk.org (Postfix) with ESMTP id 6DF0E40281
 for <test-report@dpdk.org>; Sat,  1 Mar 2025 09:35:43 +0100 (CET)
Received: by mail-pl1-f225.google.com with SMTP id
 d9443c01a7336-219f8263ae0so55216125ad.0
 for <test-report@dpdk.org>; Sat, 01 Mar 2025 00:35:43 -0800 (PST)
DKIM-Signature: v=1; a=rsa-sha256; c=relaxed/relaxed;
 d=iol.unh.edu; s=unh-iol; t=1740818142; x=1741422942; darn=dpdk.org;
 h=references:in-reply-to:cc:to:from:subject:message-id:date:from:to
 :cc:subject:date:message-id:reply-to;
 bh=oz1TRK9BLp2CmhZSLGNKQL0gagezOeiE1HudglLjCqI=;
 b=iDkpUlEtsW7dyAZWOuKKIZJVLD14XiCosTa++OhXsBiI49mBrTZXvZJhbH+wNVECWo
 e7bmwivpcD18nfR1oD02a1rzx87p1DUg0+ND9sI4zWLURADJh79pB+WDhx67SzAaKQ0b
 H8JpzDCEpdC8xXnia4PCcZz1dVBuI7hkgSeJM=
X-Google-DKIM-Signature: v=1; a=rsa-sha256; c=relaxed/relaxed;
 d=1e100.net; s=20230601; t=1740818142; x=1741422942;
 h=references:in-reply-to:cc:to:from:subject:message-id:date
 :x-gm-message-state:from:to:cc:subject:date:message-id:reply-to;
 bh=oz1TRK9BLp2CmhZSLGNKQL0gagezOeiE1HudglLjCqI=;
 b=dF0lg9H+ZVFfeUf/WoGdEmENUb8cgcIQqk1HDc4r6kLX8PpkATFrUz8crm/E0dOePU
 V8oBbo9ntfAzN2AwdadIch9k9F3QgFAa+RHU+pLVFlw+42JYMyf0P6oLv2HO6vxqLIty
 S9643ZccMKjAppv4UvUVZbWS1wTaFGf8ErfkIkHkxIs+qd/v6vmr1ZxMhMuRpnnBiFkm
 Q4lHcwkHtE1/61cqIiA6kMoXZ7Qd1OUQci6Q8HA/wI/55K5eFjRE7OLNlQgSYl2Vgmu0
 TviWRIcxsUlJfXXIvbPSkKPNmKp1KjhieAaA61SMuT2zjdy85VTPG2ysOEzltUjxJJAF
 2GUA==
X-Gm-Message-State: AOJu0YxTJBo3/5bZJZdppknIV2bQdAR72ljlpbGrfIZFxETRsLJkCZ6h
 cSpXDOFMxI88UA42Vlwk4evOIwRFhlYYmowceefbhZ7Y8ufGo/2NPoNI70ta6/8OCiLQcMMcGuW
 ajyHhN30EKFNvVr95rBWFCqjnPUk+iTqdjrSPepa0DvFIAsE4UDUYu0f6
X-Gm-Gg: ASbGncuIwrXRaOZhiXXSO3/TnpYmqHgvbWNZsUdmmery1MjiA6RjLKAvTUu5E4cL2vW
 c1y4VUpaolOo2mx/XEqsBYrm7ZWFcBmIcHydBr9LOedXBercIf77c0xLs/IZb3m42RL2cCW0UXz
 bwfIbh6SM5BBaqzL3WRQFqx13Jt1UHX0B6dReMLquuYC1KDape+Qee/14SFANVzgdAoDxikJ1fG
 9dd44Q52JQRoNYo3CYLROZg8yYnA4ue1wT2PuJa4EdtHhX4gtm5vseurSjWIpmOdAr2o5VTTiji
 1jj1PTe0dkArzt9TQyQ1o2zY9E90emvY4n+t1MmhpMP73Vf/wM/Z
X-Google-Smtp-Source: AGHT+IF10wbr7OIb/QKa2oL+7yhzJc5p595wvMYtumkb8AKNBNszsGDUrAsVTaRUrw+irK54BHRahs8GBOQ5
X-Received: by 2002:a17:903:1252:b0:223:47d9:1964 with SMTP id
 d9443c01a7336-22369213c2dmr96302785ad.34.1740818142548; 
 Sat, 01 Mar 2025 00:35:42 -0800 (PST)
Received: from postal.iol.unh.edu (postal.iol.unh.edu.
 [2606:4100:3880:1234::84]) by smtp-relay.gmail.com with ESMTPS id
 d9443c01a7336-2235020ddf5sm2499445ad.56.2025.03.01.00.35.42
 (version=TLS1_2 cipher=ECDHE-ECDSA-AES128-GCM-SHA256 bits=128/128);
 Sat, 01 Mar 2025 00:35:42 -0800 (PST)
X-Relaying-Domain: iol.unh.edu
Date: Sat, 01 Mar 2025 00:35:42 -0800 (PST)
Message-ID: <67c2c6de.170a0220.390f6f.daf3SMTPIN_ADDED_MISSING@mx.google.com>
Received: from [172.21.0.7] (unknown [172.18.0.240])
 by postal.iol.unh.edu (Postfix) with ESMTP id EA2F16052471;
 Sat,  1 Mar 2025 03:35:41 -0500 (EST)
Subject: |SUCCESS| pw152162-152163 [PATCH] [v1,2/2] test/bbdev: update to fft
From: dpdklab@iol.unh.edu
To: Test Report <test-report@dpdk.org>
Cc: dpdk-test-reports@iol.unh.edu
In-Reply-To: <20250228165022.480453-3-nicolas.chautru@intel.com>
References: <20250228165022.480453-3-nicolas.chautru@intel.com>
Content-Type: text/plain
X-BeenThere: test-report@dpdk.org
X-Mailman-Version: 2.1.29
Precedence: list
List-Id: automatic DPDK test reports <test-report.dpdk.org>
List-Unsubscribe: <https://mails.dpdk.org/options/test-report>,
 <mailto:test-report-request@dpdk.org?subject=unsubscribe>
List-Archive: <http://mails.dpdk.org/archives/test-report/>
List-Post: <mailto:test-report@dpdk.org>
List-Help: <mailto:test-report-request@dpdk.org?subject=help>
List-Subscribe: <https://mails.dpdk.org/listinfo/test-report>,
 <mailto:test-report-request@dpdk.org?subject=subscribe>
Errors-To: test-report-bounces@dpdk.org

Test-Label: iol-compile-amd64-testing
Test-Status: SUCCESS
http://dpdk.org/patch/152163

_Testing PASS_

Submitter: Chautru, Nicolas <nicolas.chautru@intel.com>
Date: Friday, February 28 2025 16:50:22 
DPDK git baseline: Repo:dpdk
  Branch: master
  CommitID:07e3bebf3c93750c52ed9be87edd212fbc22da0a

152162-152163 --> testing pass

Upstream job id: Windows-Compile-DPDK-VS#5105

Test environment and result as below:

+---------------------+--------------------+-------------------+------------------+-------------------+
|     Environment     | dpdk_meson_compile | dpdk_compile_spdk | dpdk_compile_ovs | dpdk_msvc_compile |
+=====================+====================+===================+==================+===================+
| CentOS Stream 9     | PASS               | PASS              | SKIPPED          | SKIPPED           |
+---------------------+--------------------+-------------------+------------------+-------------------+
| Debian Bullseye     | PASS               | PASS              | SKIPPED          | SKIPPED           |
+---------------------+--------------------+-------------------+------------------+-------------------+
| Fedora 40 (Clang)   | PASS               | PASS              | SKIPPED          | SKIPPED           |
+---------------------+--------------------+-------------------+------------------+-------------------+
| Debian 12           | PASS               | PASS              | SKIPPED          | SKIPPED           |
+---------------------+--------------------+-------------------+------------------+-------------------+
| Fedora 40           | PASS               | PASS              | SKIPPED          | SKIPPED           |
+---------------------+--------------------+-------------------+------------------+-------------------+
| Fedora 41 (Clang)   | PASS               | PASS              | PASS             | SKIPPED           |
+---------------------+--------------------+-------------------+------------------+-------------------+
| Fedora 41           | PASS               | PASS              | PASS             | SKIPPED           |
+---------------------+--------------------+-------------------+------------------+-------------------+
| openSUSE Leap 15    | PASS               | SKIPPED           | SKIPPED          | SKIPPED           |
+---------------------+--------------------+-------------------+------------------+-------------------+
| RHEL8               | PASS               | SKIPPED           | SKIPPED          | SKIPPED           |
+---------------------+--------------------+-------------------+------------------+-------------------+
| RHEL9               | PASS               | SKIPPED           | SKIPPED          | SKIPPED           |
+---------------------+--------------------+-------------------+------------------+-------------------+
| Ubuntu 20.04        | PASS               | SKIPPED           | SKIPPED          | SKIPPED           |
+---------------------+--------------------+-------------------+------------------+-------------------+
| Ubuntu 22.04        | PASS               | PASS              | SKIPPED          | SKIPPED           |
+---------------------+--------------------+-------------------+------------------+-------------------+
| Ubuntu 24.04        | PASS               | PASS              | PASS             | SKIPPED           |
+---------------------+--------------------+-------------------+------------------+-------------------+
| Alpine              | PASS               | SKIPPED           | SKIPPED          | SKIPPED           |
+---------------------+--------------------+-------------------+------------------+-------------------+
| FreeBSD 13.4        | PASS               | SKIPPED           | SKIPPED          | SKIPPED           |
+---------------------+--------------------+-------------------+------------------+-------------------+
| FreeBSD 14.2        | PASS               | SKIPPED           | SKIPPED          | SKIPPED           |
+---------------------+--------------------+-------------------+------------------+-------------------+
| Windows Server 2022 | SKIPPED            | SKIPPED           | SKIPPED          | PASS              |
+---------------------+--------------------+-------------------+------------------+-------------------+


CentOS Stream 9
	Kernel: Depends on container host
	Compiler: gcc 11.5.0 20240719 (Red Hat 11.5.0-2)

Debian Bullseye
	Kernel: Depends on container host
	Compiler: gcc (Debian 10.2.1-6) 10.2.1 20210110

Fedora 40 (Clang)
	Kernel: Depends on container host
	Compiler: clang 18.1.8 (Fedora 18.1.8-1.fc40)

Debian 12
	Kernel: Depends on container host
	Compiler: gcc (Debian 12.2.0-14) 12.2.0

Fedora 40
	Kernel: Depends on container host
	Compiler: gcc 14.2.1 20240912 (Red Hat 14.2.1-3)

Fedora 41 (Clang)
	Kernel: Depends on container host
	Compiler: clang 19.1.5 (Fedora 19.1.5-1.fc41)

Fedora 41
	Kernel: Depends on container host
	Compiler: gcc 14.2.1 20240912 (Red Hat 14.2.1-3)

openSUSE Leap 15
	Kernel: Depends on container host
	Compiler: gcc (SUSE Linux) 7.5.0

RHEL8
	Kernel: Depends on container host
	Compiler: gcc 8.5.0 20210514 (Red Hat 8.5.0-22)

RHEL9
	Kernel: Depends on container host
	Compiler: gcc 11.5.0 20240719 (Red Hat 11.5.0-2)

Ubuntu 20.04
	Kernel: Depends on container host
	Compiler: gcc (Ubuntu 9.4.0-1ubuntu1~20.04.2) 9.4.0

Ubuntu 22.04
	Kernel: Depends on container host
	Compiler: gcc (Ubuntu 11.4.0-1ubuntu1~22.04) 11.4.0

Ubuntu 24.04
	Kernel: Depends on container host
	Compiler: gcc (Ubuntu 13.3.0-6ubuntu2~24.04) 13.3.0

Alpine
	Kernel: Depends on container host
	Compiler: gcc (Alpine 14.2.0) 14.2.0

FreeBSD 13.4
	Kernel: 13.4-RELEASE-p1
	Compiler: clang 18.1.6

FreeBSD 14.2
	Kernel: 14.2-RELEASE
	Compiler: clang 18.1.6

Windows Server 2022
	Kernel: 10.0.20348.2031
	Compiler: clang 15.0.7, gcc 14.1.0 (MinGW), and MSVC VS 19.39.33521

To view detailed results, visit:
https://lab.dpdk.org/results/dashboard/patchsets/32720/

UNH-IOL DPDK Community Lab

To manage your email subscriptions, visit: 
https://lab.dpdk.org/results/dashboard/preferences/subscriptions/