From mboxrd@z Thu Jan  1 00:00:00 1970
Return-Path: <test-report-bounces@dpdk.org>
Received: from mails.dpdk.org (mails.dpdk.org [217.70.189.124])
	by inbox.dpdk.org (Postfix) with ESMTP id CF23F462F3
	for <public@inbox.dpdk.org>; Sat,  1 Mar 2025 12:19:09 +0100 (CET)
Received: from mails.dpdk.org (localhost [127.0.0.1])
	by mails.dpdk.org (Postfix) with ESMTP id A320F40281;
	Sat,  1 Mar 2025 12:19:09 +0100 (CET)
Received: from mail-qv1-f100.google.com (mail-qv1-f100.google.com
 [209.85.219.100])
 by mails.dpdk.org (Postfix) with ESMTP id D67E840280
 for <test-report@dpdk.org>; Sat,  1 Mar 2025 12:19:07 +0100 (CET)
Received: by mail-qv1-f100.google.com with SMTP id
 6a1803df08f44-6e891e447dcso32882706d6.2
 for <test-report@dpdk.org>; Sat, 01 Mar 2025 03:19:07 -0800 (PST)
DKIM-Signature: v=1; a=rsa-sha256; c=relaxed/relaxed;
 d=iol.unh.edu; s=unh-iol; t=1740827947; x=1741432747; darn=dpdk.org;
 h=cc:to:from:subject:message-id:date:from:to:cc:subject:date
 :message-id:reply-to;
 bh=3+M64Pbouii2wI11BqfR/wH9JCw7l1vuqiY1keLQUlE=;
 b=P1daNdfhF/mPllq5QxQy1lpTC12zKmvCjFjiUE6Oy48CQD/SJ/PkOHHkSB1fVAm5An
 843CVKUAnrYSR8QLuHUe3uefEebMXlBUag9IBlOhI+fX7WuHiJMahNHev4PpobBqSoCO
 xPAzs/tIbz8imQ5XnwUbfpwgv6xVnZvQj1ZSI=
X-Google-DKIM-Signature: v=1; a=rsa-sha256; c=relaxed/relaxed;
 d=1e100.net; s=20230601; t=1740827947; x=1741432747;
 h=cc:to:from:subject:message-id:date:x-gm-message-state:from:to:cc
 :subject:date:message-id:reply-to;
 bh=3+M64Pbouii2wI11BqfR/wH9JCw7l1vuqiY1keLQUlE=;
 b=dLL2XGEdIEQZn9HeRPXnMPXnur/pqqSTgpvRV1/28jiycdUt/e0/4ymlFWKxd0kCIC
 doUdqU1VPRpoVnZSHj9E3uYs6CG0YfdWXCiJeM4UJZRVY8UZM56UNc+NOYkNMMYv69US
 kf1uRGOQrZ24MoGP+yZDVljV61IRhoe/gb7DMYCyxWUix2ItDBjnf5VdeqrdYuzaFvLz
 9EXmBB0rNmUxQ6xthsv0rwre5w8+X8EzgHHUTz9LEHehvsZ/ogPYotwH7G3GcRBdk2/8
 y3hPYVcVTwvDgCLkw3zLTzNHclZNORDZmPO0GLLbwlO4nTXxoToq+wsi4Gp6sCfqvSxn
 EvBA==
X-Gm-Message-State: AOJu0YxfOFmDcNtLPbRKt9wqbm65UNn4C6tQ77UmmOTLuv0x44aUb4bf
 KoJXDSW0mP8elFPe1KAWnRjgwQgS41Ls/jIoaLs8NYvnGUscwTgtNVFLOJux+9xukllxWMR85BB
 /azjEYvn41bilRQtQM7MSSyMY+c3r/NvAx/Hn3mkXfJGq8vJ4
X-Gm-Gg: ASbGncv1vcyxrvtznr1OEeJJ2o7dxH4iJkduBc9zq81wCppXDriqDWCw1kDTN3rkluV
 Wft5q4wSLFWWZ6naSMBgk1CujR0LzjvtZ6oAZV9Y93gOyXhPgpgBQiJmysdwZjxSPUt3b92tO0D
 kwqp+G5UFObu/vtMxfetkxQkezGT9j+xXTBog2zukVDOYY8vsPCDtR0OPC/f0zPbdyNA/LL/axI
 LZrZRiZvkmMf9PLzpAiPZF6YE1EYe1uuCFcsDvJqX8eXvucKpAkNKDuiSbSvlX8yNDIJMXr79vI
 93wvXiyFFFRfTDiIbIsdeo591UHoIbwj8CPoTMVCd+5b6gif1/EN
X-Google-Smtp-Source: AGHT+IGXtGti+9hgYDUKInPy/+Vnbs4XuLBR1aI6esQxwodyYziog9D65zok6INBHTsu/n6B76IBaTLUNfZA
X-Received: by 2002:a05:6214:21e7:b0:6d8:850a:4d6a with SMTP id
 6a1803df08f44-6e8a0c801a7mr95544236d6.1.1740827947201; 
 Sat, 01 Mar 2025 03:19:07 -0800 (PST)
Received: from postal.iol.unh.edu (postal.iol.unh.edu.
 [2606:4100:3880:1234::84]) by smtp-relay.gmail.com with ESMTPS id
 6a1803df08f44-6e897678ee0sm2319206d6.46.2025.03.01.03.19.07
 (version=TLS1_2 cipher=ECDHE-ECDSA-AES128-GCM-SHA256 bits=128/128);
 Sat, 01 Mar 2025 03:19:07 -0800 (PST)
X-Relaying-Domain: iol.unh.edu
Date: Sat, 01 Mar 2025 03:19:07 -0800 (PST)
Message-ID: <67c2ed2b.050a0220.3d651.e4b6SMTPIN_ADDED_MISSING@mx.google.com>
Received: from [172.21.0.8] (unknown [172.18.0.240])
 by postal.iol.unh.edu (Postfix) with ESMTP id C8FC36052471;
 Sat,  1 Mar 2025 06:19:06 -0500 (EST)
Subject: |SUCCESS| [GIT MASTER] c66daa12e76d7b4912cfb7109a761856a7a873ab
From: dpdklab@iol.unh.edu
To: Test Report <test-report@dpdk.org>
Cc: dpdk-test-reports@iol.unh.edu, Xueming Li <xuemingl@nvidia.com>,
 Christian Ehrhardt <christian.ehrhardt@canonical.com>,
 Kevin Traynor <ktraynor@redhat.com>, Luca Boccassi <bluca@debian.org>
Content-Type: text/plain
X-BeenThere: test-report@dpdk.org
X-Mailman-Version: 2.1.29
Precedence: list
List-Id: automatic DPDK test reports <test-report.dpdk.org>
List-Unsubscribe: <https://mails.dpdk.org/options/test-report>,
 <mailto:test-report-request@dpdk.org?subject=unsubscribe>
List-Archive: <http://mails.dpdk.org/archives/test-report/>
List-Post: <mailto:test-report@dpdk.org>
List-Help: <mailto:test-report-request@dpdk.org?subject=help>
List-Subscribe: <https://mails.dpdk.org/listinfo/test-report>,
 <mailto:test-report-request@dpdk.org?subject=subscribe>
Errors-To: test-report-bounces@dpdk.org

_Testing PASS_

Branch: tags/v23.11

c66daa12e76d7b4912cfb7109a761856a7a873ab --> testing pass

Upstream job id: Generic-DPDK-Compile-Meson#367419

Test environment and result as below:

+-------------------+--------------------+-------------------+------------------+
|    Environment    | dpdk_meson_compile | dpdk_compile_spdk | dpdk_compile_ovs |
+===================+====================+===================+==================+
| CentOS Stream 9   | PASS               | PASS              | SKIPPED          |
+-------------------+--------------------+-------------------+------------------+
| CentOS Stream 10  | PASS               | SKIPPED           | SKIPPED          |
+-------------------+--------------------+-------------------+------------------+
| Debian Bullseye   | PASS               | PASS              | SKIPPED          |
+-------------------+--------------------+-------------------+------------------+
| Debian 12         | PASS               | PASS              | SKIPPED          |
+-------------------+--------------------+-------------------+------------------+
| RHEL8             | PASS               | SKIPPED           | SKIPPED          |
+-------------------+--------------------+-------------------+------------------+
| openSUSE Leap 15  | PASS               | SKIPPED           | SKIPPED          |
+-------------------+--------------------+-------------------+------------------+
| Fedora 40         | PASS               | PASS              | SKIPPED          |
+-------------------+--------------------+-------------------+------------------+
| Fedora 40 (Clang) | PASS               | PASS              | SKIPPED          |
+-------------------+--------------------+-------------------+------------------+
| Fedora 41         | PASS               | PASS              | PASS             |
+-------------------+--------------------+-------------------+------------------+
| RHEL9             | PASS               | SKIPPED           | SKIPPED          |
+-------------------+--------------------+-------------------+------------------+
| Ubuntu 20.04      | PASS               | SKIPPED           | SKIPPED          |
+-------------------+--------------------+-------------------+------------------+
| Ubuntu 22.04      | PASS               | PASS              | SKIPPED          |
+-------------------+--------------------+-------------------+------------------+
| Ubuntu 24.04      | PASS               | PASS              | PASS             |
+-------------------+--------------------+-------------------+------------------+
| Alpine            | PASS               | SKIPPED           | SKIPPED          |
+-------------------+--------------------+-------------------+------------------+
| FreeBSD 13.4      | PASS               | SKIPPED           | SKIPPED          |
+-------------------+--------------------+-------------------+------------------+
| FreeBSD 14.2      | PASS               | SKIPPED           | SKIPPED          |
+-------------------+--------------------+-------------------+------------------+
| Fedora 41 (Clang) | PASS               | PASS              | PASS             |
+-------------------+--------------------+-------------------+------------------+


CentOS Stream 9
	Kernel: Depends on container host
	Compiler: gcc 11.5.0 20240719 (Red Hat 11.5.0-2)

CentOS Stream 10
	Kernel: Depends on container host
	Compiler: gcc 14.2.1 20241104 (Red Hat 14.2.1-6)

Debian Bullseye
	Kernel: Depends on container host
	Compiler: gcc (Debian 10.2.1-6) 10.2.1 20210110

Debian 12
	Kernel: Depends on container host
	Compiler: gcc (Debian 12.2.0-14) 12.2.0

RHEL8
	Kernel: Depends on container host
	Compiler: gcc 8.5.0 20210514 (Red Hat 8.5.0-22)

openSUSE Leap 15
	Kernel: Depends on container host
	Compiler: gcc (SUSE Linux) 7.5.0

Fedora 40
	Kernel: Depends on container host
	Compiler: gcc 14.2.1 20240912 (Red Hat 14.2.1-3)

Fedora 40 (Clang)
	Kernel: Depends on container host
	Compiler: clang 18.1.8 (Fedora 18.1.8-1.fc40)

Fedora 41
	Kernel: Depends on container host
	Compiler: gcc 14.2.1 20240912 (Red Hat 14.2.1-3)

RHEL9
	Kernel: Depends on container host
	Compiler: gcc 11.5.0 20240719 (Red Hat 11.5.0-2)

Ubuntu 20.04
	Kernel: Depends on container host
	Compiler: gcc (Ubuntu 9.4.0-1ubuntu1~20.04.2) 9.4.0

Ubuntu 22.04
	Kernel: Depends on container host
	Compiler: gcc (Ubuntu 11.4.0-1ubuntu1~22.04) 11.4.0

Ubuntu 24.04
	Kernel: Depends on container host
	Compiler: gcc (Ubuntu 13.3.0-6ubuntu2~24.04) 13.3.0

Alpine
	Kernel: Depends on container host
	Compiler: gcc (Alpine 14.2.0) 14.2.0

FreeBSD 13.4
	Kernel: 13.4-RELEASE-p1
	Compiler: clang 18.1.6

FreeBSD 14.2
	Kernel: 14.2-RELEASE
	Compiler: clang 18.1.6

Fedora 41 (Clang)
	Kernel: Depends on container host
	Compiler: clang 19.1.5 (Fedora 19.1.5-1.fc41)

To view detailed results, visit:
https://lab.dpdk.org/results/dashboard/tarballs/32797/

UNH-IOL DPDK Community Lab

To manage your email subscriptions, visit: 
https://lab.dpdk.org/results/dashboard/preferences/subscriptions/