From mboxrd@z Thu Jan  1 00:00:00 1970
Return-Path: <test-report-bounces@dpdk.org>
Received: from mails.dpdk.org (mails.dpdk.org [217.70.189.124])
	by inbox.dpdk.org (Postfix) with ESMTP id 0AC0A462C9
	for <public@inbox.dpdk.org>; Sun,  2 Mar 2025 00:48:14 +0100 (CET)
Received: from mails.dpdk.org (localhost [127.0.0.1])
	by mails.dpdk.org (Postfix) with ESMTP id D191E402A1;
	Sun,  2 Mar 2025 00:48:13 +0100 (CET)
Received: from mail-pl1-f225.google.com (mail-pl1-f225.google.com
 [209.85.214.225])
 by mails.dpdk.org (Postfix) with ESMTP id 284034029C
 for <test-report@dpdk.org>; Sun,  2 Mar 2025 00:48:12 +0100 (CET)
Received: by mail-pl1-f225.google.com with SMTP id
 d9443c01a7336-223a7065ff8so181275ad.0
 for <test-report@dpdk.org>; Sat, 01 Mar 2025 15:48:12 -0800 (PST)
DKIM-Signature: v=1; a=rsa-sha256; c=relaxed/relaxed;
 d=iol.unh.edu; s=unh-iol; t=1740872891; x=1741477691; darn=dpdk.org;
 h=cc:to:from:subject:message-id:date:from:to:cc:subject:date
 :message-id:reply-to;
 bh=kVGuQCLqnG6FQxjfKA4zsyCmgWREOoKYfYSZbLF+uIY=;
 b=U+UClkSEF4ECIkojg0UKbtcXJi4jpUtffAK1BPPH6CY2Rrh7oKmcKnRS/fJKWOwg0q
 pz9dmcMTeTVBwl/o48vp/w6grjitOoikgKcfe9sMUcmsZ1LmmFrzGpJGj0t7/+RAyjCJ
 rgA3RloU1BwG7tO4KHZeqandymLdasWnO+nEI=
X-Google-DKIM-Signature: v=1; a=rsa-sha256; c=relaxed/relaxed;
 d=1e100.net; s=20230601; t=1740872891; x=1741477691;
 h=cc:to:from:subject:message-id:date:x-gm-message-state:from:to:cc
 :subject:date:message-id:reply-to;
 bh=kVGuQCLqnG6FQxjfKA4zsyCmgWREOoKYfYSZbLF+uIY=;
 b=nrupcKSCkJlS3uVtVQcjUeNvwnukSOZ3vgCvJ3282PETOhdSMKvKMS3YtqarnqVC7G
 79JE0RX6XRCQQp644RJmTrRvilEOMNZy9QsXPhlMFiUscbSr6gPyh3JrB3b43x/+6abS
 9PmTL4lJN18Z6Ya+Jb5yvn58oGC+hYl3OwZqA4Kp3B/b7oHJQSomewNFhFGQuRkCP4ee
 lPZHBbc9UPm5Dz7n/QQkVbs/cneah+OqjkDoy0I+UNF6TKPHVpegPVdWQvtm7nqCONV9
 Yp1wJP1INc+1IMN0aaJixj8GxPh3pUpG58MowawvnD4u1IjKuUh+xC2Yq5PmMkBYraxU
 0z6Q==
X-Gm-Message-State: AOJu0YyDmKJvTtFbvNXM4s8aEoQ6ot7L9xeGdVnxWETByojTiZYvL25S
 r3wqNodA3Kvw0y+III3nmhr+KDeRcSyVgWGGrSO2FIR/kxJ9IoNRwgbn6Xlzc5ArgiYRGLgXsDM
 bupk2pN3Hlc97HYSm3YdcsW4/KlBEXGBPxXOlrofnjV6Hx3lU
X-Gm-Gg: ASbGncsfYdgvyJvlIvRj1QuYpriizBYadVq4BJvMzF9yQd4xNS1nShPmJp8GkasFDpJ
 Mk+P1mqIHT3P3+cJoaB4JtK2Gk9/IL7ZwJZi4s1+MQ8qnBEJKHcNSuY5Hsv2lLjx4pEznwReP5L
 t9igWMD+B3WqGqZDPInOUCkIEC+taufFG9auVI7HS2JWEVBOcy4MjcFBki1tH6ZvZaq2jETo9nX
 srq04NOq1ep2wnB974/+XytsOenWrhFnf2x9KpfH7rdluW7HTk1fG7yLdyUbfpGoijrYWZ+0+Oj
 y87ipyWz459au31wIpZyPDrGpJNPFnl/SfM4l4wxxQBXJWEoormn
X-Google-Smtp-Source: AGHT+IEm1qBq/JUvGQ8LjwBq4/5FF21SvyNbXai3EnEPExTmJbd9g/ZSgdhxDQ89uU2HTCgKPiPm8HAfinRw
X-Received: by 2002:a17:902:ec91:b0:223:5ada:2484 with SMTP id
 d9443c01a7336-2236926e8bemr146537055ad.44.1740872891228; 
 Sat, 01 Mar 2025 15:48:11 -0800 (PST)
Received: from postal.iol.unh.edu (postal.iol.unh.edu.
 [2606:4100:3880:1234::84]) by smtp-relay.gmail.com with ESMTPS id
 d2e1a72fcca58-73645adb371sm38317b3a.20.2025.03.01.15.48.11
 (version=TLS1_2 cipher=ECDHE-ECDSA-AES128-GCM-SHA256 bits=128/128);
 Sat, 01 Mar 2025 15:48:11 -0800 (PST)
X-Relaying-Domain: iol.unh.edu
Date: Sat, 01 Mar 2025 15:48:11 -0800 (PST)
Message-ID: <67c39cbb.050a0220.2e2096.1f15SMTPIN_ADDED_MISSING@mx.google.com>
Received: from [172.17.0.3] (unknown [172.18.0.217])
 by postal.iol.unh.edu (Postfix) with ESMTP id 4F5326052471;
 Sat,  1 Mar 2025 18:48:10 -0500 (EST)
Subject: |SUCCESS| [GIT MASTER] c66daa12e76d7b4912cfb7109a761856a7a873ab
From: dpdklab@iol.unh.edu
To: Test Report <test-report@dpdk.org>
Cc: dpdk-test-reports@iol.unh.edu, Xueming Li <xuemingl@nvidia.com>,
 Christian Ehrhardt <christian.ehrhardt@canonical.com>,
 Kevin Traynor <ktraynor@redhat.com>, Luca Boccassi <bluca@debian.org>
Content-Type: text/plain
X-BeenThere: test-report@dpdk.org
X-Mailman-Version: 2.1.29
Precedence: list
List-Id: automatic DPDK test reports <test-report.dpdk.org>
List-Unsubscribe: <https://mails.dpdk.org/options/test-report>,
 <mailto:test-report-request@dpdk.org?subject=unsubscribe>
List-Archive: <http://mails.dpdk.org/archives/test-report/>
List-Post: <mailto:test-report@dpdk.org>
List-Help: <mailto:test-report-request@dpdk.org?subject=help>
List-Subscribe: <https://mails.dpdk.org/listinfo/test-report>,
 <mailto:test-report-request@dpdk.org?subject=subscribe>
Errors-To: test-report-bounces@dpdk.org

_Testing PASS_

Branch: tags/v23.11

c66daa12e76d7b4912cfb7109a761856a7a873ab --> testing pass

Upstream job id: Generic-VM-Unit-Test-DPDK#27436

Test environment and result as below:

+---------------------+----------------+
|     Environment     | dpdk_unit_test |
+=====================+================+
| CentOS Stream 10    | PASS           |
+---------------------+----------------+
| CentOS Stream 9     | PASS           |
+---------------------+----------------+
| Debian Bullseye     | PASS           |
+---------------------+----------------+
| Fedora 40           | PASS           |
+---------------------+----------------+
| Fedora 41           | PASS           |
+---------------------+----------------+
| Debian 12           | PASS           |
+---------------------+----------------+
| Fedora 40 (Clang)   | PASS           |
+---------------------+----------------+
| Fedora 41 (Clang)   | PASS           |
+---------------------+----------------+
| RHEL8               | PASS           |
+---------------------+----------------+
| RHEL9               | PASS           |
+---------------------+----------------+
| Ubuntu 24.04        | PASS           |
+---------------------+----------------+
| Ubuntu 22.04        | PASS           |
+---------------------+----------------+
| Ubuntu 20.04        | PASS           |
+---------------------+----------------+
| Windows Server 2022 | PASS           |
+---------------------+----------------+


CentOS Stream 10
	Kernel: Depends on container host
	Compiler: gcc 14.2.1 20241104 (Red Hat 14.2.1-6)

CentOS Stream 9
	Kernel: Depends on container host
	Compiler: gcc 11.5.0 20240719 (Red Hat 11.5.0-2)

Debian Bullseye
	Kernel: Depends on container host
	Compiler: gcc (Debian 10.2.1-6) 10.2.1 20210110

Fedora 40
	Kernel: Depends on container host
	Compiler: gcc 14.2.1 20240912 (Red Hat 14.2.1-3)

Fedora 41
	Kernel: Depends on container host
	Compiler: gcc 14.2.1 20240912 (Red Hat 14.2.1-3)

Debian 12
	Kernel: Depends on container host
	Compiler: gcc (Debian 12.2.0-14) 12.2.0

Fedora 40 (Clang)
	Kernel: Depends on container host
	Compiler: clang 18.1.8 (Fedora 18.1.8-1.fc40)

Fedora 41 (Clang)
	Kernel: Depends on container host
	Compiler: clang 19.1.5 (Fedora 19.1.5-1.fc41)

RHEL8
	Kernel: Depends on container host
	Compiler: gcc 8.5.0 20210514 (Red Hat 8.5.0-22)

RHEL9
	Kernel: Depends on container host
	Compiler: gcc 11.5.0 20240719 (Red Hat 11.5.0-2)

Ubuntu 24.04
	Kernel: Depends on container host
	Compiler: gcc (Ubuntu 13.3.0-6ubuntu2~24.04) 13.3.0

Ubuntu 22.04
	Kernel: Depends on container host
	Compiler: gcc (Ubuntu 11.4.0-1ubuntu1~22.04) 11.4.0

Ubuntu 20.04
	Kernel: Depends on container host
	Compiler: gcc (Ubuntu 9.4.0-1ubuntu1~20.04.2) 9.4.0

Windows Server 2022
	Kernel: 10.0.20348.2031
	Compiler: clang 15.0.7, gcc 14.1.0 (MinGW), and MSVC VS 19.39.33521

To view detailed results, visit:
https://lab.dpdk.org/results/dashboard/tarballs/32797/

UNH-IOL DPDK Community Lab

To manage your email subscriptions, visit: 
https://lab.dpdk.org/results/dashboard/preferences/subscriptions/