From mboxrd@z Thu Jan 1 00:00:00 1970 Return-Path: Received: from mails.dpdk.org (mails.dpdk.org [217.70.189.124]) by inbox.dpdk.org (Postfix) with ESMTP id A51B646311 for ; Sun, 2 Mar 2025 02:47:14 +0100 (CET) Received: from mails.dpdk.org (localhost [127.0.0.1]) by mails.dpdk.org (Postfix) with ESMTP id 9E7EE402A1; Sun, 2 Mar 2025 02:47:14 +0100 (CET) Received: from mail-qv1-f100.google.com (mail-qv1-f100.google.com [209.85.219.100]) by mails.dpdk.org (Postfix) with ESMTP id 452544029C for ; Sun, 2 Mar 2025 02:47:13 +0100 (CET) Received: by mail-qv1-f100.google.com with SMTP id 6a1803df08f44-6e891e447dcso38393576d6.2 for ; Sat, 01 Mar 2025 17:47:13 -0800 (PST) DKIM-Signature: v=1; a=rsa-sha256; c=relaxed/relaxed; d=iol.unh.edu; s=unh-iol; t=1740880032; x=1741484832; darn=dpdk.org; h=cc:to:from:subject:message-id:date:from:to:cc:subject:date :message-id:reply-to; bh=0nFV27FCUoUw0VLfNL8DCDJ9GD588i1VecU8byhGvi8=; b=De/jNuDEmc85CKvK/nbheVP13xe39rgfx8NvQOCV2eKHvSxQf1/PG9/6oY80HG4mTZ CRXQFd/sV4s6tnz1AlCdDQEgB2KXvbtWzOv2W6mxVjKsVpTDrIwljwkQbGsKg2UUVfpt Pbkc/95hgEXMd0FmmVfzJE0jSD9Nvqb+BIddY= X-Google-DKIM-Signature: v=1; a=rsa-sha256; c=relaxed/relaxed; d=1e100.net; s=20230601; t=1740880032; x=1741484832; h=cc:to:from:subject:message-id:date:x-gm-message-state:from:to:cc :subject:date:message-id:reply-to; bh=0nFV27FCUoUw0VLfNL8DCDJ9GD588i1VecU8byhGvi8=; b=wReq7Shzszqx9kcBjO0sli0ztJjMXTwPu+RCt9nbl1B3OeDlAHF2hGcInEb4ulqHBb 9BWtyacp2hJr4Xqm4jmQSjNoO0YvqQlW3zRU4jOtb4FR7jCQ/qcBYFz5qaAPc2XHzfT8 URemKLr8mjp6Pnyx9fCtSDyhu/FWTI8yRCUpztJzy91vwYUOlmNKxx8nxuE2BmMHXGdL VyIxNlQaZac8Fbo/69+hcuxOKpzZLRppuFLqLWq/5FzVVOBM/tWsMGHIXDItkImeLfDI FDZFplunk1IRKiunvmeeiOBJJxS033m8ztokcY4gRxAfXQJAvk9nohYGwKOiLJq3ieWq HGog== X-Gm-Message-State: AOJu0YyKljTysPNI9DXv1KfPnfq3xxGU4Gq9yzPydAV46jf46WdJPRM9 gckhKx3FltxunIImg2ACGX2CCxE2Zi26zmocyu99eLxjWaywU7lSZWdZvd8oPAjUVWYqSDoptst iIhDMRmGejj4DJa6nE7TFaiKsWv2RosUUMNoI6k0G3NZU4HblRNSFIEGX X-Gm-Gg: ASbGncuq19me/fMAfFfS2+Jzzmg7dteUlmiW7d+6bUk3mGN4A9RCpttKVUfF3YxnnmC UC8SFqsvmu1C57N/9SqvruPpuy/UmoQQZAA5C7noutCcN/li1LxyHwAoARWES8OqGUebp/zetGb N0DYz2x9WXfTKPLePWriXi+wKYaqKmmpyKR6UgbhckQf+fXklYmZ4FjJagf53oR6//IqVBRDexY VHxFtkYTl1skg1QNdbXbhZMVHPcBNOZm7f3f1rVRG3zGXjnZhikp+yxhu+ATQhjGSqR0wk4TyuO 4AGUrY3Wy1tcScZ8GvRtsXpQAyXs/SV4w4pN94e0isfhGjTtVgX5 X-Google-Smtp-Source: AGHT+IE7FLIvn1HlqxW6Q9qJLA5p/rga+vhEK1V2sb3FKfgkOagknFgu5Tx83Qs509IyXCF7QG6S3lEkbtLn X-Received: by 2002:a05:6214:248f:b0:6d1:7433:3670 with SMTP id 6a1803df08f44-6e8a0c80216mr126725486d6.4.1740880032666; Sat, 01 Mar 2025 17:47:12 -0800 (PST) Received: from postal.iol.unh.edu (postal.iol.unh.edu. [2606:4100:3880:1234::84]) by smtp-relay.gmail.com with ESMTPS id 6a1803df08f44-6e8975ee2d0sm2925686d6.9.2025.03.01.17.47.12 (version=TLS1_2 cipher=ECDHE-ECDSA-AES128-GCM-SHA256 bits=128/128); Sat, 01 Mar 2025 17:47:12 -0800 (PST) X-Relaying-Domain: iol.unh.edu Date: Sat, 01 Mar 2025 17:47:12 -0800 (PST) Message-ID: <67c3b8a0.d40a0220.d7bcf.fcc1SMTPIN_ADDED_MISSING@mx.google.com> Received: from [172.21.0.7] (unknown [172.18.0.240]) by postal.iol.unh.edu (Postfix) with ESMTP id 5381A6052471; Sat, 1 Mar 2025 20:47:12 -0500 (EST) Subject: |SUCCESS| [GIT MASTER] fab31a03ba98e7457284df95dd9eef2223a4ccaa From: dpdklab@iol.unh.edu To: Test Report Cc: dpdk-test-reports@iol.unh.edu Content-Type: text/plain X-BeenThere: test-report@dpdk.org X-Mailman-Version: 2.1.29 Precedence: list List-Id: automatic DPDK test reports List-Unsubscribe: , List-Archive: List-Post: List-Help: List-Subscribe: , Errors-To: test-report-bounces@dpdk.org _Testing PASS_ Branch: dpdk fab31a03ba98e7457284df95dd9eef2223a4ccaa --> testing pass Upstream job id: Generic-Unit-Test-DPDK#320763 Test environment and result as below: +-------------------+----------------+ | Environment | dpdk_unit_test | +===================+================+ | Fedora 41 | PASS | +-------------------+----------------+ | Fedora 40 (Clang) | PASS | +-------------------+----------------+ | CentOS Stream 10 | PASS | +-------------------+----------------+ | CentOS Stream 9 | PASS | +-------------------+----------------+ | Debian Bullseye | PASS | +-------------------+----------------+ | Debian 12 | PASS | +-------------------+----------------+ | Arch Linux | PASS | +-------------------+----------------+ | RHEL8 | PASS | +-------------------+----------------+ | Ubuntu 20.04 | PASS | +-------------------+----------------+ | Ubuntu 24.04 | PASS | +-------------------+----------------+ | Fedora 40 | PASS | +-------------------+----------------+ | RHEL9 | PASS | +-------------------+----------------+ | Fedora 41 (Clang) | PASS | +-------------------+----------------+ | Ubuntu 22.04 | PASS | +-------------------+----------------+ Fedora 41 Kernel: Depends on container host Compiler: gcc 14.2.1 20240912 (Red Hat 14.2.1-3) Fedora 40 (Clang) Kernel: Depends on container host Compiler: clang 18.1.8 (Fedora 18.1.8-1.fc40) CentOS Stream 10 Kernel: Depends on container host Compiler: gcc 14.2.1 20241104 (Red Hat 14.2.1-6) CentOS Stream 9 Kernel: Depends on container host Compiler: gcc 11.5.0 20240719 (Red Hat 11.5.0-2) Debian Bullseye Kernel: Depends on container host Compiler: gcc (Debian 10.2.1-6) 10.2.1 20210110 Debian 12 Kernel: Depends on container host Compiler: gcc (Debian 12.2.0-14) 12.2.0 Arch Linux Kernel: Depends on container host Compiler: gcc 14.2.1 20240910 RHEL8 Kernel: Depends on container host Compiler: gcc 8.5.0 20210514 (Red Hat 8.5.0-22) Ubuntu 20.04 Kernel: Depends on container host Compiler: gcc (Ubuntu 9.4.0-1ubuntu1~20.04.2) 9.4.0 Ubuntu 24.04 Kernel: Depends on container host Compiler: gcc (Ubuntu 13.3.0-6ubuntu2~24.04) 13.3.0 Fedora 40 Kernel: Depends on container host Compiler: gcc 14.2.1 20240912 (Red Hat 14.2.1-3) RHEL9 Kernel: Depends on container host Compiler: gcc 11.5.0 20240719 (Red Hat 11.5.0-2) Fedora 41 (Clang) Kernel: Depends on container host Compiler: clang 19.1.5 (Fedora 19.1.5-1.fc41) Ubuntu 22.04 Kernel: Depends on container host Compiler: gcc (Ubuntu 11.4.0-1ubuntu1~22.04) 11.4.0 To view detailed results, visit: https://lab.dpdk.org/results/dashboard/tarballs/32811/ UNH-IOL DPDK Community Lab To manage your email subscriptions, visit: https://lab.dpdk.org/results/dashboard/preferences/subscriptions/