From mboxrd@z Thu Jan  1 00:00:00 1970
Return-Path: <test-report-bounces@dpdk.org>
Received: from mails.dpdk.org (mails.dpdk.org [217.70.189.124])
	by inbox.dpdk.org (Postfix) with ESMTP id C3F7246311
	for <public@inbox.dpdk.org>; Sun,  2 Mar 2025 03:56:21 +0100 (CET)
Received: from mails.dpdk.org (localhost [127.0.0.1])
	by mails.dpdk.org (Postfix) with ESMTP id A96D2402A1;
	Sun,  2 Mar 2025 03:56:21 +0100 (CET)
Received: from mail-oo1-f99.google.com (mail-oo1-f99.google.com
 [209.85.161.99]) by mails.dpdk.org (Postfix) with ESMTP id D090E4029C
 for <test-report@dpdk.org>; Sun,  2 Mar 2025 03:56:20 +0100 (CET)
Received: by mail-oo1-f99.google.com with SMTP id
 006d021491bc7-5fe944b3fa0so1735411eaf.0
 for <test-report@dpdk.org>; Sat, 01 Mar 2025 18:56:20 -0800 (PST)
DKIM-Signature: v=1; a=rsa-sha256; c=relaxed/relaxed;
 d=iol.unh.edu; s=unh-iol; t=1740884180; x=1741488980; darn=dpdk.org;
 h=cc:to:from:subject:message-id:date:from:to:cc:subject:date
 :message-id:reply-to;
 bh=i4E/k5ikfIgXtDbsiSxKfmpdujjmkpNYRtWKZ01D0h0=;
 b=afuvNOmjeSgs8m57kyH0YrzaVNsazN7QgZ40K5z1mkLGRcCwRlOti674Qqe7GX7UFb
 6MMDImJSGB8D79VhjbKO9M0cDAw/fv4So5kkvhm6w4bqclBV95j90l2CLH1b56khcPQk
 1/7zkBnsNJW25LBVhBVr0aWviTzr03hMDI63A=
X-Google-DKIM-Signature: v=1; a=rsa-sha256; c=relaxed/relaxed;
 d=1e100.net; s=20230601; t=1740884180; x=1741488980;
 h=cc:to:from:subject:message-id:date:x-gm-message-state:from:to:cc
 :subject:date:message-id:reply-to;
 bh=i4E/k5ikfIgXtDbsiSxKfmpdujjmkpNYRtWKZ01D0h0=;
 b=dXgIvPAHzrOivXNlG+80jsuqrtnhFmCncPs75R1X3qnMBtQIX7RhJW4fcYVuBmskpV
 o+OLJiOrLYT3DlZgEQm3Q9A0ACIP2jk1UTZhZ+cE3qZ6t0meBn0a2LTyHZYi4usPTlqb
 /zuMKb22NmQtJ+HrArOw3KcBPuXVXk2T3wHe4idOhtKvqd1hmcOchJqM97l+IEOtpRcR
 M4nTVtcDqFNYWINl5tTN9xIF1c3baLwUiiecss0wkfAT8Xa8sJs3lFPCPma942KzMlxL
 gbeZPwqGHVidwNK+VbhxtIvi2MGClOHByxxmaKL7XiFkT0u6F6F/cxwH3+L6In7c1nI8
 tTHw==
X-Gm-Message-State: AOJu0YymPHYReRRM0LjDDAOqY5IPZYzihNnlhUagxbBEoLgqZfWU2HCd
 dpGfXwwjkPThwjIEY9GVVn9q7sNTh4cgG+wUi4ZW2fiIRgeN+wt+iRsMnJvA9E3q4x0bMT4UdpV
 6kafZXh382/BoCoxcO97mOmEGKAOk6lJ7hsyhTrm3nj45oycL
X-Gm-Gg: ASbGncsL+K69PF5jtq98csmIna4gOVRW9yKNidvWY/CpyoHyD1dr7IiyuVUuBu/Lo63
 Ig/sdk7R2wKo3Q9SvLuP2cv0b+kLV+Cc9dUgRpLbSkMNAvwBmp+2vSlQa/ZTW6I55xzvxFIS7tC
 tRbjzKv9m+5ouqWJdjeSRdFKVgXT7qNrBk8L3G02Ase5il3a7x+EdhGs9GFGOJXHf9fjallwPat
 ylwBxm97rkXsY7faATcFAXpetYrqIcwnxo5YCud8xWnASw5sdfHbWoisbSOeCchs454RxLpWvtl
 juG1Uc3opVt05Dh0YPhOGtXZGy0oXakNn0uyLLzGNek5XheSGM2X
X-Google-Smtp-Source: AGHT+IGbvBhgHTjdjakSVy+0+2kiNE7r3NT/5EFSxNGl/DS6QYVYsB+9JgqcWlHz6LdV4VO+nHUKNVokr2wd
X-Received: by 2002:a05:6870:a105:b0:29e:290f:7af4 with SMTP id
 586e51a60fabf-2c178805918mr5677707fac.34.1740884179775; 
 Sat, 01 Mar 2025 18:56:19 -0800 (PST)
Received: from postal.iol.unh.edu (postal.iol.unh.edu.
 [2606:4100:3880:1234::84]) by smtp-relay.gmail.com with ESMTPS id
 586e51a60fabf-2c15c4bd8d6sm330884fac.36.2025.03.01.18.56.19
 (version=TLS1_2 cipher=ECDHE-ECDSA-AES128-GCM-SHA256 bits=128/128);
 Sat, 01 Mar 2025 18:56:19 -0800 (PST)
X-Relaying-Domain: iol.unh.edu
Date: Sat, 01 Mar 2025 18:56:19 -0800 (PST)
Message-ID: <67c3c8d3.050a0220.a838a.1f94SMTPIN_ADDED_MISSING@mx.google.com>
Received: from [172.17.0.3] (unknown [172.18.0.217])
 by postal.iol.unh.edu (Postfix) with ESMTP id 2F04A6052471;
 Sat,  1 Mar 2025 21:56:19 -0500 (EST)
Subject: |SUCCESS| [GIT MASTER] c66daa12e76d7b4912cfb7109a761856a7a873ab
From: dpdklab@iol.unh.edu
To: Test Report <test-report@dpdk.org>
Cc: dpdk-test-reports@iol.unh.edu, Xueming Li <xuemingl@nvidia.com>,
 Christian Ehrhardt <christian.ehrhardt@canonical.com>,
 Kevin Traynor <ktraynor@redhat.com>, Luca Boccassi <bluca@debian.org>
Content-Type: text/plain
X-BeenThere: test-report@dpdk.org
X-Mailman-Version: 2.1.29
Precedence: list
List-Id: automatic DPDK test reports <test-report.dpdk.org>
List-Unsubscribe: <https://mails.dpdk.org/options/test-report>,
 <mailto:test-report-request@dpdk.org?subject=unsubscribe>
List-Archive: <http://mails.dpdk.org/archives/test-report/>
List-Post: <mailto:test-report@dpdk.org>
List-Help: <mailto:test-report-request@dpdk.org?subject=help>
List-Subscribe: <https://mails.dpdk.org/listinfo/test-report>,
 <mailto:test-report-request@dpdk.org?subject=subscribe>
Errors-To: test-report-bounces@dpdk.org

_Testing PASS_

Branch: tags/v23.11

c66daa12e76d7b4912cfb7109a761856a7a873ab --> testing pass

Upstream job id: ACVP-FIPS-testing#9100

Test environment and result as below:

+--------------------+----------------------+----------------------+
|    Environment     | compressdev_zlib_pmd | dpdk_fips_validation |
+====================+======================+======================+
| Ubuntu 22.04 (ARM) | PASS                 | SKIPPED              |
+--------------------+----------------------+----------------------+
| Ubuntu 22.04       | PASS                 | SKIPPED              |
+--------------------+----------------------+----------------------+
| Ubuntu 20.04       | SKIPPED              | PASS                 |
+--------------------+----------------------+----------------------+


Ubuntu 22.04 (ARM)
	Kernel: 5.15.0-97-generic
	Compiler: gcc gcc (Ubuntu 11.4.0-1ubuntu1~22.04) 11.4.0

Ubuntu 22.04
	Kernel: 5.15.0-100-generic
	Compiler: gcc gcc (Ubuntu 11.4.0-1ubuntu1~22.04) 11.4.0

Ubuntu 20.04
	Kernel: Depends on container host
	Compiler: gcc (Ubuntu 9.4.0-1ubuntu1~20.04.2) 9.4.0

To view detailed results, visit:
https://lab.dpdk.org/results/dashboard/tarballs/32777/

UNH-IOL DPDK Community Lab

To manage your email subscriptions, visit: 
https://lab.dpdk.org/results/dashboard/preferences/subscriptions/