From mboxrd@z Thu Jan 1 00:00:00 1970 Return-Path: Received: from mails.dpdk.org (mails.dpdk.org [217.70.189.124]) by inbox.dpdk.org (Postfix) with ESMTP id 8CB1346312 for ; Sun, 2 Mar 2025 04:03:29 +0100 (CET) Received: from mails.dpdk.org (localhost [127.0.0.1]) by mails.dpdk.org (Postfix) with ESMTP id 86408402A1; Sun, 2 Mar 2025 04:03:29 +0100 (CET) Received: from mail-il1-f226.google.com (mail-il1-f226.google.com [209.85.166.226]) by mails.dpdk.org (Postfix) with ESMTP id C12B94029C for ; Sun, 2 Mar 2025 04:03:27 +0100 (CET) Received: by mail-il1-f226.google.com with SMTP id e9e14a558f8ab-3ce868498d3so10707825ab.3 for ; Sat, 01 Mar 2025 19:03:27 -0800 (PST) DKIM-Signature: v=1; a=rsa-sha256; c=relaxed/relaxed; d=iol.unh.edu; s=unh-iol; t=1740884607; x=1741489407; darn=dpdk.org; h=references:in-reply-to:cc:to:from:subject:message-id:date:from:to :cc:subject:date:message-id:reply-to; bh=21iTmDzqhMTCqiU82GwlhAp9dSc5/9Ukon72RVIK/X0=; b=DxUMKfU2+YwbYs3T5xMB33Zirt6kI+mjtSRSkmRrOm1t3cIXRpz+clJvwPP3BFiiYz u1nDZeutaxacQdHiauUfHq3+qfAXN3/VPHwMdzzgohn3JzdJEbesSzmXnoSOk3uywF4e 2y+1n23kaMUCr0wdtUlKMSo3qPVKYJqekaI+s= X-Google-DKIM-Signature: v=1; a=rsa-sha256; c=relaxed/relaxed; d=1e100.net; s=20230601; t=1740884607; x=1741489407; h=references:in-reply-to:cc:to:from:subject:message-id:date :x-gm-message-state:from:to:cc:subject:date:message-id:reply-to; bh=21iTmDzqhMTCqiU82GwlhAp9dSc5/9Ukon72RVIK/X0=; b=QGMaXx8rFk27VK1P4sJYlABV8C9QXo5Xeonjrcum6ARRX6Eig8dFHf1DKyR2ggsvSD w+4plXN0m2MvRH4gU7BifEcChHAHe3x0yvs86lwhCoXhODQEnTFxRQaAGW2hkQVoJXOX kf1WdRDANK8HJHm5u2F9OO/MW59dlhUs9ZezIH203NO2dIuY/YAzb6f1T+gShXkNoVal yDvgMLT+rTq1sY1Q6aUAvi8prYrL29UChiJveglTNyEsrgsE3bzugQjHikGvnY7JLBti 5P/S31vlFPrECzJovAvGrl7vwdncsLFSFzIlNxCNcyi3oEvGJwbjb9pUytrwFqyS7wQS upLA== X-Gm-Message-State: AOJu0YyzENz+zKxOKD6bjf0I6Qp8LWd+qYefqb/k3k15CTMS7Um96R1X 0Zi+9/hO8+dVQNjSiAfqhvPYX3mx9hHZk2Dtggnzr99G0I8mhYbbzgORLdq7b5FR/LZpjgMvx3/ zqy0vocOqdnt2eeIXm23uKfk+Pj7tmLQGDe20AeB7 X-Gm-Gg: ASbGncseCIZXGQI/oEE2TDIun66jN5ObSglBP+OeR4wiswpEEdh8EKhJp5PLJdZ7wDY bT+JlNSq0223U1QUeeiADNr4vFaftDYKmKwD60AyGVWZgT8JT3Hj/zo4TarOE6Ozz7FCxw6b4ep f6/Qj7RLOiajCCuEaczGjv1hmWZdFIlSGE4/V3lLaS9ZW56o9sq9mi4E0u4YhESp1PqUqWoa3cT msioXsuUj4uvclye+Jfz/44R8CBPjsG0F3TPkIUS6888vtCCfSllujFzH+Ri0S2/PwBcwZwqFUY GcDbyLviMCesAGIjCnjk3pYz9mLI518bkRRgan3R X-Google-Smtp-Source: AGHT+IGW205c4queznj+GlmZOUXDh3LEptzx5ybpDIvN6B1k2KT8tBMCmCFoG2ROj+AL+0RHLZYkw77h+Mk6 X-Received: by 2002:a05:6e02:19c8:b0:3d1:863e:5536 with SMTP id e9e14a558f8ab-3d3e6f28e56mr94218985ab.18.1740884607093; Sat, 01 Mar 2025 19:03:27 -0800 (PST) Received: from postal.iol.unh.edu (postal.iol.unh.edu. [132.177.123.84]) by smtp-relay.gmail.com with ESMTPS id e9e14a558f8ab-3d3dee67f93sm3741125ab.24.2025.03.01.19.03.27 (version=TLS1_2 cipher=ECDHE-ECDSA-AES128-GCM-SHA256 bits=128/128); Sat, 01 Mar 2025 19:03:27 -0800 (PST) X-Relaying-Domain: iol.unh.edu Date: Sat, 01 Mar 2025 19:03:27 -0800 (PST) Message-ID: <67c3ca7f.920a0220.29b340.4536SMTPIN_ADDED_MISSING@mx.google.com> Received: from [172.17.0.3] (unknown [172.18.0.217]) by postal.iol.unh.edu (Postfix) with ESMTP id 836D76052471; Sat, 1 Mar 2025 22:03:26 -0500 (EST) Subject: |WARNING| pw152124 [PATCH] net/mlx5: fix assert failure on hairpin q From: dpdklab@iol.unh.edu To: Test Report Cc: dpdk-test-reports@iol.unh.edu In-Reply-To: <20250227101415.89079-1-mkashani@nvidia.com> References: <20250227101415.89079-1-mkashani@nvidia.com> Content-Type: text/plain X-BeenThere: test-report@dpdk.org X-Mailman-Version: 2.1.29 Precedence: list List-Id: automatic DPDK test reports List-Unsubscribe: , List-Archive: List-Post: List-Help: List-Subscribe: , Errors-To: test-report-bounces@dpdk.org Test-Label: iol-sample-apps-testing Test-Status: WARNING http://dpdk.org/patch/152124 _Testing issues_ Submitter: Maayan Kashani Date: Thursday, February 27 2025 10:14:14 DPDK git baseline: Repo:dpdk Branch: master CommitID:5813fc4238f10b5cc2aa008b0116c977712820d7 152124 --> testing issues Upstream job id: ACVP-FIPS-testing#9102 Test environment and result as below: +--------------------+----------------------+----------------------+ | Environment | compressdev_zlib_pmd | dpdk_fips_validation | +====================+======================+======================+ | Ubuntu 22.04 (ARM) | PASS | SKIPPED | +--------------------+----------------------+----------------------+ | Ubuntu 22.04 | PASS | SKIPPED | +--------------------+----------------------+----------------------+ | Ubuntu 20.04 | SKIPPED | WARN | +--------------------+----------------------+----------------------+ ==== 20 line log output for Ubuntu 20.04 (dpdk_fips_validation): ==== | ^ cc1: all warnings being treated as errors [2186/3181] Compiling C object drivers/libtmp_rte_net_txgbe.a.p/net_txgbe_txgbe_ethdev_vf.c.o [2187/3181] Compiling C object drivers/libtmp_rte_net_txgbe.a.p/net_txgbe_txgbe_fdir.c.o [2188/3181] Compiling C object drivers/libtmp_rte_net_tap.a.p/net_tap_rte_eth_tap.c.o [2189/3181] Compiling C object drivers/libtmp_rte_net_txgbe.a.p/net_txgbe_txgbe_ipsec.c.o [2190/3181] Compiling C object drivers/libtmp_rte_net_thunderx.a.p/net_thunderx_nicvf_ethdev.c.o [2191/3181] Compiling C object drivers/net/txgbe/base/libtxgbe_base.a.p/txgbe_hw.c.o [2192/3181] Generating rte_net_softnic.sym_chk with a custom command (wrapped by meson to capture output) [2193/3181] Compiling C object drivers/net/txgbe/base/libtxgbe_base.a.p/txgbe_phy.c.o [2194/3181] Compiling C object drivers/libtmp_rte_net_txgbe.a.p/net_txgbe_txgbe_pf.c.o [2195/3181] Compiling C object drivers/libtmp_rte_net_txgbe.a.p/net_txgbe_txgbe_tm.c.o [2196/3181] Compiling C object drivers/libtmp_rte_net_vdev_netvsc.a.p/net_vdev_netvsc_vdev_netvsc.c.o [2197/3181] Compiling C object drivers/libtmp_rte_net_txgbe.a.p/net_txgbe_txgbe_flow.c.o [2198/3181] Compiling C object drivers/net/virtio/libvirtio_avx512_lib.a.p/virtio_rxtx_packed.c.o [2199/3181] Compiling C object drivers/libtmp_rte_net_txgbe.a.p/net_txgbe_txgbe_rxtx_vec_sse.c.o [2200/3181] Compiling C object drivers/libtmp_rte_net_txgbe.a.p/net_txgbe_txgbe_ethdev.c.o [2201/3181] Compiling C object drivers/libtmp_rte_net_vhost.a.p/net_vhost_rte_eth_vhost.c.o [2202/3181] Compiling C object drivers/libtmp_rte_net_txgbe.a.p/net_txgbe_txgbe_rxtx.c.o ninja: build stopped: subcommand failed. ==== End log output ==== Ubuntu 22.04 (ARM) Kernel: 5.15.0-97-generic Compiler: gcc gcc (Ubuntu 11.4.0-1ubuntu1~22.04) 11.4.0 Ubuntu 22.04 Kernel: 5.15.0-100-generic Compiler: gcc gcc (Ubuntu 11.4.0-1ubuntu1~22.04) 11.4.0 Ubuntu 20.04 Kernel: Depends on container host Compiler: gcc (Ubuntu 9.4.0-1ubuntu1~20.04.2) 9.4.0 To view detailed results, visit: https://lab.dpdk.org/results/dashboard/patchsets/32703/ UNH-IOL DPDK Community Lab To manage your email subscriptions, visit: https://lab.dpdk.org/results/dashboard/preferences/subscriptions/