From mboxrd@z Thu Jan 1 00:00:00 1970 Return-Path: Received: from mails.dpdk.org (mails.dpdk.org [217.70.189.124]) by inbox.dpdk.org (Postfix) with ESMTP id 81EB746317 for ; Sun, 2 Mar 2025 09:04:00 +0100 (CET) Received: from mails.dpdk.org (localhost [127.0.0.1]) by mails.dpdk.org (Postfix) with ESMTP id 58BC040291; Sun, 2 Mar 2025 09:04:00 +0100 (CET) Received: from mail-pl1-f225.google.com (mail-pl1-f225.google.com [209.85.214.225]) by mails.dpdk.org (Postfix) with ESMTP id D0AB44027F for ; Sun, 2 Mar 2025 09:03:59 +0100 (CET) Received: by mail-pl1-f225.google.com with SMTP id d9443c01a7336-223594b3c6dso57615615ad.2 for ; Sun, 02 Mar 2025 00:03:59 -0800 (PST) DKIM-Signature: v=1; a=rsa-sha256; c=relaxed/relaxed; d=iol.unh.edu; s=unh-iol; t=1740902639; x=1741507439; darn=dpdk.org; h=cc:to:from:subject:message-id:date:from:to:cc:subject:date :message-id:reply-to; bh=ss/LqG3OpsV1amQW2LjFabpEaDDw49+QB2MiZsHGrL8=; b=CLAlhag2FSrJkvxlOiaXCU368VC2J5enwBFTGbPg3em51UXmAe4kAO89V7KimS5gdV t4hGiZf+AJ48KI2avhDWfragq0buakvymqnmbG6EyacLDi21OFV71zIsxmIQ2kZbuzw6 9eXPrbuxgftK17QjAA1L+IqjOiheMZQ6iPWSk= X-Google-DKIM-Signature: v=1; a=rsa-sha256; c=relaxed/relaxed; d=1e100.net; s=20230601; t=1740902639; x=1741507439; h=cc:to:from:subject:message-id:date:x-gm-message-state:from:to:cc :subject:date:message-id:reply-to; bh=ss/LqG3OpsV1amQW2LjFabpEaDDw49+QB2MiZsHGrL8=; b=xDOAEPuKm+L6IbiRMBa0u+WiB62VOgWAJZy9gdZ7xGnKxx7geeTkgr2W0LNgavyszw NNHzM6JJze/i7X+0YScCwAT5NcUbGzPncw1Krg6VzaBuTD8L7G4fRhcSIec1IjimZstl UWM//qmhg0CdG8+GM3yU5DD/72Xr7bwRZrQSQXy137mxFRxLqHQklop09OaYfIG8QuZz 9khuw5c3vyTFEqqtjxEKVbLIJOkgxwAY9BliWeKCO+kV6p+plQRyPym56yEpoVMQZtCA gxYMDzt93NTIZgYY56truCrwT7ZXRoUuMQXXuZ6mcU3cG0EXTaodQsoORhkZ4gboJU5k t7bw== X-Gm-Message-State: AOJu0YyZ/bTi8SfZzu8O8E+roLx4QonwrL0CKnG7v9yVF1t0YKCsfcGQ 94PG3xp8nL09UpFg7U4Z9vgYeA+or+2HMNhmLaIDsLdYxsH0TPKor/z7N5TakuN25xUs68x9DHK NobWfH9QvyPjj3rBSLIHJkqblfckRzSS2Aizk3YW2 X-Gm-Gg: ASbGncsK9DcupaJJTSi+CiuomPAkXUsaVig/TBjALfdSxAABpFXm9cYz5PYf2F9bFyZ 50UvBEqcoqY6r4nXL9DmXct4Lh3pdH9KqmgA52ZJoFOleLNicTx2kfAPnqWy8CBm2Q1iMESFT6B F4Ix22doPbgLNmfM/6tW43IA0YWnL4aj8iNlh/KpughvKyA3nSZ4WGa2PtjbufLiLj9+wbvyEyE mv1iMNTjhS5HQbNbop6xQyagGjM1+s9WOIptrKDJ05TxKC0zWN49ZoucQqDrkUJtn4U908LhSDZ N6sq+hqppi9aXlGyZDK53xeO8tEG8SXbjT61bM1T X-Google-Smtp-Source: AGHT+IGEJOwFs+x1KVCVPX1bGkbV5LfDDsDad91QhekoFkx4nWakd5fg7bQ7kom4a/aQ1kYN+qRClqs8vllO X-Received: by 2002:a05:6a00:8d2:b0:736:50d1:fc84 with SMTP id d2e1a72fcca58-73650d1ff4cmr179078b3a.21.1740902638816; Sun, 02 Mar 2025 00:03:58 -0800 (PST) Received: from postal.iol.unh.edu (postal.iol.unh.edu. [132.177.123.84]) by smtp-relay.gmail.com with ESMTPS id d2e1a72fcca58-7349fdc7b38sm452635b3a.3.2025.03.02.00.03.58 (version=TLS1_2 cipher=ECDHE-ECDSA-AES128-GCM-SHA256 bits=128/128); Sun, 02 Mar 2025 00:03:58 -0800 (PST) X-Relaying-Domain: iol.unh.edu Date: Sun, 02 Mar 2025 00:03:58 -0800 (PST) Message-ID: <67c410ee.050a0220.30bf78.8589SMTPIN_ADDED_MISSING@mx.google.com> Received: from [172.21.0.7] (unknown [172.18.0.240]) by postal.iol.unh.edu (Postfix) with ESMTP id DF7D16052471; Sun, 2 Mar 2025 03:03:57 -0500 (EST) Subject: |SUCCESS| [GIT MASTER] fab31a03ba98e7457284df95dd9eef2223a4ccaa From: dpdklab@iol.unh.edu To: Test Report Cc: dpdk-test-reports@iol.unh.edu Content-Type: text/plain X-BeenThere: test-report@dpdk.org X-Mailman-Version: 2.1.29 Precedence: list List-Id: automatic DPDK test reports List-Unsubscribe: , List-Archive: List-Post: List-Help: List-Subscribe: , Errors-To: test-report-bounces@dpdk.org _Testing PASS_ Branch: dpdk fab31a03ba98e7457284df95dd9eef2223a4ccaa --> testing pass Upstream job id: Windows-Compile-DPDK-Native#27075 Test environment and result as below: +---------------------+--------------------+-------------------+------------------+-------------------+-------------------------+ | Environment | dpdk_meson_compile | dpdk_compile_spdk | dpdk_compile_ovs | dpdk_msvc_compile | dpdk_llvm_clang_compile | +=====================+====================+===================+==================+===================+=========================+ | CentOS Stream 10 | PASS | SKIPPED | SKIPPED | SKIPPED | SKIPPED | +---------------------+--------------------+-------------------+------------------+-------------------+-------------------------+ | Debian Bullseye | PASS | PASS | SKIPPED | SKIPPED | SKIPPED | +---------------------+--------------------+-------------------+------------------+-------------------+-------------------------+ | CentOS Stream 9 | PASS | PASS | SKIPPED | SKIPPED | SKIPPED | +---------------------+--------------------+-------------------+------------------+-------------------+-------------------------+ | Fedora 40 (Clang) | PASS | PASS | SKIPPED | SKIPPED | SKIPPED | +---------------------+--------------------+-------------------+------------------+-------------------+-------------------------+ | Debian 12 | PASS | PASS | SKIPPED | SKIPPED | SKIPPED | +---------------------+--------------------+-------------------+------------------+-------------------+-------------------------+ | Fedora 41 | PASS | PASS | PASS | SKIPPED | SKIPPED | +---------------------+--------------------+-------------------+------------------+-------------------+-------------------------+ | Fedora 41 (Clang) | PASS | PASS | PASS | SKIPPED | SKIPPED | +---------------------+--------------------+-------------------+------------------+-------------------+-------------------------+ | RHEL8 | PASS | SKIPPED | SKIPPED | SKIPPED | SKIPPED | +---------------------+--------------------+-------------------+------------------+-------------------+-------------------------+ | Ubuntu 20.04 | PASS | SKIPPED | SKIPPED | SKIPPED | SKIPPED | +---------------------+--------------------+-------------------+------------------+-------------------+-------------------------+ | RHEL9 | PASS | SKIPPED | SKIPPED | SKIPPED | SKIPPED | +---------------------+--------------------+-------------------+------------------+-------------------+-------------------------+ | Ubuntu 22.04 | PASS | PASS | SKIPPED | SKIPPED | SKIPPED | +---------------------+--------------------+-------------------+------------------+-------------------+-------------------------+ | Ubuntu 24.04 | PASS | PASS | PASS | SKIPPED | SKIPPED | +---------------------+--------------------+-------------------+------------------+-------------------+-------------------------+ | Alpine | PASS | SKIPPED | SKIPPED | SKIPPED | SKIPPED | +---------------------+--------------------+-------------------+------------------+-------------------+-------------------------+ | openSUSE Leap 15 | PASS | SKIPPED | SKIPPED | SKIPPED | SKIPPED | +---------------------+--------------------+-------------------+------------------+-------------------+-------------------------+ | FreeBSD 13.4 | PASS | SKIPPED | SKIPPED | SKIPPED | SKIPPED | +---------------------+--------------------+-------------------+------------------+-------------------+-------------------------+ | Arch Linux | PASS | SKIPPED | SKIPPED | SKIPPED | SKIPPED | +---------------------+--------------------+-------------------+------------------+-------------------+-------------------------+ | FreeBSD 14.2 | PASS | SKIPPED | SKIPPED | SKIPPED | SKIPPED | +---------------------+--------------------+-------------------+------------------+-------------------+-------------------------+ | Fedora 40 | PASS | PASS | SKIPPED | SKIPPED | SKIPPED | +---------------------+--------------------+-------------------+------------------+-------------------+-------------------------+ | Windows Server 2022 | SKIPPED | SKIPPED | SKIPPED | PASS | PASS | +---------------------+--------------------+-------------------+------------------+-------------------+-------------------------+ CentOS Stream 10 Kernel: Depends on container host Compiler: gcc 14.2.1 20241104 (Red Hat 14.2.1-6) Debian Bullseye Kernel: Depends on container host Compiler: gcc (Debian 10.2.1-6) 10.2.1 20210110 CentOS Stream 9 Kernel: Depends on container host Compiler: gcc 11.5.0 20240719 (Red Hat 11.5.0-2) Fedora 40 (Clang) Kernel: Depends on container host Compiler: clang 18.1.8 (Fedora 18.1.8-1.fc40) Debian 12 Kernel: Depends on container host Compiler: gcc (Debian 12.2.0-14) 12.2.0 Fedora 41 Kernel: Depends on container host Compiler: gcc 14.2.1 20240912 (Red Hat 14.2.1-3) Fedora 41 (Clang) Kernel: Depends on container host Compiler: clang 19.1.5 (Fedora 19.1.5-1.fc41) RHEL8 Kernel: Depends on container host Compiler: gcc 8.5.0 20210514 (Red Hat 8.5.0-22) Ubuntu 20.04 Kernel: Depends on container host Compiler: gcc (Ubuntu 9.4.0-1ubuntu1~20.04.2) 9.4.0 RHEL9 Kernel: Depends on container host Compiler: gcc 11.5.0 20240719 (Red Hat 11.5.0-2) Ubuntu 22.04 Kernel: Depends on container host Compiler: gcc (Ubuntu 11.4.0-1ubuntu1~22.04) 11.4.0 Ubuntu 24.04 Kernel: Depends on container host Compiler: gcc (Ubuntu 13.3.0-6ubuntu2~24.04) 13.3.0 Alpine Kernel: Depends on container host Compiler: gcc (Alpine 14.2.0) 14.2.0 openSUSE Leap 15 Kernel: Depends on container host Compiler: gcc (SUSE Linux) 7.5.0 FreeBSD 13.4 Kernel: 13.4-RELEASE-p1 Compiler: clang 18.1.6 Arch Linux Kernel: Depends on container host Compiler: gcc 14.2.1 20240910 FreeBSD 14.2 Kernel: 14.2-RELEASE Compiler: clang 18.1.6 Fedora 40 Kernel: Depends on container host Compiler: gcc 14.2.1 20240912 (Red Hat 14.2.1-3) Windows Server 2022 Kernel: 10.0.20348.2031 Compiler: clang 15.0.7, gcc 14.1.0 (MinGW), and MSVC VS 19.39.33521 To view detailed results, visit: https://lab.dpdk.org/results/dashboard/tarballs/32811/ UNH-IOL DPDK Community Lab To manage your email subscriptions, visit: https://lab.dpdk.org/results/dashboard/preferences/subscriptions/