From mboxrd@z Thu Jan  1 00:00:00 1970
Return-Path: <test-report-bounces@dpdk.org>
Received: from mails.dpdk.org (mails.dpdk.org [217.70.189.124])
	by inbox.dpdk.org (Postfix) with ESMTP id CB3624632E
	for <public@inbox.dpdk.org>; Mon,  3 Mar 2025 13:12:40 +0100 (CET)
Received: from mails.dpdk.org (localhost [127.0.0.1])
	by mails.dpdk.org (Postfix) with ESMTP id A59C140280;
	Mon,  3 Mar 2025 13:12:40 +0100 (CET)
Received: from mail-oo1-f98.google.com (mail-oo1-f98.google.com
 [209.85.161.98]) by mails.dpdk.org (Postfix) with ESMTP id 75FB5400D7
 for <test-report@dpdk.org>; Mon,  3 Mar 2025 13:12:39 +0100 (CET)
Received: by mail-oo1-f98.google.com with SMTP id
 006d021491bc7-5fd19b469b0so1209723eaf.3
 for <test-report@dpdk.org>; Mon, 03 Mar 2025 04:12:39 -0800 (PST)
DKIM-Signature: v=1; a=rsa-sha256; c=relaxed/relaxed;
 d=iol.unh.edu; s=unh-iol; t=1741003958; x=1741608758; darn=dpdk.org;
 h=references:in-reply-to:cc:to:from:subject:message-id:date:from:to
 :cc:subject:date:message-id:reply-to;
 bh=qb4OCdYLJYx/tvbYMzjVDVusMJQ0BlNdu5VCmdKoA+k=;
 b=gZnz9x3FhsIPN+YrOTe2IslKuwr+BA5JArK+mtFZOK2faZ3kwgMYMsqwV9dJSMCHWY
 rIcyC5r4gYoLpEqfomhgSW1eu42/Kfyv9KEqcAEpqaT6Xfx3cVtp6qNlAmE5b+lLohXv
 UJ2poU8bM2gH8bksR/xqJqtwoMBf6VjlEYVf4=
X-Google-DKIM-Signature: v=1; a=rsa-sha256; c=relaxed/relaxed;
 d=1e100.net; s=20230601; t=1741003958; x=1741608758;
 h=references:in-reply-to:cc:to:from:subject:message-id:date
 :x-gm-message-state:from:to:cc:subject:date:message-id:reply-to;
 bh=qb4OCdYLJYx/tvbYMzjVDVusMJQ0BlNdu5VCmdKoA+k=;
 b=V/fU6dBrJOoGwPVEK49qQcyd4coZv1d5K49CGFhSFZo+WzEBvXkEJfc1Ry/icsyEfn
 xyrgnFuuaaEAS6fQ8QBZN32b1nJvnS9w02VOcqahZF7CukiL8loVQhSHepmJ0/mlKhx/
 QjuFGOxrhssDfBpCA6oaTSRhlVYNcePmO34DL6BrqOcS7RrAKyGhI5/rkIFifMJRjsJe
 9SzqUXrbQzsnaCKWMuT24tKPHNI9m9YBFKXl57iVXPcaVNT+vMJ27BKGz+yECn52i406
 D9nk2GIXv8JdrmAzp099qxjxImADgtJ5DxojaXFR9glagwX+rz/axmbYRbo/MLssza9z
 9VTg==
X-Gm-Message-State: AOJu0YzEBQLWFfnjWs8YMbMpMDZz3CfqblufifwqyP/ncUgngNyIxxzh
 XouoEPf7Ob5lIJYOO0bexTa190PGd7wNtZQL2v2gO3bNsMt8RBtVW3dFXzcWJWPMzrrl1KtcvFu
 E294t6cBHgLUtBTPs8Q8pqN4XUhoNFjRg9OBnk+hJHAzS2j3uup73R1Gq
X-Gm-Gg: ASbGncsnKOspJeKAQYbAJ4unWYB9MbeHLmi9q/xvHSoFJ/FrY0bu3EA27IIl9/oELDy
 X3IcDhyfCDZGh0HpUY6wFWJsGlU8A7qDxzP6IqSoYy7YRrMRDVFWVAcF1oRVCR3J9JmBYhNFAsD
 MyK3q3U/6UXNGLIWO+llOHXuzosV/pewNSVwaYBqi27ZwQOHcm2NoqdTm2T54+jcv0IPszAvXWa
 hwEanqMy3Mq1YeP9LEQ8eYHlbNBp+jXcHkNjKevomVviiIVrwEzzvCuCy0EH4s7H4qLpiCYGTPd
 Boks6Hdfrc0qwNo345mz7NcBX7kdk2yTo0Kqsyyi0GXYy8dMkmO4
X-Google-Smtp-Source: AGHT+IGIDEVwUUyqHAtzvNe7DTAeYdZZzGzqjtJYawdZlfBIqLKSlYkTUYvW33uhQOWMhgW+ye3EjMXO4lIx
X-Received: by 2002:a05:6870:1f13:b0:2bc:75aa:aeae with SMTP id
 586e51a60fabf-2c1783c5d21mr8105858fac.10.1741003958349; 
 Mon, 03 Mar 2025 04:12:38 -0800 (PST)
Received: from postal.iol.unh.edu (postal.iol.unh.edu.
 [2606:4100:3880:1234::84]) by smtp-relay.gmail.com with ESMTPS id
 586e51a60fabf-2c15c112a2fsm481830fac.7.2025.03.03.04.12.38
 (version=TLS1_2 cipher=ECDHE-ECDSA-AES128-GCM-SHA256 bits=128/128);
 Mon, 03 Mar 2025 04:12:38 -0800 (PST)
X-Relaying-Domain: iol.unh.edu
Date: Mon, 03 Mar 2025 04:12:38 -0800 (PST)
Message-ID: <67c59cb6.050a0220.2189af.a0d9SMTPIN_ADDED_MISSING@mx.google.com>
Received: from [172.21.0.7] (unknown [172.18.0.240])
 by postal.iol.unh.edu (Postfix) with ESMTP id C1F976052471;
 Mon,  3 Mar 2025 07:12:37 -0500 (EST)
Subject: |SUCCESS| pw152190 [PATCH] net/mlx5: add GRE as L4 layer for entropy
From: dpdklab@iol.unh.edu
To: Test Report <test-report@dpdk.org>
Cc: dpdk-test-reports@iol.unh.edu
In-Reply-To: <20250226095155.55582-1-yrosner@nvidia.com>
References: <20250226095155.55582-1-yrosner@nvidia.com>
Content-Type: text/plain
X-BeenThere: test-report@dpdk.org
X-Mailman-Version: 2.1.29
Precedence: list
List-Id: automatic DPDK test reports <test-report.dpdk.org>
List-Unsubscribe: <https://mails.dpdk.org/options/test-report>,
 <mailto:test-report-request@dpdk.org?subject=unsubscribe>
List-Archive: <http://mails.dpdk.org/archives/test-report/>
List-Post: <mailto:test-report@dpdk.org>
List-Help: <mailto:test-report-request@dpdk.org?subject=help>
List-Subscribe: <https://mails.dpdk.org/listinfo/test-report>,
 <mailto:test-report-request@dpdk.org?subject=subscribe>
Errors-To: test-report-bounces@dpdk.org

Test-Label: iol-abi-testing
Test-Status: SUCCESS
http://dpdk.org/patch/152190

_Testing PASS_

Submitter: Yaniv Rosner <yrosner@nvidia.com>
Date: Wednesday, February 26 2025 09:51:55 
DPDK git baseline: Repo:dpdk
  Branch: master
  CommitID:cf35973540c8bb4ca5c7d105985a65a3602e5475

152190 --> testing pass

Upstream job id: Generic-DPDK-Compile-ABI#118832

Test environment and result as below:

+-------------------+----------+
|    Environment    | abi_test |
+===================+==========+
| Debian 12         | PASS     |
+-------------------+----------+
| Fedora 40 (Clang) | PASS     |
+-------------------+----------+
| Debian Bullseye   | PASS     |
+-------------------+----------+
| Fedora 41 (Clang) | PASS     |
+-------------------+----------+
| Fedora 41         | PASS     |
+-------------------+----------+
| openSUSE Leap 15  | PASS     |
+-------------------+----------+
| Fedora 40         | PASS     |
+-------------------+----------+
| RHEL8             | PASS     |
+-------------------+----------+
| RHEL9             | PASS     |
+-------------------+----------+
| Ubuntu 22.04      | PASS     |
+-------------------+----------+
| Ubuntu 24.04      | PASS     |
+-------------------+----------+
| CentOS Stream 9   | PASS     |
+-------------------+----------+
| CentOS Stream 10  | PASS     |
+-------------------+----------+


Debian 12
	Kernel: Depends on container host
	Compiler: gcc (Debian 12.2.0-14) 12.2.0

Fedora 40 (Clang)
	Kernel: Depends on container host
	Compiler: clang 18.1.8 (Fedora 18.1.8-1.fc40)

Debian Bullseye
	Kernel: Depends on container host
	Compiler: gcc (Debian 10.2.1-6) 10.2.1 20210110

Fedora 41 (Clang)
	Kernel: Depends on container host
	Compiler: clang 19.1.5 (Fedora 19.1.5-1.fc41)

Fedora 41
	Kernel: Depends on container host
	Compiler: gcc 14.2.1 20240912 (Red Hat 14.2.1-3)

openSUSE Leap 15
	Kernel: Depends on container host
	Compiler: gcc (SUSE Linux) 7.5.0

Fedora 40
	Kernel: Depends on container host
	Compiler: gcc 14.2.1 20240912 (Red Hat 14.2.1-3)

RHEL8
	Kernel: Depends on container host
	Compiler: gcc 8.5.0 20210514 (Red Hat 8.5.0-22)

RHEL9
	Kernel: Depends on container host
	Compiler: gcc 11.5.0 20240719 (Red Hat 11.5.0-2)

Ubuntu 22.04
	Kernel: Depends on container host
	Compiler: gcc (Ubuntu 11.4.0-1ubuntu1~22.04) 11.4.0

Ubuntu 24.04
	Kernel: Depends on container host
	Compiler: gcc (Ubuntu 13.3.0-6ubuntu2~24.04) 13.3.0

CentOS Stream 9
	Kernel: Depends on container host
	Compiler: gcc 11.5.0 20240719 (Red Hat 11.5.0-2)

CentOS Stream 10
	Kernel: Depends on container host
	Compiler: gcc 14.2.1 20241104 (Red Hat 14.2.1-6)

To view detailed results, visit:
https://lab.dpdk.org/results/dashboard/patchsets/32730/

UNH-IOL DPDK Community Lab

To manage your email subscriptions, visit: 
https://lab.dpdk.org/results/dashboard/preferences/subscriptions/