From mboxrd@z Thu Jan  1 00:00:00 1970
Return-Path: <test-report-bounces@dpdk.org>
Received: from mails.dpdk.org (mails.dpdk.org [217.70.189.124])
	by inbox.dpdk.org (Postfix) with ESMTP id 560A046311
	for <public@inbox.dpdk.org>; Mon,  3 Mar 2025 16:36:52 +0100 (CET)
Received: from mails.dpdk.org (localhost [127.0.0.1])
	by mails.dpdk.org (Postfix) with ESMTP id 4B9814027F;
	Mon,  3 Mar 2025 16:36:52 +0100 (CET)
Received: from mail-io1-f98.google.com (mail-io1-f98.google.com
 [209.85.166.98]) by mails.dpdk.org (Postfix) with ESMTP id 5A61F400D7
 for <test-report@dpdk.org>; Mon,  3 Mar 2025 16:36:51 +0100 (CET)
Received: by mail-io1-f98.google.com with SMTP id
 ca18e2360f4ac-85ae65ba2f1so20356439f.3
 for <test-report@dpdk.org>; Mon, 03 Mar 2025 07:36:51 -0800 (PST)
DKIM-Signature: v=1; a=rsa-sha256; c=relaxed/relaxed;
 d=iol.unh.edu; s=unh-iol; t=1741016210; x=1741621010; darn=dpdk.org;
 h=references:in-reply-to:cc:to:from:subject:message-id:date:from:to
 :cc:subject:date:message-id:reply-to;
 bh=MSqs5o7/IMbrcoBMmvf18x5wPnsXO8zVC1T2iC5cJuA=;
 b=gXOiodMcZPJ5pBm3q27X/WFkBIbShOqUCkbyU1bftmox+MJI1LwsrBhv8Y1fXJGYaw
 0nbmeJDN/l1Zoqd76IV9EnNPvk6LGC8+hrhhJuN4vGhK0tuv3a1QlCj03wBWJVxQevuP
 jHSKgN0HGrwx9kqp831Bcxtm7/f/yD87/wgk8=
X-Google-DKIM-Signature: v=1; a=rsa-sha256; c=relaxed/relaxed;
 d=1e100.net; s=20230601; t=1741016210; x=1741621010;
 h=references:in-reply-to:cc:to:from:subject:message-id:date
 :x-gm-message-state:from:to:cc:subject:date:message-id:reply-to;
 bh=MSqs5o7/IMbrcoBMmvf18x5wPnsXO8zVC1T2iC5cJuA=;
 b=TA1MtA2gaABhoRE4Pf8MJVgSFDVlbSTEfXHEOz2oZ3vkW9lXhUxdaMuoqY4p4MD5jl
 vCpHXt8V8rh963DOHfGtTvlSDBZM8qgI2HyUHlcvLCgJq4x8ccI4uaMw4lFNXJCzTtpj
 dTLBiSV4J9nBkPxohAdPgOA1fPP0jmxn2x3nyc9wyOfoQyr/xCnPjD4RJSM6Mp+7hmdR
 I2sR2H08odso8tgdjcLq7JsrGsi0kSPurOOVCvhmgZ3S4W10ESbTu9j6IzUp2BuJGTpw
 /QvMoBdh7LPmSeQcYFmVidDi2Py7CwiQSq9yRuCwVjYJSuuPB2xexKv3UR1Wv0YSrXy3
 JHUQ==
X-Gm-Message-State: AOJu0YzRRjrxASr+mc3ANjVcjRrpZYZ1NSuqymxykny+g32OQXDE++5f
 ED6hgGN1TxJqBCQ1Y0NvU9PSrFOu2Tnc6tokBih4Ug1uziafUV4Q/a/N7Dy6v1/6RD5U6nY4RDW
 njNrzUyUV35/ylDyDyxnwhcegT0Y9iH7l2RqTpdMiXny4qsGv504R7QRg
X-Gm-Gg: ASbGncvDzBxhRKFGRDEXKYSe3l9ON9J0PsintIo7Wvb0sCEoAqppiE3bXkcKtZ7YtZz
 vzVvGXsjGmsw0Po4gl4e5C+clE93JHesUnzrb6L8eTJJaxCS6iyoV8nGvDYXpeHZaZ3c/v8tyRY
 VkCe8YSnCVEFMsTKV0057v/DWFYT47CFmWe36ruW4dMo0wjAiPKwKFKR3DgvO0yd6bXEYHmA8hP
 DDHRAY+7NE1o6PFVPcOu/3VZTYq+ZEWDzBpwChCees5M/Avy9O6BST+Hwh+BKGFdMhiNnRtBppT
 ZEFHmn1q2UZXWbv3yPBR2V4tC0HfzKv2xMzanv4IMgMO3S6uoEVU
X-Google-Smtp-Source: AGHT+IHlKUAQOJRD9p6gTnjUS8VU4L10OzpltShjj95etkYR39nQxD69JPw/ITf7ewCfVkkU3L0bPiBXUu2K
X-Received: by 2002:a05:6602:2dd5:b0:844:debf:24dc with SMTP id
 ca18e2360f4ac-85881f1ae17mr1367873539f.5.1741016210626; 
 Mon, 03 Mar 2025 07:36:50 -0800 (PST)
Received: from postal.iol.unh.edu (postal.iol.unh.edu.
 [2606:4100:3880:1234::84]) by smtp-relay.gmail.com with ESMTPS id
 ca18e2360f4ac-85875132428sm52374739f.14.2025.03.03.07.36.50
 (version=TLS1_2 cipher=ECDHE-ECDSA-AES128-GCM-SHA256 bits=128/128);
 Mon, 03 Mar 2025 07:36:50 -0800 (PST)
X-Relaying-Domain: iol.unh.edu
Date: Mon, 03 Mar 2025 07:36:50 -0800 (PST)
Message-ID: <67c5cc92.050a0220.2ebc47.b834SMTPIN_ADDED_MISSING@mx.google.com>
Received: from [172.21.0.7] (unknown [172.18.0.240])
 by postal.iol.unh.edu (Postfix) with ESMTP id 1EA156052471;
 Mon,  3 Mar 2025 10:36:50 -0500 (EST)
Subject: |SUCCESS| pw152191 [PATCH] net/mlx5: fix flow create failure with GE
From: dpdklab@iol.unh.edu
To: Test Report <test-report@dpdk.org>
Cc: dpdk-test-reports@iol.unh.edu
In-Reply-To: <20250303132931.71335-1-mkashani@nvidia.com>
References: <20250303132931.71335-1-mkashani@nvidia.com>
Content-Type: text/plain
X-BeenThere: test-report@dpdk.org
X-Mailman-Version: 2.1.29
Precedence: list
List-Id: automatic DPDK test reports <test-report.dpdk.org>
List-Unsubscribe: <https://mails.dpdk.org/options/test-report>,
 <mailto:test-report-request@dpdk.org?subject=unsubscribe>
List-Archive: <http://mails.dpdk.org/archives/test-report/>
List-Post: <mailto:test-report@dpdk.org>
List-Help: <mailto:test-report-request@dpdk.org?subject=help>
List-Subscribe: <https://mails.dpdk.org/listinfo/test-report>,
 <mailto:test-report-request@dpdk.org?subject=subscribe>
Errors-To: test-report-bounces@dpdk.org

Test-Label: iol-compile-amd64-testing
Test-Status: SUCCESS
http://dpdk.org/patch/152191

_Testing PASS_

Submitter: Maayan Kashani <mkashani@nvidia.com>
Date: Monday, March 03 2025 13:29:31 
DPDK git baseline: Repo:dpdk
  Branch: master
  CommitID:cf35973540c8bb4ca5c7d105985a65a3602e5475

152191 --> testing pass

Upstream job id: Generic-DPDK-Compile-Meson#368177

Test environment and result as below:

+---------------------+--------------------+-------------------+------------------+-------------------------+-------------------+----------------------+
|     Environment     | dpdk_meson_compile | dpdk_compile_spdk | dpdk_compile_ovs | dpdk_llvm_clang_compile | dpdk_msvc_compile | dpdk_mingw64_compile |
+=====================+====================+===================+==================+=========================+===================+======================+
| Debian Bullseye     | PASS               | PASS              | SKIPPED          | SKIPPED                 | SKIPPED           | SKIPPED              |
+---------------------+--------------------+-------------------+------------------+-------------------------+-------------------+----------------------+
| CentOS Stream 10    | PASS               | SKIPPED           | SKIPPED          | SKIPPED                 | SKIPPED           | SKIPPED              |
+---------------------+--------------------+-------------------+------------------+-------------------------+-------------------+----------------------+
| CentOS Stream 9     | PASS               | PASS              | SKIPPED          | SKIPPED                 | SKIPPED           | SKIPPED              |
+---------------------+--------------------+-------------------+------------------+-------------------------+-------------------+----------------------+
| Debian 12           | PASS               | PASS              | SKIPPED          | SKIPPED                 | SKIPPED           | SKIPPED              |
+---------------------+--------------------+-------------------+------------------+-------------------------+-------------------+----------------------+
| Fedora 40 (Clang)   | PASS               | PASS              | SKIPPED          | SKIPPED                 | SKIPPED           | SKIPPED              |
+---------------------+--------------------+-------------------+------------------+-------------------------+-------------------+----------------------+
| Fedora 40           | PASS               | PASS              | SKIPPED          | SKIPPED                 | SKIPPED           | SKIPPED              |
+---------------------+--------------------+-------------------+------------------+-------------------------+-------------------+----------------------+
| Fedora 41 (Clang)   | PASS               | PASS              | PASS             | SKIPPED                 | SKIPPED           | SKIPPED              |
+---------------------+--------------------+-------------------+------------------+-------------------------+-------------------+----------------------+
| openSUSE Leap 15    | PASS               | SKIPPED           | SKIPPED          | SKIPPED                 | SKIPPED           | SKIPPED              |
+---------------------+--------------------+-------------------+------------------+-------------------------+-------------------+----------------------+
| Ubuntu 20.04        | PASS               | SKIPPED           | SKIPPED          | SKIPPED                 | SKIPPED           | SKIPPED              |
+---------------------+--------------------+-------------------+------------------+-------------------------+-------------------+----------------------+
| Ubuntu 24.04        | PASS               | PASS              | PASS             | SKIPPED                 | SKIPPED           | SKIPPED              |
+---------------------+--------------------+-------------------+------------------+-------------------------+-------------------+----------------------+
| Alpine              | PASS               | SKIPPED           | SKIPPED          | SKIPPED                 | SKIPPED           | SKIPPED              |
+---------------------+--------------------+-------------------+------------------+-------------------------+-------------------+----------------------+
| Fedora 41           | PASS               | PASS              | PASS             | SKIPPED                 | SKIPPED           | SKIPPED              |
+---------------------+--------------------+-------------------+------------------+-------------------------+-------------------+----------------------+
| RHEL8               | PASS               | SKIPPED           | SKIPPED          | SKIPPED                 | SKIPPED           | SKIPPED              |
+---------------------+--------------------+-------------------+------------------+-------------------------+-------------------+----------------------+
| RHEL9               | PASS               | SKIPPED           | SKIPPED          | SKIPPED                 | SKIPPED           | SKIPPED              |
+---------------------+--------------------+-------------------+------------------+-------------------------+-------------------+----------------------+
| FreeBSD 13.4        | PASS               | SKIPPED           | SKIPPED          | SKIPPED                 | SKIPPED           | SKIPPED              |
+---------------------+--------------------+-------------------+------------------+-------------------------+-------------------+----------------------+
| FreeBSD 14.2        | PASS               | SKIPPED           | SKIPPED          | SKIPPED                 | SKIPPED           | SKIPPED              |
+---------------------+--------------------+-------------------+------------------+-------------------------+-------------------+----------------------+
| Ubuntu 22.04        | PASS               | PASS              | SKIPPED          | SKIPPED                 | SKIPPED           | SKIPPED              |
+---------------------+--------------------+-------------------+------------------+-------------------------+-------------------+----------------------+
| Windows Server 2022 | SKIPPED            | SKIPPED           | SKIPPED          | PASS                    | PASS              | PASS                 |
+---------------------+--------------------+-------------------+------------------+-------------------------+-------------------+----------------------+


Debian Bullseye
	Kernel: Depends on container host
	Compiler: gcc (Debian 10.2.1-6) 10.2.1 20210110

CentOS Stream 10
	Kernel: Depends on container host
	Compiler: gcc 14.2.1 20241104 (Red Hat 14.2.1-6)

CentOS Stream 9
	Kernel: Depends on container host
	Compiler: gcc 11.5.0 20240719 (Red Hat 11.5.0-2)

Debian 12
	Kernel: Depends on container host
	Compiler: gcc (Debian 12.2.0-14) 12.2.0

Fedora 40 (Clang)
	Kernel: Depends on container host
	Compiler: clang 18.1.8 (Fedora 18.1.8-1.fc40)

Fedora 40
	Kernel: Depends on container host
	Compiler: gcc 14.2.1 20240912 (Red Hat 14.2.1-3)

Fedora 41 (Clang)
	Kernel: Depends on container host
	Compiler: clang 19.1.5 (Fedora 19.1.5-1.fc41)

openSUSE Leap 15
	Kernel: Depends on container host
	Compiler: gcc (SUSE Linux) 7.5.0

Ubuntu 20.04
	Kernel: Depends on container host
	Compiler: gcc (Ubuntu 9.4.0-1ubuntu1~20.04.2) 9.4.0

Ubuntu 24.04
	Kernel: Depends on container host
	Compiler: gcc (Ubuntu 13.3.0-6ubuntu2~24.04) 13.3.0

Alpine
	Kernel: Depends on container host
	Compiler: gcc (Alpine 14.2.0) 14.2.0

Fedora 41
	Kernel: Depends on container host
	Compiler: gcc 14.2.1 20240912 (Red Hat 14.2.1-3)

RHEL8
	Kernel: Depends on container host
	Compiler: gcc 8.5.0 20210514 (Red Hat 8.5.0-22)

RHEL9
	Kernel: Depends on container host
	Compiler: gcc 11.5.0 20240719 (Red Hat 11.5.0-2)

FreeBSD 13.4
	Kernel: 13.4-RELEASE-p1
	Compiler: clang 18.1.6

FreeBSD 14.2
	Kernel: 14.2-RELEASE
	Compiler: clang 18.1.6

Ubuntu 22.04
	Kernel: Depends on container host
	Compiler: gcc (Ubuntu 11.4.0-1ubuntu1~22.04) 11.4.0

Windows Server 2022
	Kernel: 10.0.20348.2031
	Compiler: clang 15.0.7, gcc 14.1.0 (MinGW), and MSVC VS 19.39.33521

To view detailed results, visit:
https://lab.dpdk.org/results/dashboard/patchsets/32731/

UNH-IOL DPDK Community Lab

To manage your email subscriptions, visit: 
https://lab.dpdk.org/results/dashboard/preferences/subscriptions/