From mboxrd@z Thu Jan  1 00:00:00 1970
Return-Path: <test-report-bounces@dpdk.org>
Received: from mails.dpdk.org (mails.dpdk.org [217.70.189.124])
	by inbox.dpdk.org (Postfix) with ESMTP id 728EE46332
	for <public@inbox.dpdk.org>; Mon,  3 Mar 2025 17:35:37 +0100 (CET)
Received: from mails.dpdk.org (localhost [127.0.0.1])
	by mails.dpdk.org (Postfix) with ESMTP id 492B240281;
	Mon,  3 Mar 2025 17:35:37 +0100 (CET)
Received: from mail-yb1-f227.google.com (mail-yb1-f227.google.com
 [209.85.219.227])
 by mails.dpdk.org (Postfix) with ESMTP id 40A8240280
 for <test-report@dpdk.org>; Mon,  3 Mar 2025 17:35:36 +0100 (CET)
Received: by mail-yb1-f227.google.com with SMTP id
 3f1490d57ef6-e608b2698fcso3140805276.1
 for <test-report@dpdk.org>; Mon, 03 Mar 2025 08:35:36 -0800 (PST)
DKIM-Signature: v=1; a=rsa-sha256; c=relaxed/relaxed;
 d=iol.unh.edu; s=unh-iol; t=1741019735; x=1741624535; darn=dpdk.org;
 h=references:in-reply-to:cc:to:from:subject:message-id:date:from:to
 :cc:subject:date:message-id:reply-to;
 bh=jecEM0Pq/x+QPz/7XWkB8eBEwAwQlgbZOmrhyItnaac=;
 b=A0MEjgfcfGAjbXSsy+4ZdcLkA7IYtnUOZukbPvvTwAdzSerwpF+IWXhKTNpPKlEMb/
 d1g+Urx+PKMnfkcswrd5OIg1pmKp+0hciMN6/87WEgOhvruVZ/KAAHUtQH/1XLV5qXJi
 mGhEpE0ZexP0mhjNFphCQEoKkACQR27EvHf8g=
X-Google-DKIM-Signature: v=1; a=rsa-sha256; c=relaxed/relaxed;
 d=1e100.net; s=20230601; t=1741019735; x=1741624535;
 h=references:in-reply-to:cc:to:from:subject:message-id:date
 :x-gm-message-state:from:to:cc:subject:date:message-id:reply-to;
 bh=jecEM0Pq/x+QPz/7XWkB8eBEwAwQlgbZOmrhyItnaac=;
 b=qNqtDRx3O8q4eA/H6+nxOr614FXKiApBakiT6M2ohi7/Q5pg3NulmDrn4LfQLe6n0Y
 iqql16GZFwb14YfE7Agj8YIu2S3YQn1qgEWc0VoRpHhB2oboeMslTlljHcP84e7Za4bF
 DslGFQG8x8DSJTqeihNUYcTUs44urwn3aoAYAht/BAASsCK9ouRXlMl1ZstC+7dazug6
 XbF2e/iqZIyiVq5/6P0WAuC8F9Xvr6B8WgyvjZ7nvc9GTG1YvPy1qtiwze1VrGWVCjuD
 1DRuEZIYY4yCsEtnqnWK1ZfXUpD9EDZZwSaMzfM5PLA3BDUpiyNtzyKEHzgZJxC5+36K
 ucAg==
X-Gm-Message-State: AOJu0YwAVcUCm2RotkTIhAT2jlMJeU8s8f6pqIv/bp2sAT4SRMqHtaVt
 SMYMNNHs7Av5YOCUmsU/MFDl/DotLjof4FwvVJpQ5nhHMtsj/2xH11jnykZxUVCym4ndvVrGb3/
 fh32krY1ztnPc25FAOio1XXx8k/7Ft53AGSurVQiVaGI1O6idqnBkqg2m
X-Gm-Gg: ASbGnct0dPHzu4d8xZrBEyrLqI4UQUTU6JFY3fYHVv236i1QQlszlWdBG9SwYMuYQu2
 prkrD4LJYfpSAS0pjAWw4Pkhc/JO2QtnOCOXL2mlvi+ne/4J3xFR0NvyOWe1aDcF0sZHq2+ycmC
 Ct8LoInc+letVFD54+Od0hrpeK4kDBzmh8fmCwipJCt+IWhXYkmRj+zGkcZxjqYc9KHhCIeFN/w
 OEbEfDSk868yCHXX+5D+Csp8h2wd9jINB9XvucItdo18ymzqRMGB3VfLSU6+tHbQGA/waeBVsKy
 ZN7ouux1Ibrl/4Wl6G5qWB4mfKfQz4d+WnfYiEqAvov83IBQo+bz
X-Google-Smtp-Source: AGHT+IG0pizXd7eRyskSdNsDaxhsTNuZ76QRTyspuZM2vv+nQQh8m7PHIP3egNkskdoCY9JZMd9ceNHOMzh+
X-Received: by 2002:a05:6902:1a4a:b0:e5e:1062:bcc3 with SMTP id
 3f1490d57ef6-e60b2e9427dmr14446979276.7.1741019735028; 
 Mon, 03 Mar 2025 08:35:35 -0800 (PST)
Received: from postal.iol.unh.edu (postal.iol.unh.edu.
 [2606:4100:3880:1234::84]) by smtp-relay.gmail.com with ESMTPS id
 3f1490d57ef6-e60a3aab929sm509439276.28.2025.03.03.08.35.34
 (version=TLS1_2 cipher=ECDHE-ECDSA-AES128-GCM-SHA256 bits=128/128);
 Mon, 03 Mar 2025 08:35:35 -0800 (PST)
X-Relaying-Domain: iol.unh.edu
Date: Mon, 03 Mar 2025 08:35:35 -0800 (PST)
Message-ID: <67c5da57.250a0220.3da817.b441SMTPIN_ADDED_MISSING@mx.google.com>
Received: from [172.21.0.7] (unknown [172.18.0.240])
 by postal.iol.unh.edu (Postfix) with ESMTP id 8E1016052471;
 Mon,  3 Mar 2025 11:35:34 -0500 (EST)
Subject: |SUCCESS| pw152191 [PATCH] net/mlx5: fix flow create failure with GE
From: dpdklab@iol.unh.edu
To: Test Report <test-report@dpdk.org>
Cc: dpdk-test-reports@iol.unh.edu
In-Reply-To: <20250303132931.71335-1-mkashani@nvidia.com>
References: <20250303132931.71335-1-mkashani@nvidia.com>
Content-Type: text/plain
X-BeenThere: test-report@dpdk.org
X-Mailman-Version: 2.1.29
Precedence: list
List-Id: automatic DPDK test reports <test-report.dpdk.org>
List-Unsubscribe: <https://mails.dpdk.org/options/test-report>,
 <mailto:test-report-request@dpdk.org?subject=unsubscribe>
List-Archive: <http://mails.dpdk.org/archives/test-report/>
List-Post: <mailto:test-report@dpdk.org>
List-Help: <mailto:test-report-request@dpdk.org?subject=help>
List-Subscribe: <https://mails.dpdk.org/listinfo/test-report>,
 <mailto:test-report-request@dpdk.org?subject=subscribe>
Errors-To: test-report-bounces@dpdk.org

Test-Label: iol-compile-arm64-testing
Test-Status: SUCCESS
http://dpdk.org/patch/152191

_Testing PASS_

Submitter: Maayan Kashani <mkashani@nvidia.com>
Date: Monday, March 03 2025 13:29:31 
DPDK git baseline: Repo:dpdk
  Branch: master
  CommitID:cf35973540c8bb4ca5c7d105985a65a3602e5475

152191 --> testing pass

Upstream job id: Generic-DPDK-Compile-Meson#368156

Test environment and result as below:

+----------------------------------------+--------------------+
|              Environment               | dpdk_meson_compile |
+========================================+====================+
| RHEL9 (ARM)                            | PASS               |
+----------------------------------------+--------------------+
| Ubuntu 20.04 ARM GCC Cross Compile     | PASS               |
+----------------------------------------+--------------------+
| Fedora 40 (ARM)                        | PASS               |
+----------------------------------------+--------------------+
| Debian 12 with MUSDK                   | PASS               |
+----------------------------------------+--------------------+
| Ubuntu 20.04 ARM SVE                   | PASS               |
+----------------------------------------+--------------------+
| Fedora 40 (ARM Clang)                  | PASS               |
+----------------------------------------+--------------------+
| Fedora 41 (ARM)                        | PASS               |
+----------------------------------------+--------------------+
| Fedora 41 (ARM Clang)                  | PASS               |
+----------------------------------------+--------------------+
| Ubuntu 20.04 (ARM)                     | PASS               |
+----------------------------------------+--------------------+
| Ubuntu 22.04 (ARM)                     | PASS               |
+----------------------------------------+--------------------+
| Ubuntu 24.04 (ARM)                     | PASS               |
+----------------------------------------+--------------------+
| CentOS Stream 9 (ARM)                  | PASS               |
+----------------------------------------+--------------------+
| Debian 11 (Buster) (ARM)               | PASS               |
+----------------------------------------+--------------------+
| CentOS Stream 10 (ARM)                 | PASS               |
+----------------------------------------+--------------------+
| Ubuntu 20.04 ARM Clang Cross Compile   | PASS               |
+----------------------------------------+--------------------+
| Debian 12 (arm)                        | PASS               |
+----------------------------------------+--------------------+
| Ubuntu 20.04 aarch32 GCC Cross Compile | PASS               |
+----------------------------------------+--------------------+


RHEL9 (ARM)
	Kernel: Depends on container host
	Compiler: gcc 11.5.0 20240719 (Red Hat 11.5.0-2)

Ubuntu 20.04 ARM GCC Cross Compile
	Kernel: Depends on container host
	Compiler: aarch64-linux-gnu-gcc (Ubuntu 9.4.0-1ubuntu1~20.04.2) 9.4.0

Fedora 40 (ARM)
	Kernel: Depends on container host
	Compiler: gcc 14.2.1 20240912 (Red Hat 14.2.1-3)

Debian 12 with MUSDK
	Kernel: Depends on container host
	Compiler: gcc (Debian 12.2.0-14) 12.2.0

Ubuntu 20.04 ARM SVE
	Kernel: Depends on container host
	Compiler: gcc (Ubuntu 10.5.0-1ubuntu1~20.04) 10.5.0

Fedora 40 (ARM Clang)
	Kernel: Depends on container host
	Compiler: clang 18.1.8 (Fedora 18.1.8-1.fc40)

Fedora 41 (ARM)
	Kernel: Depends on container host
	Compiler: gcc 14.2.1 20240912 (Red Hat 14.2.1-3)

Fedora 41 (ARM Clang)
	Kernel: Depends on container host
	Compiler: clang 19.1.5 (Fedora 19.1.5-1.fc41)

Ubuntu 20.04 (ARM)
	Kernel: Depends on container host
	Compiler: gcc (Ubuntu 9.4.0-1ubuntu1~20.04.2) 9.4.0

Ubuntu 22.04 (ARM)
	Kernel: Depends on container host
	Compiler: gcc (Ubuntu 11.4.0-1ubuntu1~22.04) 11.4.0

Ubuntu 24.04 (ARM)
	Kernel: Depends on container host
	Compiler: gcc (Ubuntu 13.3.0-6ubuntu2~24.04) 13.3.0

CentOS Stream 9 (ARM)
	Kernel: Depends on container host
	Compiler: gcc 11.5.0 20240719 (Red Hat 11.5.0-2)

Debian 11 (Buster) (ARM)
	Kernel: Depends on container host
	Compiler: gcc (Debian 10.2.1-6) 10.2.1 20210110

CentOS Stream 10 (ARM)
	Kernel: Depends on container host
	Compiler: gcc 14.2.1 20241104 (Red Hat 14.2.1-6)

Ubuntu 20.04 ARM Clang Cross Compile
	Kernel: Depends on container host
	Compiler: clang 10.0.0-4ubuntu1

Debian 12 (arm)
	Kernel: Depends on container host
	Compiler: gcc (Debian 12.2.0-14) 12.2.0

Ubuntu 20.04 aarch32 GCC Cross Compile
	Kernel: Depends on container host
	Compiler: gcc 9.4.0

To view detailed results, visit:
https://lab.dpdk.org/results/dashboard/patchsets/32731/

UNH-IOL DPDK Community Lab

To manage your email subscriptions, visit: 
https://lab.dpdk.org/results/dashboard/preferences/subscriptions/