From mboxrd@z Thu Jan 1 00:00:00 1970 Return-Path: Received: from mails.dpdk.org (mails.dpdk.org [217.70.189.124]) by inbox.dpdk.org (Postfix) with ESMTP id D131946336 for ; Tue, 4 Mar 2025 03:34:59 +0100 (CET) Received: from mails.dpdk.org (localhost [127.0.0.1]) by mails.dpdk.org (Postfix) with ESMTP id C910440156; Tue, 4 Mar 2025 03:34:59 +0100 (CET) Received: from mail-pj1-f100.google.com (mail-pj1-f100.google.com [209.85.216.100]) by mails.dpdk.org (Postfix) with ESMTP id D5A1D40041 for ; Tue, 4 Mar 2025 03:34:58 +0100 (CET) Received: by mail-pj1-f100.google.com with SMTP id 98e67ed59e1d1-2febaaf175fso6108395a91.3 for ; Mon, 03 Mar 2025 18:34:58 -0800 (PST) DKIM-Signature: v=1; a=rsa-sha256; c=relaxed/relaxed; d=iol.unh.edu; s=unh-iol; t=1741055698; x=1741660498; darn=dpdk.org; h=cc:to:from:subject:message-id:date:from:to:cc:subject:date :message-id:reply-to; bh=iZAWNdGA+L2PIDr3KJqwVSN810T8fYy0hIxHj8D/Y20=; b=R+6UMQvN8Ey/KzW388rkbKISGvXVN8nAvepd3608aP9ns4jhQH3ujQ88MCTd8ctnSt tuXEZKFLiOOeuokFMbfCdspBc62Z0V+IubhZGmPTah0WuECrqW5sEBF5joAea1u5BccM SN+vQyORaD/01ndO+GDiWYa7+4YMqTIgcw6Ag= X-Google-DKIM-Signature: v=1; a=rsa-sha256; c=relaxed/relaxed; d=1e100.net; s=20230601; t=1741055698; x=1741660498; h=cc:to:from:subject:message-id:date:x-gm-message-state:from:to:cc :subject:date:message-id:reply-to; bh=iZAWNdGA+L2PIDr3KJqwVSN810T8fYy0hIxHj8D/Y20=; b=NB23Ubb7pCF/RYN+jyjtBHFnZOBn0pK9e6URy+1DFC9EDZ2780vxcUVP+lFQ362QRw jS+JCS2GJal0sDJu47CnMLGr9S0hXYniNwYJJIVvi95cw0oWni6ByqENcwb+Jf4h8c1R ewJV2Blg5gunuFdregd3pPBD+f5t7vtwvpWotGldihzEJrICeBw41kRPJOxROu59ZBPY D4R+xfdGCGeWLODEGXLl1IhlEhXPER+vbT/pvSni+IWTtRYoQ+FQIGoGj9KhDERrY1K6 FcbVCQKcBgYBVnWj1WyFnqH+waHG+oN4JKG8bD7x8xK8RDhgeuJ9BZHcpjnQ4DIKqzLN b0wQ== X-Gm-Message-State: AOJu0YyZslqUZHgeOXsK3RqSHaQKBrtN8OErxekfdWHBuOKhO1GEyUFw Fn6ByS8sbirSbmY0Nidhu3RJZ5ByQEg4zBWpb/qE+gdetjrqXgYa4apQ7WROu0Vl21/IXnfie9m 5k+cjRo+ljzjZF/dC1qZjuQ6W8i7PTLG4Tg7+hwjVa+HB8dV4QrGsiOd6 X-Gm-Gg: ASbGncuvU/LpBrvaRs54BpCvr9x/r2HaX9jha8YeqxxxRI2R5FmcGADCFCct7nSPA5t V2iDiFR8hDj2nr/my3KsqlkmiH5n30tMe9xtkFhHCPojHvZiInAQMfi0P8cpV/fDu+8q6Nkyw9G X2PEyL/LX7kVlCF2thLXD2BxUcNTN2tC1nCdpzmTycJpXS+0UhgPCyaUFzZZfjzNhuQ/Cuyfw0e oY+XuepzuxnqZv/7t+1AD7/uC1uyuQOKAoLfIch32C+F2W/CWPhhnc5beeBHr4rk7XaxDnHjhHV lnzKHCcTeBToYgJmYQuWDaqxPBamsIyAtOBq45gIRUKAopet3dcU X-Google-Smtp-Source: AGHT+IGZcwRnbtYB4ZosD/FlCW2QmX+UmcNITkc6pYVAQWY4x35AZsfLdDZSO1gzZKqzXah1or45BeAb1AMo X-Received: by 2002:a17:90b:4acb:b0:2ee:a583:e616 with SMTP id 98e67ed59e1d1-2febab3e417mr23967839a91.9.1741055698003; Mon, 03 Mar 2025 18:34:58 -0800 (PST) Received: from postal.iol.unh.edu (postal.iol.unh.edu. [2606:4100:3880:1234::84]) by smtp-relay.gmail.com with ESMTPS id d9443c01a7336-223501fa541sm5675495ad.34.2025.03.03.18.34.57 (version=TLS1_2 cipher=ECDHE-ECDSA-AES128-GCM-SHA256 bits=128/128); Mon, 03 Mar 2025 18:34:57 -0800 (PST) X-Relaying-Domain: iol.unh.edu Date: Mon, 03 Mar 2025 18:34:57 -0800 (PST) Message-ID: <67c666d1.170a0220.33740a.e5d2SMTPIN_ADDED_MISSING@mx.google.com> Received: from [172.17.0.3] (unknown [172.18.0.217]) by postal.iol.unh.edu (Postfix) with ESMTP id 154166052471; Mon, 3 Mar 2025 21:34:57 -0500 (EST) Subject: |SUCCESS| [GIT MASTER] fab31a03ba98e7457284df95dd9eef2223a4ccaa From: dpdklab@iol.unh.edu To: Test Report Cc: dpdk-test-reports@iol.unh.edu Content-Type: text/plain X-BeenThere: test-report@dpdk.org X-Mailman-Version: 2.1.29 Precedence: list List-Id: automatic DPDK test reports List-Unsubscribe: , List-Archive: List-Post: List-Help: List-Subscribe: , Errors-To: test-report-bounces@dpdk.org _Testing PASS_ Branch: dpdk fab31a03ba98e7457284df95dd9eef2223a4ccaa --> testing pass Upstream job id: ACVP-FIPS-testing#9150 Test environment and result as below: +--------------------+----------------------+----------------------+ | Environment | compressdev_zlib_pmd | dpdk_fips_validation | +====================+======================+======================+ | Ubuntu 22.04 (ARM) | PASS | SKIPPED | +--------------------+----------------------+----------------------+ | Ubuntu 22.04 | PASS | SKIPPED | +--------------------+----------------------+----------------------+ | Ubuntu 20.04 | SKIPPED | PASS | +--------------------+----------------------+----------------------+ Ubuntu 22.04 (ARM) Kernel: 5.15.0-97-generic Compiler: gcc gcc (Ubuntu 11.4.0-1ubuntu1~22.04) 11.4.0 Ubuntu 22.04 Kernel: 5.15.0-100-generic Compiler: gcc gcc (Ubuntu 11.4.0-1ubuntu1~22.04) 11.4.0 Ubuntu 20.04 Kernel: Depends on container host Compiler: gcc (Ubuntu 9.4.0-1ubuntu1~20.04.2) 9.4.0 To view detailed results, visit: https://lab.dpdk.org/results/dashboard/tarballs/32828/ UNH-IOL DPDK Community Lab To manage your email subscriptions, visit: https://lab.dpdk.org/results/dashboard/preferences/subscriptions/