From mboxrd@z Thu Jan  1 00:00:00 1970
Return-Path: <test-report-bounces@dpdk.org>
Received: from mails.dpdk.org (mails.dpdk.org [217.70.189.124])
	by inbox.dpdk.org (Postfix) with ESMTP id BECFC46336
	for <public@inbox.dpdk.org>; Tue,  4 Mar 2025 05:13:48 +0100 (CET)
Received: from mails.dpdk.org (localhost [127.0.0.1])
	by mails.dpdk.org (Postfix) with ESMTP id 8DEF540156;
	Tue,  4 Mar 2025 05:13:48 +0100 (CET)
Received: from mail-il1-f228.google.com (mail-il1-f228.google.com
 [209.85.166.228])
 by mails.dpdk.org (Postfix) with ESMTP id 2A4F240041
 for <test-report@dpdk.org>; Tue,  4 Mar 2025 05:13:47 +0100 (CET)
Received: by mail-il1-f228.google.com with SMTP id
 e9e14a558f8ab-3ce87d31480so19165725ab.2
 for <test-report@dpdk.org>; Mon, 03 Mar 2025 20:13:47 -0800 (PST)
DKIM-Signature: v=1; a=rsa-sha256; c=relaxed/relaxed;
 d=iol.unh.edu; s=unh-iol; t=1741061626; x=1741666426; darn=dpdk.org;
 h=references:in-reply-to:cc:to:from:subject:message-id:date:from:to
 :cc:subject:date:message-id:reply-to;
 bh=sat1MnC83J/T63dUo2/IsX6GlcoebhrBPIyw4hrR+Pg=;
 b=LGpSXQNmu7ON+kOKcw1Xg8CDDZ9hG9bRg+MclWXTfJo9DMYswPknAJMEgq+mRrd/Mk
 ldgBf+qcMetThblF/Z+D5cAfxY9QqJ3iPmiZs6ne/y7VOU+pE+iUXqVveED/Erpsvnl0
 D889Hl6h4lxu/Zy6SmapD2s9LOWipw01epL7A=
X-Google-DKIM-Signature: v=1; a=rsa-sha256; c=relaxed/relaxed;
 d=1e100.net; s=20230601; t=1741061626; x=1741666426;
 h=references:in-reply-to:cc:to:from:subject:message-id:date
 :x-gm-message-state:from:to:cc:subject:date:message-id:reply-to;
 bh=sat1MnC83J/T63dUo2/IsX6GlcoebhrBPIyw4hrR+Pg=;
 b=POff1pWfHKaCC9TpmQrLC2RJM6pcC8NDtqWC/WvCkGTgxAqSgsTuC/LMQJJTLzChPH
 qdOVkCf5DtRoJWp/kH/Q+ipwLigPehsfatTUUvtuPdPoL+cF4yMFs1y7iNhhGB/XUbO4
 UF1lj8bZMUF7Dhxu/zmcsoLMgQ64J4FoZWICzHqRrxGmQrU3tvrMSTNW/QqGi5JGWPNe
 Pl8j8vkA+GTAYVmPlmYSLK6nDkw72nu4R5g45OS61OlOrTnibxM0/81ywCEkBlhg3cEy
 yf4/YuTct9gm+aONZdgVHQy/ipwC7WfZ4Oyy0ayZVocbFDimQn1hoiBP7nH+E+D/uzub
 M+LA==
X-Gm-Message-State: AOJu0YwAxW8vjaBrt88vxQO7/Sba1S+P8uoduHsgsZ/OybmBU8lw+fPy
 e67+XwfLC6/K1vyOE9NZ3nNhnaAkUf/H4klMwPdZ2va/jkwQeXUJVxXtr8tEqCvHOca/jLtZw5g
 QKcBC2nzL7odbmUIZkywMPr2l/Y/riyvcbJhxPk88bTKBhpE1aAmtL6Tz
X-Gm-Gg: ASbGnctiJmikfyHIJ6B3K7x5lBMVkcJ4Oc9yJl/d4DNbHYHtCYm90cFkfVGR0QZKOQL
 k7RQc2xT4sTAr0BWXvtr8hUP8KLz+rhsvZJPq5JLNTrBXVFvQ9HybhbWqoQuShACL2KvjTTgpaQ
 C8DNN53Vg3UXbrDWtDJV3YqjT3PKmw/CoZFseNRywY8VX/wjJJTyWit56pCvqOh05w81g1UgWyX
 /+A8+K+nILoeR+4tC5CCpbGN2pJYt40/IybTHk7wsG/nmjK2XUuGzDTr0HQgKaxdS+lDXwQAd4V
 7v74r78sQ44WbKN4fHnsxtbjADdLNrHX7fPlPIQABoGaEt6oFTh5
X-Google-Smtp-Source: AGHT+IHxy2orFMnzSK2Kx3vV7tp+JEPrmqKGjjZ4bBcoC9YyrGrfKsOzy7zna+s93+HDrve/KMhundy5gLfE
X-Received: by 2002:a05:6e02:310a:b0:3d3:fdcc:8fb8 with SMTP id
 e9e14a558f8ab-3d3fdcc9395mr83637125ab.10.1741061626150; 
 Mon, 03 Mar 2025 20:13:46 -0800 (PST)
Received: from postal.iol.unh.edu (postal.iol.unh.edu.
 [2606:4100:3880:1234::84]) by smtp-relay.gmail.com with ESMTPS id
 e9e14a558f8ab-3d3fbe3a59dsm3209875ab.45.2025.03.03.20.13.46
 (version=TLS1_2 cipher=ECDHE-ECDSA-AES128-GCM-SHA256 bits=128/128);
 Mon, 03 Mar 2025 20:13:46 -0800 (PST)
X-Relaying-Domain: iol.unh.edu
Date: Mon, 03 Mar 2025 20:13:46 -0800 (PST)
Message-ID: <67c67dfa.050a0220.ddeeb.fd07SMTPIN_ADDED_MISSING@mx.google.com>
Received: from [172.17.0.3] (unknown [172.18.0.217])
 by postal.iol.unh.edu (Postfix) with ESMTP id 5C1CE6052471;
 Mon,  3 Mar 2025 23:13:45 -0500 (EST)
Subject: |SUCCESS| pw152206 [PATCH] dmadev: enable lib to be compiled with MS
From: dpdklab@iol.unh.edu
To: Test Report <test-report@dpdk.org>
Cc: dpdk-test-reports@iol.unh.edu
In-Reply-To: <1741053304-9891-1-git-send-email-andremue@linux.microsoft.com>
References: <1741053304-9891-1-git-send-email-andremue@linux.microsoft.com>
Content-Type: text/plain
X-BeenThere: test-report@dpdk.org
X-Mailman-Version: 2.1.29
Precedence: list
List-Id: automatic DPDK test reports <test-report.dpdk.org>
List-Unsubscribe: <https://mails.dpdk.org/options/test-report>,
 <mailto:test-report-request@dpdk.org?subject=unsubscribe>
List-Archive: <http://mails.dpdk.org/archives/test-report/>
List-Post: <mailto:test-report@dpdk.org>
List-Help: <mailto:test-report-request@dpdk.org?subject=help>
List-Subscribe: <https://mails.dpdk.org/listinfo/test-report>,
 <mailto:test-report-request@dpdk.org?subject=subscribe>
Errors-To: test-report-bounces@dpdk.org

Test-Label: iol-compile-arm64-testing
Test-Status: SUCCESS
http://dpdk.org/patch/152206

_Testing PASS_

Submitter: Andre Muezerie <andremue@linux.microsoft.com>
Date: Tuesday, March 04 2025 01:55:04 
DPDK git baseline: Repo:dpdk
  Branch: master
  CommitID:fab31a03ba98e7457284df95dd9eef2223a4ccaa

152206 --> testing pass

Upstream job id: Generic-DPDK-Compile-Meson#368425

Test environment and result as below:

+----------------------------------------+--------------------+
|              Environment               | dpdk_meson_compile |
+========================================+====================+
| RHEL9 (ARM)                            | PASS               |
+----------------------------------------+--------------------+
| Ubuntu 20.04 ARM GCC Cross Compile     | PASS               |
+----------------------------------------+--------------------+
| Debian 12 with MUSDK                   | PASS               |
+----------------------------------------+--------------------+
| Ubuntu 20.04 ARM SVE                   | PASS               |
+----------------------------------------+--------------------+
| Fedora 41 (ARM Clang)                  | PASS               |
+----------------------------------------+--------------------+
| Fedora 40 (ARM)                        | PASS               |
+----------------------------------------+--------------------+
| Fedora 40 (ARM Clang)                  | PASS               |
+----------------------------------------+--------------------+
| Fedora 41 (ARM)                        | PASS               |
+----------------------------------------+--------------------+
| Ubuntu 22.04 (ARM)                     | PASS               |
+----------------------------------------+--------------------+
| Ubuntu 20.04 (ARM)                     | PASS               |
+----------------------------------------+--------------------+
| CentOS Stream 10 (ARM)                 | PASS               |
+----------------------------------------+--------------------+
| Ubuntu 24.04 (ARM)                     | PASS               |
+----------------------------------------+--------------------+
| Debian 12 (arm)                        | PASS               |
+----------------------------------------+--------------------+
| CentOS Stream 9 (ARM)                  | PASS               |
+----------------------------------------+--------------------+
| Debian 11 (Buster) (ARM)               | PASS               |
+----------------------------------------+--------------------+
| Ubuntu 20.04 ARM Clang Cross Compile   | PASS               |
+----------------------------------------+--------------------+
| Ubuntu 20.04 aarch32 GCC Cross Compile | PASS               |
+----------------------------------------+--------------------+


RHEL9 (ARM)
	Kernel: Depends on container host
	Compiler: gcc 11.5.0 20240719 (Red Hat 11.5.0-2)

Ubuntu 20.04 ARM GCC Cross Compile
	Kernel: Depends on container host
	Compiler: aarch64-linux-gnu-gcc (Ubuntu 9.4.0-1ubuntu1~20.04.2) 9.4.0

Debian 12 with MUSDK
	Kernel: Depends on container host
	Compiler: gcc (Debian 12.2.0-14) 12.2.0

Ubuntu 20.04 ARM SVE
	Kernel: Depends on container host
	Compiler: gcc (Ubuntu 10.5.0-1ubuntu1~20.04) 10.5.0

Fedora 41 (ARM Clang)
	Kernel: Depends on container host
	Compiler: clang 19.1.5 (Fedora 19.1.5-1.fc41)

Fedora 40 (ARM)
	Kernel: Depends on container host
	Compiler: gcc 14.2.1 20240912 (Red Hat 14.2.1-3)

Fedora 40 (ARM Clang)
	Kernel: Depends on container host
	Compiler: clang 18.1.8 (Fedora 18.1.8-1.fc40)

Fedora 41 (ARM)
	Kernel: Depends on container host
	Compiler: gcc 14.2.1 20240912 (Red Hat 14.2.1-3)

Ubuntu 22.04 (ARM)
	Kernel: Depends on container host
	Compiler: gcc (Ubuntu 11.4.0-1ubuntu1~22.04) 11.4.0

Ubuntu 20.04 (ARM)
	Kernel: Depends on container host
	Compiler: gcc (Ubuntu 9.4.0-1ubuntu1~20.04.2) 9.4.0

CentOS Stream 10 (ARM)
	Kernel: Depends on container host
	Compiler: gcc 14.2.1 20241104 (Red Hat 14.2.1-6)

Ubuntu 24.04 (ARM)
	Kernel: Depends on container host
	Compiler: gcc (Ubuntu 13.3.0-6ubuntu2~24.04) 13.3.0

Debian 12 (arm)
	Kernel: Depends on container host
	Compiler: gcc (Debian 12.2.0-14) 12.2.0

CentOS Stream 9 (ARM)
	Kernel: Depends on container host
	Compiler: gcc 11.5.0 20240719 (Red Hat 11.5.0-2)

Debian 11 (Buster) (ARM)
	Kernel: Depends on container host
	Compiler: gcc (Debian 10.2.1-6) 10.2.1 20210110

Ubuntu 20.04 ARM Clang Cross Compile
	Kernel: Depends on container host
	Compiler: clang 10.0.0-4ubuntu1

Ubuntu 20.04 aarch32 GCC Cross Compile
	Kernel: Depends on container host
	Compiler: gcc 9.4.0

To view detailed results, visit:
https://lab.dpdk.org/results/dashboard/patchsets/32738/

UNH-IOL DPDK Community Lab

To manage your email subscriptions, visit: 
https://lab.dpdk.org/results/dashboard/preferences/subscriptions/