From mboxrd@z Thu Jan 1 00:00:00 1970 Return-Path: Received: from mails.dpdk.org (mails.dpdk.org [217.70.189.124]) by inbox.dpdk.org (Postfix) with ESMTP id AEE6246337 for ; Tue, 4 Mar 2025 06:52:53 +0100 (CET) Received: from mails.dpdk.org (localhost [127.0.0.1]) by mails.dpdk.org (Postfix) with ESMTP id 898EA40156; Tue, 4 Mar 2025 06:52:53 +0100 (CET) Received: from mail-qt1-f228.google.com (mail-qt1-f228.google.com [209.85.160.228]) by mails.dpdk.org (Postfix) with ESMTP id 5ACEB40041 for ; Tue, 4 Mar 2025 06:52:52 +0100 (CET) Received: by mail-qt1-f228.google.com with SMTP id d75a77b69052e-4721aede532so51278601cf.2 for ; Mon, 03 Mar 2025 21:52:52 -0800 (PST) DKIM-Signature: v=1; a=rsa-sha256; c=relaxed/relaxed; d=iol.unh.edu; s=unh-iol; t=1741067571; x=1741672371; darn=dpdk.org; h=cc:to:from:subject:message-id:date:from:to:cc:subject:date :message-id:reply-to; bh=cIOEcnYzt8cNk9dz6OBuLYZb7oTl10R1JFWXJAuaUfM=; b=gJUYUWESKoMf58nBIcbgAthnEVIFOMb9yQbZROJN2BYeNlBfsCSGchNXE51pSCeoBv P9EHh56qdGUl09lK7SRQRLSQZtlyiqBwq4p3Rzy/HR8sX09oXt4T4t2j4CN+/mZRQRlE QijsBs20rmeKnSW1A8lij/vc7b5Iyk2C7XMQs= X-Google-DKIM-Signature: v=1; a=rsa-sha256; c=relaxed/relaxed; d=1e100.net; s=20230601; t=1741067571; x=1741672371; h=cc:to:from:subject:message-id:date:x-gm-message-state:from:to:cc :subject:date:message-id:reply-to; bh=cIOEcnYzt8cNk9dz6OBuLYZb7oTl10R1JFWXJAuaUfM=; b=oLv8+qA/vIBbOm+ahnL+s9hqoWji84IYhLCql47Ex3cGzyLB7klg1IgBvg0IYcEnI0 Tb6TikKTvlBA3kRKfHQHTJdyAz0soaGmWUZKmz2GQIj020Fslsi+71b4igdaY5C4paTg OJ/2xOsNXJsHBq6lsVLKo4m9YSQWxjEm2HwV8txbliwWLEVUqxBSpYffN2mXz0uIer7U ORyp/E1j5BN11sbnW+30MwqjRLdxhQjU3y/70q6Gs4D9Aon1wuyx8auI4g87sQhhnY8S uYtS0ivVV1UnAEFbEs5ZD3sOJV8gUbq+naOv4zfjYL+iMz3JOoD8sMmQ2smR6so/jks8 ICvQ== X-Gm-Message-State: AOJu0YyVtHba0G9HIcMz0JA56HsI+TG+NKPmrnNAmVYMQTlBNgU8+bVe 3Xh3a/RLBWI5jI2Olo4D/YQxtx5WlfzEidiHiy/rqGLnYJR06Q5LzUsUfiC/4fTdjXVsy4YtMIv ZhQe6rCUOCgZ5N/DYBf20s2HtCWYAaJm5 X-Gm-Gg: ASbGncsWr4fKIojzWFMlDj5QmWaHoGEMsaTVhp9p0tkkqiKCMcIkp1ceMwC/+2T1uxE AUZTqZh0FeDTv70Xf3Aa8jK+q/1I6EoISf8dhXGONbatjU0jnaTlL1kmIsj9E9SxKF8BI2ALUSK AFlyVQU/0CHql/eXRQw/V0zLcNY4wJBK+C+Xlaghs5+GU6NbM8lBcK0rC1lQyPGl6qA5SNNOz/2 JjPi1DcgBzNoQzG+iIVx0hRn5OygLTyy7167nFAIMjD7eZKN9WFL1q6n4Tl6Uafgq7OzLrni57s FuZpIZVywZmdYVvrxAJ57oLXv+RqWFhxi/OG/et6 X-Google-Smtp-Source: AGHT+IG2wEPuJqqPb1qjyuxBHMl0nkLYYCtmzlgGOVgCyaOABGJbVwqH9YU09D1P3cMTVCHwvWuYIk63lecc X-Received: by 2002:a05:622a:4815:b0:474:e316:fb9b with SMTP id d75a77b69052e-474e3170019mr121723191cf.21.1741067571632; Mon, 03 Mar 2025 21:52:51 -0800 (PST) Received: from postal.iol.unh.edu (postal.iol.unh.edu. [132.177.123.84]) by smtp-relay.gmail.com with ESMTPS id d75a77b69052e-474f18a9593sm1611931cf.15.2025.03.03.21.52.51 (version=TLS1_2 cipher=ECDHE-ECDSA-AES128-GCM-SHA256 bits=128/128); Mon, 03 Mar 2025 21:52:51 -0800 (PST) X-Relaying-Domain: iol.unh.edu Date: Mon, 03 Mar 2025 21:52:51 -0800 (PST) Message-ID: <67c69533.050a0220.dbccb.77f9SMTPIN_ADDED_MISSING@mx.google.com> Received: from [172.21.0.7] (unknown [172.18.0.240]) by postal.iol.unh.edu (Postfix) with ESMTP id 38C886052471; Tue, 4 Mar 2025 00:52:51 -0500 (EST) Subject: |SUCCESS| [GIT MASTER] 39594cdfcb730ea667370b1e304313d10996aff3 From: dpdklab@iol.unh.edu To: Test Report Cc: dpdk-test-reports@iol.unh.edu, Xueming Li , Christian Ehrhardt , Kevin Traynor , Luca Boccassi Content-Type: text/plain X-BeenThere: test-report@dpdk.org X-Mailman-Version: 2.1.29 Precedence: list List-Id: automatic DPDK test reports List-Unsubscribe: , List-Archive: List-Post: List-Help: List-Subscribe: , Errors-To: test-report-bounces@dpdk.org _Testing PASS_ Branch: tags/v24.11 39594cdfcb730ea667370b1e304313d10996aff3 --> testing pass Upstream job id: Template-DTS-Pipeline#215911 Test environment and result as below: +--------------------+----------------------+----------------------+ | Environment | dpdk_fips_validation | compressdev_zlib_pmd | +====================+======================+======================+ | Ubuntu 20.04 | PASS | SKIPPED | +--------------------+----------------------+----------------------+ | Ubuntu 22.04 (ARM) | SKIPPED | PASS | +--------------------+----------------------+----------------------+ | Ubuntu 22.04 | SKIPPED | PASS | +--------------------+----------------------+----------------------+ Ubuntu 20.04 Kernel: Depends on container host Compiler: gcc (Ubuntu 9.4.0-1ubuntu1~20.04.2) 9.4.0 Ubuntu 22.04 (ARM) Kernel: 5.15.0-97-generic Compiler: gcc gcc (Ubuntu 11.4.0-1ubuntu1~22.04) 11.4.0 Ubuntu 22.04 Kernel: 5.15.0-100-generic Compiler: gcc gcc (Ubuntu 11.4.0-1ubuntu1~22.04) 11.4.0 To view detailed results, visit: https://lab.dpdk.org/results/dashboard/tarballs/32830/ UNH-IOL DPDK Community Lab To manage your email subscriptions, visit: https://lab.dpdk.org/results/dashboard/preferences/subscriptions/