From mboxrd@z Thu Jan  1 00:00:00 1970
Return-Path: <test-report-bounces@dpdk.org>
Received: from mails.dpdk.org (mails.dpdk.org [217.70.189.124])
	by inbox.dpdk.org (Postfix) with ESMTP id AC0744633F
	for <public@inbox.dpdk.org>; Tue,  4 Mar 2025 15:18:24 +0100 (CET)
Received: from mails.dpdk.org (localhost [127.0.0.1])
	by mails.dpdk.org (Postfix) with ESMTP id 851AA4029A;
	Tue,  4 Mar 2025 15:18:24 +0100 (CET)
Received: from mail-il1-f225.google.com (mail-il1-f225.google.com
 [209.85.166.225])
 by mails.dpdk.org (Postfix) with ESMTP id 1588E40287
 for <test-report@dpdk.org>; Tue,  4 Mar 2025 15:18:23 +0100 (CET)
Received: by mail-il1-f225.google.com with SMTP id
 e9e14a558f8ab-3d2f7257181so45070105ab.1
 for <test-report@dpdk.org>; Tue, 04 Mar 2025 06:18:23 -0800 (PST)
DKIM-Signature: v=1; a=rsa-sha256; c=relaxed/relaxed;
 d=iol.unh.edu; s=unh-iol; t=1741097902; x=1741702702; darn=dpdk.org;
 h=references:in-reply-to:cc:to:from:subject:message-id:date:from:to
 :cc:subject:date:message-id:reply-to;
 bh=7sdMwxOmyVBc7eRrv6tmUGjcsgaIgqKYhlGPMrOiEoc=;
 b=SGqxh1TuLeaTOl6Q5OKHxgIIbsqYa9GoiWAstDWjN3u/q2FSTo6dy/BHBZxsJGjwpL
 cl+LmbIb8mlYg7HykYRH+Cy5e0KRs0rhUZaCSWajXGT2+9MsgmaR5DOdM4lxE7YbuLyB
 kxqSZ1Oq/hXCI+JrNav/tFEJLr9ZHlVXoWXGg=
X-Google-DKIM-Signature: v=1; a=rsa-sha256; c=relaxed/relaxed;
 d=1e100.net; s=20230601; t=1741097902; x=1741702702;
 h=references:in-reply-to:cc:to:from:subject:message-id:date
 :x-gm-message-state:from:to:cc:subject:date:message-id:reply-to;
 bh=7sdMwxOmyVBc7eRrv6tmUGjcsgaIgqKYhlGPMrOiEoc=;
 b=cJ9+UvpnkJ5GWgA28LfT0fdefjw5/XeniWOygJr6VtbKO5ao2cbuWXRyodr52ysm5+
 bh+6zwQwEGuTVbnJ7Qblnd/FB7M5TecNosqcEnD4fNqMlmIa28csxd8YXqU0ilsaDyRm
 q4AuWt4g/fnixepsv7Vvf59al6wBb4gut7c7m4YzicEoyulgdkrKZJehrKuynBru3q3j
 QaJL7BBqJFYJd3I8OkRa0jtEAeVHFde72AJcFmBWc/x7GADQnyafLPPjxaUDtrK/ZopE
 jFAvT4cBmrFxI9/6qg1vzyo107lloWCyBwlL3tOGdmQ000kZjBz2X1RqFdb2sgYvaAvD
 ASZg==
X-Gm-Message-State: AOJu0YyC00Bzo1H/q2yOBp6+l2dH8LKUBkn6oUntJEkD3jPiRPnXOudg
 p2KmHFmHiuGB1DR6Dy8NqNwS2zeJDF/2Y5oS7WugjKPnPw66GaFRKUY3QTQJMHo2FN2/7lN2nGN
 TPGD4YQzYH2i/dq6mz8YffcAMn3s9Fx6X5tWJDDZrKbGYC0JCFBCGBAPg
X-Gm-Gg: ASbGncuyk7DksOjO8PlDXp9PPeML3aqPDM4JQneBpIVeGH03vVnttZY6UJj9wyUD/UT
 l9HUfMWKh/AeU7YS2b0qNSd45rOrsRhxif7UeIZQYrz7BfARQuBoAy3ZP21QXuPdtPCT/5bnKyJ
 /j0UeaP8o10bZnAJ9s7K546EC+dRxJUrr4/gEj2wgUN7+SNnksuLezAtfZ1TgRO8+pK1WYeFEGQ
 8ItG7IvFK04NxVjuin41U4bEflhCgAgoctHgMoTGNcU8C1i6udugeKoKQjdxHPoAJu+6tHTu2p6
 q5OgYuSjLQw5qRgY6hyV8uqMfqDOFdUUHeIxxCQ5bLgttB57ATr4
X-Google-Smtp-Source: AGHT+IFA1T8nfz6NGvqoa1Ghk2q2G7Jxp5OCqWdcKk96fTIZ8H/W0ToaWwf5NdiMorN5kk9IhGAYtSflL3w6
X-Received: by 2002:a05:6e02:1d04:b0:3d4:28f7:3383 with SMTP id
 e9e14a558f8ab-3d428f735c8mr7283315ab.16.1741097902375; 
 Tue, 04 Mar 2025 06:18:22 -0800 (PST)
Received: from postal.iol.unh.edu (postal.iol.unh.edu.
 [2606:4100:3880:1234::84]) by smtp-relay.gmail.com with ESMTPS id
 8926c6da1cb9f-4f09ea4d3c8sm171927173.70.2025.03.04.06.18.22
 (version=TLS1_2 cipher=ECDHE-ECDSA-AES128-GCM-SHA256 bits=128/128);
 Tue, 04 Mar 2025 06:18:22 -0800 (PST)
X-Relaying-Domain: iol.unh.edu
Date: Tue, 04 Mar 2025 06:18:22 -0800 (PST)
Message-ID: <67c70bae.050a0220.1a8437.980aSMTPIN_ADDED_MISSING@mx.google.com>
Received: from [172.17.0.5] (unknown [172.18.0.217])
 by postal.iol.unh.edu (Postfix) with ESMTP id CE7E26052471;
 Tue,  4 Mar 2025 09:18:21 -0500 (EST)
Subject: |SUCCESS| pw152207 [PATCH] common/cnxk: fix aura offset
From: dpdklab@iol.unh.edu
To: Test Report <test-report@dpdk.org>
Cc: dpdk-test-reports@iol.unh.edu
In-Reply-To: <20250304052217.796506-1-nkishor@marvell.com>
References: <20250304052217.796506-1-nkishor@marvell.com>
Content-Type: text/plain
X-BeenThere: test-report@dpdk.org
X-Mailman-Version: 2.1.29
Precedence: list
List-Id: automatic DPDK test reports <test-report.dpdk.org>
List-Unsubscribe: <https://mails.dpdk.org/options/test-report>,
 <mailto:test-report-request@dpdk.org?subject=unsubscribe>
List-Archive: <http://mails.dpdk.org/archives/test-report/>
List-Post: <mailto:test-report@dpdk.org>
List-Help: <mailto:test-report-request@dpdk.org?subject=help>
List-Subscribe: <https://mails.dpdk.org/listinfo/test-report>,
 <mailto:test-report-request@dpdk.org?subject=subscribe>
Errors-To: test-report-bounces@dpdk.org

Test-Label: iol-compile-amd64-testing
Test-Status: SUCCESS
http://dpdk.org/patch/152207

_Testing PASS_

Submitter: Nawal Kishor <nkishor@marvell.com>
Date: Tuesday, March 04 2025 05:22:17 
DPDK git baseline: Repo:dpdk
  Branch: master
  CommitID:cc9ba7e67c547a7f93d711460c6e500ba0223d43

152207 --> testing pass

Upstream job id: Generic-DPDK-Compile-Meson#368572

Test environment and result as below:

+---------------------+-------------------+-------------------------+--------------------+----------------------+-------------------+------------------+
|     Environment     | dpdk_msvc_compile | dpdk_llvm_clang_compile | dpdk_meson_compile | dpdk_mingw64_compile | dpdk_compile_spdk | dpdk_compile_ovs |
+=====================+===================+=========================+====================+======================+===================+==================+
| Windows Server 2022 | PASS              | PASS                    | SKIPPED            | PASS                 | SKIPPED           | SKIPPED          |
+---------------------+-------------------+-------------------------+--------------------+----------------------+-------------------+------------------+
| FreeBSD 13.4        | SKIPPED           | SKIPPED                 | PASS               | SKIPPED              | SKIPPED           | SKIPPED          |
+---------------------+-------------------+-------------------------+--------------------+----------------------+-------------------+------------------+
| FreeBSD 14.2        | SKIPPED           | SKIPPED                 | PASS               | SKIPPED              | SKIPPED           | SKIPPED          |
+---------------------+-------------------+-------------------------+--------------------+----------------------+-------------------+------------------+
| CentOS Stream 9     | SKIPPED           | SKIPPED                 | PASS               | SKIPPED              | PASS              | SKIPPED          |
+---------------------+-------------------+-------------------------+--------------------+----------------------+-------------------+------------------+
| CentOS Stream 10    | SKIPPED           | SKIPPED                 | PASS               | SKIPPED              | SKIPPED           | SKIPPED          |
+---------------------+-------------------+-------------------------+--------------------+----------------------+-------------------+------------------+
| Debian Bullseye     | SKIPPED           | SKIPPED                 | PASS               | SKIPPED              | PASS              | SKIPPED          |
+---------------------+-------------------+-------------------------+--------------------+----------------------+-------------------+------------------+
| Debian 12           | SKIPPED           | SKIPPED                 | PASS               | SKIPPED              | PASS              | SKIPPED          |
+---------------------+-------------------+-------------------------+--------------------+----------------------+-------------------+------------------+
| Fedora 40 (Clang)   | SKIPPED           | SKIPPED                 | PASS               | SKIPPED              | PASS              | SKIPPED          |
+---------------------+-------------------+-------------------------+--------------------+----------------------+-------------------+------------------+
| Fedora 40           | SKIPPED           | SKIPPED                 | PASS               | SKIPPED              | PASS              | SKIPPED          |
+---------------------+-------------------+-------------------------+--------------------+----------------------+-------------------+------------------+
| Fedora 41 (Clang)   | SKIPPED           | SKIPPED                 | PASS               | SKIPPED              | PASS              | PASS             |
+---------------------+-------------------+-------------------------+--------------------+----------------------+-------------------+------------------+
| Fedora 41           | SKIPPED           | SKIPPED                 | PASS               | SKIPPED              | PASS              | PASS             |
+---------------------+-------------------+-------------------------+--------------------+----------------------+-------------------+------------------+
| openSUSE Leap 15    | SKIPPED           | SKIPPED                 | PASS               | SKIPPED              | SKIPPED           | SKIPPED          |
+---------------------+-------------------+-------------------------+--------------------+----------------------+-------------------+------------------+
| RHEL8               | SKIPPED           | SKIPPED                 | PASS               | SKIPPED              | SKIPPED           | SKIPPED          |
+---------------------+-------------------+-------------------------+--------------------+----------------------+-------------------+------------------+
| RHEL9               | SKIPPED           | SKIPPED                 | PASS               | SKIPPED              | SKIPPED           | SKIPPED          |
+---------------------+-------------------+-------------------------+--------------------+----------------------+-------------------+------------------+
| Ubuntu 20.04        | SKIPPED           | SKIPPED                 | PASS               | SKIPPED              | SKIPPED           | SKIPPED          |
+---------------------+-------------------+-------------------------+--------------------+----------------------+-------------------+------------------+
| Ubuntu 22.04        | SKIPPED           | SKIPPED                 | PASS               | SKIPPED              | PASS              | SKIPPED          |
+---------------------+-------------------+-------------------------+--------------------+----------------------+-------------------+------------------+
| Ubuntu 24.04        | SKIPPED           | SKIPPED                 | PASS               | SKIPPED              | PASS              | PASS             |
+---------------------+-------------------+-------------------------+--------------------+----------------------+-------------------+------------------+
| Alpine              | SKIPPED           | SKIPPED                 | PASS               | SKIPPED              | SKIPPED           | SKIPPED          |
+---------------------+-------------------+-------------------------+--------------------+----------------------+-------------------+------------------+


Windows Server 2022
	Kernel: 10.0.20348.2031
	Compiler: clang 15.0.7, gcc 14.1.0 (MinGW), and MSVC VS 19.39.33521

FreeBSD 13.4
	Kernel: 13.4-RELEASE-p1
	Compiler: clang 18.1.6

FreeBSD 14.2
	Kernel: 14.2-RELEASE
	Compiler: clang 18.1.6

CentOS Stream 9
	Kernel: Depends on container host
	Compiler: gcc 11.5.0 20240719 (Red Hat 11.5.0-2)

CentOS Stream 10
	Kernel: Depends on container host
	Compiler: gcc 14.2.1 20241104 (Red Hat 14.2.1-6)

Debian Bullseye
	Kernel: Depends on container host
	Compiler: gcc (Debian 10.2.1-6) 10.2.1 20210110

Debian 12
	Kernel: Depends on container host
	Compiler: gcc (Debian 12.2.0-14) 12.2.0

Fedora 40 (Clang)
	Kernel: Depends on container host
	Compiler: clang 18.1.8 (Fedora 18.1.8-1.fc40)

Fedora 40
	Kernel: Depends on container host
	Compiler: gcc 14.2.1 20240912 (Red Hat 14.2.1-3)

Fedora 41 (Clang)
	Kernel: Depends on container host
	Compiler: clang 19.1.5 (Fedora 19.1.5-1.fc41)

Fedora 41
	Kernel: Depends on container host
	Compiler: gcc 14.2.1 20240912 (Red Hat 14.2.1-3)

openSUSE Leap 15
	Kernel: Depends on container host
	Compiler: gcc (SUSE Linux) 7.5.0

RHEL8
	Kernel: Depends on container host
	Compiler: gcc 8.5.0 20210514 (Red Hat 8.5.0-22)

RHEL9
	Kernel: Depends on container host
	Compiler: gcc 11.5.0 20240719 (Red Hat 11.5.0-2)

Ubuntu 20.04
	Kernel: Depends on container host
	Compiler: gcc (Ubuntu 9.4.0-1ubuntu1~20.04.2) 9.4.0

Ubuntu 22.04
	Kernel: Depends on container host
	Compiler: gcc (Ubuntu 11.4.0-1ubuntu1~22.04) 11.4.0

Ubuntu 24.04
	Kernel: Depends on container host
	Compiler: gcc (Ubuntu 13.3.0-6ubuntu2~24.04) 13.3.0

Alpine
	Kernel: Depends on container host
	Compiler: gcc (Alpine 14.2.0) 14.2.0

To view detailed results, visit:
https://lab.dpdk.org/results/dashboard/patchsets/32739/

UNH-IOL DPDK Community Lab

To manage your email subscriptions, visit: 
https://lab.dpdk.org/results/dashboard/preferences/subscriptions/