From mboxrd@z Thu Jan  1 00:00:00 1970
Return-Path: <test-report-bounces@dpdk.org>
Received: from mails.dpdk.org (mails.dpdk.org [217.70.189.124])
	by inbox.dpdk.org (Postfix) with ESMTP id 5B63F4633F
	for <public@inbox.dpdk.org>; Tue,  4 Mar 2025 15:46:48 +0100 (CET)
Received: from mails.dpdk.org (localhost [127.0.0.1])
	by mails.dpdk.org (Postfix) with ESMTP id 3B9FC4029A;
	Tue,  4 Mar 2025 15:46:48 +0100 (CET)
Received: from mail-il1-f226.google.com (mail-il1-f226.google.com
 [209.85.166.226])
 by mails.dpdk.org (Postfix) with ESMTP id 7196240287
 for <test-report@dpdk.org>; Tue,  4 Mar 2025 15:46:47 +0100 (CET)
Received: by mail-il1-f226.google.com with SMTP id
 e9e14a558f8ab-3cfc8772469so21916685ab.3
 for <test-report@dpdk.org>; Tue, 04 Mar 2025 06:46:47 -0800 (PST)
DKIM-Signature: v=1; a=rsa-sha256; c=relaxed/relaxed;
 d=iol.unh.edu; s=unh-iol; t=1741099606; x=1741704406; darn=dpdk.org;
 h=references:in-reply-to:cc:to:from:subject:message-id:date:from:to
 :cc:subject:date:message-id:reply-to;
 bh=qPJIJuZKBKGPDSLsyzHsp/VpKh7gwEic2mqOVvRJGCM=;
 b=Tk86QHFLPbxP2DHFPWCqqfkmxPAcQCt8/e0aEBKtmpLEdSU7NfrwTzFqw46UWgft61
 mTXoAXMrGbfQk+t9tX5wLrvfuiMGmNVwUXQ3ijTbM5rKTIrgJixXQhGpxqirsgF9x7Jo
 jB2q6NONyIfzv/81xE88l3/yhdNdS7ze4WFQY=
X-Google-DKIM-Signature: v=1; a=rsa-sha256; c=relaxed/relaxed;
 d=1e100.net; s=20230601; t=1741099606; x=1741704406;
 h=references:in-reply-to:cc:to:from:subject:message-id:date
 :x-gm-message-state:from:to:cc:subject:date:message-id:reply-to;
 bh=qPJIJuZKBKGPDSLsyzHsp/VpKh7gwEic2mqOVvRJGCM=;
 b=PQmU6ukFQW2T1a5koETAScx/rl7VBwnPBkTX0Nz4UPdIVlVy6agA82YMIXdmP2uZd+
 EEyfV379hWmXHEktdjJphPUhD7r3cuXuE46j75Gm92LSIRku/pYUpfEc19Te1B3dXrB8
 GcKSJMulyswum4ASoofhVNfe/yPVO3kJ021b2KyS+KUZJMFl++zcr7Ii3NhIG6wgluu/
 cuGUd0rzzSnZqPtt8qhw+nINpJGKZIP76eqa3My2aB1ZtNpmUIRZzsJCEQw9jO0CexK2
 R7o70i6+DbBwuq/c1+V+rmla0Qq4/IumU//UASpewPo8PiSAzCFLREAcxRGZDtRay0fs
 814A==
X-Gm-Message-State: AOJu0Yya4nw/OC7yPpPzVmD6uo9m7p3boDfV0ZRojHuZ315AomfaAo1U
 Br9GXVLfS4a6rZoOjsMrE3lTOSvaARImazoo1G7YUAqvzvOmdLLnb/qrwlvBXCFmz2jpRByaAvg
 hewz8wEbHzSVjYJSUSzyTTkwhGMAWAxmglOF2bOxC0Dxo5YQg0l6FCKbe
X-Gm-Gg: ASbGncsOKku4tu+KP4xMK1pKrkyXfeEP6uiy8hwcgizsfrbHUI2CqwGcrxFrxaIDkDz
 NXNmKIbrup/6UPAihSrbkccFocAbY77SPwqOLVACFFaYTaYXM4nFYTe4HrVlEqFpItFh2zQqzHP
 ErV9dLM9hPXNJ/4JeG1bnL0LDKJyo6RcKZ0h4NngyP8vRR6EptK4z66w1U7xQhfOnjSTx3ePYri
 /pAJ47f4k9nbGz9DQL+duChae4AMEnQOwolmVDKADDbxruYROm7MlcrZPWn2CRe1xfqtSIpNEw0
 JyS1LosgWZpjI76iu6XjaNTnalM1+Z7YK5GX8+St8iQb1chBeJGB
X-Google-Smtp-Source: AGHT+IEC/hNcaP+MGY/h6HtsuX+N6HZmUxIELH2fSz0Zdm9Wf1thog8daYQvernq+QaCYh/zpOkK2o00NrcM
X-Received: by 2002:a05:6e02:1feb:b0:3d1:78c8:5ec8 with SMTP id
 e9e14a558f8ab-3d3e6e71dd8mr148565645ab.13.1741099606377; 
 Tue, 04 Mar 2025 06:46:46 -0800 (PST)
Received: from postal.iol.unh.edu (postal.iol.unh.edu.
 [2606:4100:3880:1234::84]) by smtp-relay.gmail.com with ESMTPS id
 e9e14a558f8ab-3d3deecb51dsm6491475ab.44.2025.03.04.06.46.46
 (version=TLS1_2 cipher=ECDHE-ECDSA-AES128-GCM-SHA256 bits=128/128);
 Tue, 04 Mar 2025 06:46:46 -0800 (PST)
X-Relaying-Domain: iol.unh.edu
Date: Tue, 04 Mar 2025 06:46:46 -0800 (PST)
Message-ID: <67c71256.050a0220.29f48d.2a2eSMTPIN_ADDED_MISSING@mx.google.com>
Received: from [172.17.0.5] (unknown [172.18.0.217])
 by postal.iol.unh.edu (Postfix) with ESMTP id BB86D6052471;
 Tue,  4 Mar 2025 09:46:45 -0500 (EST)
Subject: |SUCCESS| pw152209 [PATCH] [v2] net/mlx5: fix flow create failure wi
From: dpdklab@iol.unh.edu
To: Test Report <test-report@dpdk.org>
Cc: dpdk-test-reports@iol.unh.edu
In-Reply-To: <20250304075655.110947-1-mkashani@nvidia.com>
References: <20250304075655.110947-1-mkashani@nvidia.com>
Content-Type: text/plain
X-BeenThere: test-report@dpdk.org
X-Mailman-Version: 2.1.29
Precedence: list
List-Id: automatic DPDK test reports <test-report.dpdk.org>
List-Unsubscribe: <https://mails.dpdk.org/options/test-report>,
 <mailto:test-report-request@dpdk.org?subject=unsubscribe>
List-Archive: <http://mails.dpdk.org/archives/test-report/>
List-Post: <mailto:test-report@dpdk.org>
List-Help: <mailto:test-report-request@dpdk.org?subject=help>
List-Subscribe: <https://mails.dpdk.org/listinfo/test-report>,
 <mailto:test-report-request@dpdk.org?subject=subscribe>
Errors-To: test-report-bounces@dpdk.org

Test-Label: iol-compile-arm64-testing
Test-Status: SUCCESS
http://dpdk.org/patch/152209

_Testing PASS_

Submitter: Maayan Kashani <mkashani@nvidia.com>
Date: Tuesday, March 04 2025 07:56:54 
DPDK git baseline: Repo:dpdk
  Branch: master
  CommitID:cf35973540c8bb4ca5c7d105985a65a3602e5475

152209 --> testing pass

Upstream job id: Generic-DPDK-Compile-Meson#368591

Test environment and result as below:

+----------------------------------------+--------------------+
|              Environment               | dpdk_meson_compile |
+========================================+====================+
| RHEL9 (ARM)                            | PASS               |
+----------------------------------------+--------------------+
| Ubuntu 20.04 ARM GCC Cross Compile     | PASS               |
+----------------------------------------+--------------------+
| Ubuntu 20.04 ARM SVE                   | PASS               |
+----------------------------------------+--------------------+
| Debian 12 with MUSDK                   | PASS               |
+----------------------------------------+--------------------+
| Fedora 40 (ARM)                        | PASS               |
+----------------------------------------+--------------------+
| Fedora 40 (ARM Clang)                  | PASS               |
+----------------------------------------+--------------------+
| Fedora 41 (ARM)                        | PASS               |
+----------------------------------------+--------------------+
| Ubuntu 20.04 (ARM)                     | PASS               |
+----------------------------------------+--------------------+
| Ubuntu 22.04 (ARM)                     | PASS               |
+----------------------------------------+--------------------+
| Ubuntu 24.04 (ARM)                     | PASS               |
+----------------------------------------+--------------------+
| CentOS Stream 9 (ARM)                  | PASS               |
+----------------------------------------+--------------------+
| CentOS Stream 10 (ARM)                 | PASS               |
+----------------------------------------+--------------------+
| Debian 11 (Buster) (ARM)               | PASS               |
+----------------------------------------+--------------------+
| Debian 12 (arm)                        | PASS               |
+----------------------------------------+--------------------+
| Ubuntu 20.04 ARM Clang Cross Compile   | PASS               |
+----------------------------------------+--------------------+
| Ubuntu 20.04 aarch32 GCC Cross Compile | PASS               |
+----------------------------------------+--------------------+
| Fedora 41 (ARM Clang)                  | PASS               |
+----------------------------------------+--------------------+


RHEL9 (ARM)
	Kernel: Depends on container host
	Compiler: gcc 11.5.0 20240719 (Red Hat 11.5.0-2)

Ubuntu 20.04 ARM GCC Cross Compile
	Kernel: Depends on container host
	Compiler: aarch64-linux-gnu-gcc (Ubuntu 9.4.0-1ubuntu1~20.04.2) 9.4.0

Ubuntu 20.04 ARM SVE
	Kernel: Depends on container host
	Compiler: gcc (Ubuntu 10.5.0-1ubuntu1~20.04) 10.5.0

Debian 12 with MUSDK
	Kernel: Depends on container host
	Compiler: gcc (Debian 12.2.0-14) 12.2.0

Fedora 40 (ARM)
	Kernel: Depends on container host
	Compiler: gcc 14.2.1 20240912 (Red Hat 14.2.1-3)

Fedora 40 (ARM Clang)
	Kernel: Depends on container host
	Compiler: clang 18.1.8 (Fedora 18.1.8-1.fc40)

Fedora 41 (ARM)
	Kernel: Depends on container host
	Compiler: gcc 14.2.1 20240912 (Red Hat 14.2.1-3)

Ubuntu 20.04 (ARM)
	Kernel: Depends on container host
	Compiler: gcc (Ubuntu 9.4.0-1ubuntu1~20.04.2) 9.4.0

Ubuntu 22.04 (ARM)
	Kernel: Depends on container host
	Compiler: gcc (Ubuntu 11.4.0-1ubuntu1~22.04) 11.4.0

Ubuntu 24.04 (ARM)
	Kernel: Depends on container host
	Compiler: gcc (Ubuntu 13.3.0-6ubuntu2~24.04) 13.3.0

CentOS Stream 9 (ARM)
	Kernel: Depends on container host
	Compiler: gcc 11.5.0 20240719 (Red Hat 11.5.0-2)

CentOS Stream 10 (ARM)
	Kernel: Depends on container host
	Compiler: gcc 14.2.1 20241104 (Red Hat 14.2.1-6)

Debian 11 (Buster) (ARM)
	Kernel: Depends on container host
	Compiler: gcc (Debian 10.2.1-6) 10.2.1 20210110

Debian 12 (arm)
	Kernel: Depends on container host
	Compiler: gcc (Debian 12.2.0-14) 12.2.0

Ubuntu 20.04 ARM Clang Cross Compile
	Kernel: Depends on container host
	Compiler: clang 10.0.0-4ubuntu1

Ubuntu 20.04 aarch32 GCC Cross Compile
	Kernel: Depends on container host
	Compiler: gcc 9.4.0

Fedora 41 (ARM Clang)
	Kernel: Depends on container host
	Compiler: clang 19.1.5 (Fedora 19.1.5-1.fc41)

To view detailed results, visit:
https://lab.dpdk.org/results/dashboard/patchsets/32741/

UNH-IOL DPDK Community Lab

To manage your email subscriptions, visit: 
https://lab.dpdk.org/results/dashboard/preferences/subscriptions/