From mboxrd@z Thu Jan  1 00:00:00 1970
Return-Path: <test-report-bounces@dpdk.org>
Received: from mails.dpdk.org (mails.dpdk.org [217.70.189.124])
	by inbox.dpdk.org (Postfix) with ESMTP id D81B94634F
	for <public@inbox.dpdk.org>; Wed,  5 Mar 2025 19:57:03 +0100 (CET)
Received: from mails.dpdk.org (localhost [127.0.0.1])
	by mails.dpdk.org (Postfix) with ESMTP id B077840275;
	Wed,  5 Mar 2025 19:57:03 +0100 (CET)
Received: from mail-qv1-f98.google.com (mail-qv1-f98.google.com
 [209.85.219.98]) by mails.dpdk.org (Postfix) with ESMTP id 841C340156
 for <test-report@dpdk.org>; Wed,  5 Mar 2025 19:57:02 +0100 (CET)
Received: by mail-qv1-f98.google.com with SMTP id
 6a1803df08f44-6dd1962a75bso56026826d6.3
 for <test-report@dpdk.org>; Wed, 05 Mar 2025 10:57:02 -0800 (PST)
DKIM-Signature: v=1; a=rsa-sha256; c=relaxed/relaxed;
 d=iol.unh.edu; s=unh-iol; t=1741201022; x=1741805822; darn=dpdk.org;
 h=references:in-reply-to:cc:to:from:subject:message-id:date:from:to
 :cc:subject:date:message-id:reply-to;
 bh=eee90q5vECkBM6QyNZq+62W7qizfcNpS4O/vK8+lTnM=;
 b=SVaYW/a/sU20FD4c69pbnJwcAmqqYLHBsCHvWPveH4OVUq4q2bm+5mY7/wktzCTrUI
 KzX+OmdR01wuPiDmC9w9DF9RB6XRYvMNJDQ5ljDTyB18DfWDnSZe6FblUPsMreWguLz+
 PxFytFluzMARJn4dkovl3peC3HNWuoqdGWIEo=
X-Google-DKIM-Signature: v=1; a=rsa-sha256; c=relaxed/relaxed;
 d=1e100.net; s=20230601; t=1741201022; x=1741805822;
 h=references:in-reply-to:cc:to:from:subject:message-id:date
 :x-gm-message-state:from:to:cc:subject:date:message-id:reply-to;
 bh=eee90q5vECkBM6QyNZq+62W7qizfcNpS4O/vK8+lTnM=;
 b=n943Bo3pqoAaZ8JAQKf0XnNCblx21wXiV3i2GtQ1MfdQ7YnYUVBFuPi2wjCNHmcdmZ
 hFzPKxiB9NyoSYVPjvZu5WCVzDex86V+rAdf2WUbCanzSXrbx1LL5i1ZXBX3jAln3Ldj
 EWqNGajN4LjtzOOgGO29As8Ditrvk4gxP5xn/sYLOHdQcK0cxt4+/0H8fRV6P7MVuerM
 QWHAURANfiq7a8YfPpWryNRrI6dE1s18oC0Jg/haQECSsM5eyepxZdvBve9SIDysxDB1
 nMfzKw462CfQs2H8lHlhqlHQqnqTW3uflcfGs0VnAyLCwbFMpwnz9LXNO4YhWWB9XBuz
 XI3g==
X-Gm-Message-State: AOJu0YwR0+mksKW1VgX+3DugA4R9p1gST8SxQKCn+D2v3R200YaJiWky
 PgqIfZHZXJJ9ts7SHTT2r5U5nfGEoGqhqbm+LFEtTzQjpUfOY7Khh+H4egsZDizMuId1EJtidn2
 K3AzMqkwTV1t9VFR3tvjzgQ9IgbfUTZ2e91rq/uJt
X-Gm-Gg: ASbGncueCfMCDzaB1IMO+2Raw26lSmTHN/psoEVzLAEtSi2f2DRk9jnQnHgr51gowdG
 9YeOV3B9PNBW3tQN1cXlVb5r1UFH6/UhLPkFW3wRavoeRkcnHJtX1SJ8AOqezizmQqyadjYZEPi
 8YigI3/j15G10ABX+iM9gARepcmLfao/Pc2WvQVWrn4O02xjYyFdGKheUJrH56jEXo5Dk5/SmtS
 XY/2yPwmG9q95HEdMC+S1K5xT6y54ygpTEgw30T3rc/WsbV3WLmSIWwB3+si6/mXs+ZyVrP3JFB
 eDGDzV0oNR7vKnlO3A5z9lXlaaF6JOYX48+0GO9d
X-Google-Smtp-Source: AGHT+IFeznut5dL/P1R3u3/dtgfwPN6YkTmp9PUm+X6ZxiMOgkG6EQMI8K9DmNby6C0YRKq48g8lvcvwstqo
X-Received: by 2002:a05:6214:1bce:b0:6e8:9021:9095 with SMTP id
 6a1803df08f44-6e8e6d993f8mr60477166d6.32.1741201021802; 
 Wed, 05 Mar 2025 10:57:01 -0800 (PST)
Received: from postal.iol.unh.edu (postal.iol.unh.edu. [132.177.123.84])
 by smtp-relay.gmail.com with ESMTPS id
 6a1803df08f44-6e8e838ba84sm769996d6.45.2025.03.05.10.57.01
 (version=TLS1_2 cipher=ECDHE-ECDSA-AES128-GCM-SHA256 bits=128/128);
 Wed, 05 Mar 2025 10:57:01 -0800 (PST)
X-Relaying-Domain: iol.unh.edu
Date: Wed, 05 Mar 2025 10:57:01 -0800 (PST)
Message-ID: <67c89e7d.050a0220.3a30a5.4d16SMTPIN_ADDED_MISSING@mx.google.com>
Received: from [172.21.0.7] (unknown [172.18.0.240])
 by postal.iol.unh.edu (Postfix) with ESMTP id 641536052471;
 Wed,  5 Mar 2025 13:57:01 -0500 (EST)
Subject: |SUCCESS| pw152247 [PATCH] net/mlx5/hws: fix incorrect DV FT type co
From: dpdklab@iol.unh.edu
To: Test Report <test-report@dpdk.org>
Cc: dpdk-test-reports@iol.unh.edu
In-Reply-To: <20250305132353.46724-1-dsosnowski@nvidia.com>
References: <20250305132353.46724-1-dsosnowski@nvidia.com>
Content-Type: text/plain
X-BeenThere: test-report@dpdk.org
X-Mailman-Version: 2.1.29
Precedence: list
List-Id: automatic DPDK test reports <test-report.dpdk.org>
List-Unsubscribe: <https://mails.dpdk.org/options/test-report>,
 <mailto:test-report-request@dpdk.org?subject=unsubscribe>
List-Archive: <http://mails.dpdk.org/archives/test-report/>
List-Post: <mailto:test-report@dpdk.org>
List-Help: <mailto:test-report-request@dpdk.org?subject=help>
List-Subscribe: <https://mails.dpdk.org/listinfo/test-report>,
 <mailto:test-report-request@dpdk.org?subject=subscribe>
Errors-To: test-report-bounces@dpdk.org

Test-Label: iol-unit-arm64-testing
Test-Status: SUCCESS
http://dpdk.org/patch/152247

_Testing PASS_

Submitter: Dariusz Sosnowski <dsosnowski@nvidia.com>
Date: Wednesday, March 05 2025 13:23:52 
DPDK git baseline: Repo:dpdk
  Branch: master
  CommitID:cf35973540c8bb4ca5c7d105985a65a3602e5475

152247 --> testing pass

Upstream job id: Generic-Unit-Test-DPDK#321900

Test environment and result as below:

+-----------------------------+----------------+--------------+------------------------------+---------------------------+
|         Environment         | dpdk_unit_test | lpm_autotest | cryptodev_sw_snow3g_autotest | cryptodev_sw_zuc_autotest |
+=============================+================+==============+==============================+===========================+
| CentOS Stream 10 (ARM)      | PASS           | SKIPPED      | SKIPPED                      | SKIPPED                   |
+-----------------------------+----------------+--------------+------------------------------+---------------------------+
| CentOS Stream 9 (ARM)       | PASS           | SKIPPED      | SKIPPED                      | SKIPPED                   |
+-----------------------------+----------------+--------------+------------------------------+---------------------------+
| Debian 11 (Buster) (ARM)    | PASS           | SKIPPED      | SKIPPED                      | SKIPPED                   |
+-----------------------------+----------------+--------------+------------------------------+---------------------------+
| Debian 12 (arm)             | PASS           | SKIPPED      | PASS                         | PASS                      |
+-----------------------------+----------------+--------------+------------------------------+---------------------------+
| Fedora 41 (ARM)             | PASS           | SKIPPED      | SKIPPED                      | SKIPPED                   |
+-----------------------------+----------------+--------------+------------------------------+---------------------------+
| Ubuntu 20.04 (ARM)          | PASS           | SKIPPED      | SKIPPED                      | SKIPPED                   |
+-----------------------------+----------------+--------------+------------------------------+---------------------------+
| 32-bit Ubuntu 22.04.4 (ARM) | PASS           | SKIPPED      | SKIPPED                      | SKIPPED                   |
+-----------------------------+----------------+--------------+------------------------------+---------------------------+
| Fedora 41 (ARM Clang)       | PASS           | SKIPPED      | SKIPPED                      | SKIPPED                   |
+-----------------------------+----------------+--------------+------------------------------+---------------------------+
| Fedora 40 (ARM Clang)       | PASS           | SKIPPED      | SKIPPED                      | SKIPPED                   |
+-----------------------------+----------------+--------------+------------------------------+---------------------------+
| Fedora 40 (ARM)             | PASS           | SKIPPED      | SKIPPED                      | SKIPPED                   |
+-----------------------------+----------------+--------------+------------------------------+---------------------------+
| RHEL9 (ARM)                 | PASS           | SKIPPED      | SKIPPED                      | SKIPPED                   |
+-----------------------------+----------------+--------------+------------------------------+---------------------------+
| Ubuntu 22.04 (ARM)          | PASS           | SKIPPED      | SKIPPED                      | SKIPPED                   |
+-----------------------------+----------------+--------------+------------------------------+---------------------------+
| Ubuntu 24.04 (ARM)          | PASS           | SKIPPED      | SKIPPED                      | SKIPPED                   |
+-----------------------------+----------------+--------------+------------------------------+---------------------------+
| Ubuntu 20.04 ARM SVE        | SKIPPED        | PASS         | SKIPPED                      | SKIPPED                   |
+-----------------------------+----------------+--------------+------------------------------+---------------------------+


CentOS Stream 10 (ARM)
	Kernel: Depends on container host
	Compiler: gcc 14.2.1 20241104 (Red Hat 14.2.1-6)

CentOS Stream 9 (ARM)
	Kernel: Depends on container host
	Compiler: gcc 11.5.0 20240719 (Red Hat 11.5.0-2)

Debian 11 (Buster) (ARM)
	Kernel: Depends on container host
	Compiler: gcc (Debian 10.2.1-6) 10.2.1 20210110

Debian 12 (arm)
	Kernel: Depends on container host
	Compiler: gcc (Debian 12.2.0-14) 12.2.0

Fedora 41 (ARM)
	Kernel: Depends on container host
	Compiler: gcc 14.2.1 20240912 (Red Hat 14.2.1-3)

Ubuntu 20.04 (ARM)
	Kernel: Depends on container host
	Compiler: gcc (Ubuntu 9.4.0-1ubuntu1~20.04.2) 9.4.0

32-bit Ubuntu 22.04.4 (ARM)
	Kernel: 5.15.83+ aarch64
	Compiler: gcc (Ubuntu 11.4.0-1ubuntu1~22.04) 11.4.0

Fedora 41 (ARM Clang)
	Kernel: Depends on container host
	Compiler: clang 19.1.5 (Fedora 19.1.5-1.fc41)

Fedora 40 (ARM Clang)
	Kernel: Depends on container host
	Compiler: clang 18.1.8 (Fedora 18.1.8-1.fc40)

Fedora 40 (ARM)
	Kernel: Depends on container host
	Compiler: gcc 14.2.1 20240912 (Red Hat 14.2.1-3)

RHEL9 (ARM)
	Kernel: Depends on container host
	Compiler: gcc 11.5.0 20240719 (Red Hat 11.5.0-2)

Ubuntu 22.04 (ARM)
	Kernel: Depends on container host
	Compiler: gcc (Ubuntu 11.4.0-1ubuntu1~22.04) 11.4.0

Ubuntu 24.04 (ARM)
	Kernel: Depends on container host
	Compiler: gcc (Ubuntu 13.3.0-6ubuntu2~24.04) 13.3.0

Ubuntu 20.04 ARM SVE
	Kernel: Depends on container host
	Compiler: gcc (Ubuntu 10.5.0-1ubuntu1~20.04) 10.5.0

To view detailed results, visit:
https://lab.dpdk.org/results/dashboard/patchsets/32755/

UNH-IOL DPDK Community Lab

To manage your email subscriptions, visit: 
https://lab.dpdk.org/results/dashboard/preferences/subscriptions/