From mboxrd@z Thu Jan  1 00:00:00 1970
Return-Path: <test-report-bounces@dpdk.org>
Received: from mails.dpdk.org (mails.dpdk.org [217.70.189.124])
	by inbox.dpdk.org (Postfix) with ESMTP id 498CB46351
	for <public@inbox.dpdk.org>; Wed,  5 Mar 2025 23:35:58 +0100 (CET)
Received: from mails.dpdk.org (localhost [127.0.0.1])
	by mails.dpdk.org (Postfix) with ESMTP id 38EFE402A4;
	Wed,  5 Mar 2025 23:35:58 +0100 (CET)
Received: from mail-qv1-f97.google.com (mail-qv1-f97.google.com
 [209.85.219.97]) by mails.dpdk.org (Postfix) with ESMTP id 040CF40275
 for <test-report@dpdk.org>; Wed,  5 Mar 2025 23:35:57 +0100 (CET)
Received: by mail-qv1-f97.google.com with SMTP id
 6a1803df08f44-6e8f4c50a8fso415736d6.1
 for <test-report@dpdk.org>; Wed, 05 Mar 2025 14:35:56 -0800 (PST)
DKIM-Signature: v=1; a=rsa-sha256; c=relaxed/relaxed;
 d=iol.unh.edu; s=unh-iol; t=1741214156; x=1741818956; darn=dpdk.org;
 h=references:in-reply-to:cc:to:from:subject:message-id:date:from:to
 :cc:subject:date:message-id:reply-to;
 bh=sRyVTu3rsdXuKJSNIAuyk+zIJcPqa3BaYS3VDNjZtGc=;
 b=SLCrOjlJqR4UDVTC2XJGgGc4THGJBGOJF1GTOePS33LVWbUyDWLP/Jn4XrT1KM3zQx
 cgoVNkXzdLCuLtqE/vfuL64IKb9om2b2HoBhTmZd1UOntJX8uOL/0O0IVV4N9m3ulfj+
 mkov+UwuvERCkDegPoFs85vJ1EiMnsZwhnMTA=
X-Google-DKIM-Signature: v=1; a=rsa-sha256; c=relaxed/relaxed;
 d=1e100.net; s=20230601; t=1741214156; x=1741818956;
 h=references:in-reply-to:cc:to:from:subject:message-id:date
 :x-gm-message-state:from:to:cc:subject:date:message-id:reply-to;
 bh=sRyVTu3rsdXuKJSNIAuyk+zIJcPqa3BaYS3VDNjZtGc=;
 b=TYP4I8PBlB7qUUKmCUVJvk18mG1cSjxPd8JYGEv4Yo4Iv4/wWjGrUO7EpOJm6572Sq
 izpKUHKkiSqrqOkO1Ktw7+nh75lC/N+OAUuguY7jJIpemvh0XK0Z6iYpx7honAWfQQan
 UPLXddfvQAU25VSe7nVYLlsiqCo08TWGxJkJMyy4UzZAIMFiGQawvdhy2nBo+V4UBkJX
 P1HFCXYi6EiLfDZWN0VbJ4Ihxp9Py67gjZE5qMlIwH+kBOy2cNEME5tNUW3TJ5qOEPOm
 8BpOYZq+iBp3LpJFSILuZ89Aa+uY8RayOnv479gDKmiKXCPneQx6vkR5jc6klD0UgRmK
 01QA==
X-Gm-Message-State: AOJu0YySJO469Gbg1UDIQAyZ4y6CeEqhjg1LPUp0smTiHsbvXUHYNq8x
 F0Rb/TPK+cVxL55Q+jAKFFyJgYnVahGaJLGNkRm/NeOBCF6uI2noa0IAJ7J4vuUTqn11PfAh0gK
 MLdYH3v2RUtBdQEjIfJrxr8Bc0G31IdtpudnYR4m1jkZnEmanQVdieB+B
X-Gm-Gg: ASbGnctzi4l2V9vv9CR+XX0KLeHtnYJjDLaGWPRbVnecf9s23WqcVgx6jnC2uxLBbRm
 JOhuJfbQxMo77HkILpRHuubo2Ve/g72+666ryrKdomv1paunvkHYY1bhAznHM/V0euS4GId06X2
 /mXR12PskrKWWfmxg9i6ePfZWbIM5dWd08Innj66xGrcIT79J7okLidwBBZRi9BzaUpnaVjN0iV
 KWappS7ppGEp2VnN/vb0unlIOL1xqjs9vUB/WBo9CP53d+tMtmIKpnhwstiY7w8hQp/Uhfdf8Cm
 Az9u1utCU6wFpKQUamIYkpAZjkV6bwC2zUhVDgNEdoFFqWDvCFHj
X-Google-Smtp-Source: AGHT+IE5mPyidNkAzlbVkoo7mMTTy/aAOiwcST37Wm6eWt75zjWe6DclJNlyXohqn4wwsYMerO4LwsK73+QN
X-Received: by 2002:a05:6214:242d:b0:6e8:9a2a:145b with SMTP id
 6a1803df08f44-6e8e6d43528mr76571906d6.23.1741214156440; 
 Wed, 05 Mar 2025 14:35:56 -0800 (PST)
Received: from postal.iol.unh.edu (postal.iol.unh.edu.
 [2606:4100:3880:1234::84]) by smtp-relay.gmail.com with ESMTPS id
 6a1803df08f44-6e8f4ff3ea4sm167616d6.46.2025.03.05.14.35.56
 (version=TLS1_2 cipher=ECDHE-ECDSA-AES128-GCM-SHA256 bits=128/128);
 Wed, 05 Mar 2025 14:35:56 -0800 (PST)
X-Relaying-Domain: iol.unh.edu
Date: Wed, 05 Mar 2025 14:35:56 -0800 (PST)
Message-ID: <67c8d1cc.0c0a0220.380e53.1008SMTPIN_ADDED_MISSING@mx.google.com>
Received: from [172.21.0.7] (unknown [172.18.0.240])
 by postal.iol.unh.edu (Postfix) with ESMTP id 191A96052471;
 Wed,  5 Mar 2025 17:35:56 -0500 (EST)
Subject: |SUCCESS| pw152252-152253 [PATCH] [v2,2/2] drivers/net: remove use o
From: dpdklab@iol.unh.edu
To: Test Report <test-report@dpdk.org>
Cc: dpdk-test-reports@iol.unh.edu
In-Reply-To: <1741190802-19486-3-git-send-email-andremue@linux.microsoft.com>
References: <1741190802-19486-3-git-send-email-andremue@linux.microsoft.com>
Content-Type: text/plain
X-BeenThere: test-report@dpdk.org
X-Mailman-Version: 2.1.29
Precedence: list
List-Id: automatic DPDK test reports <test-report.dpdk.org>
List-Unsubscribe: <https://mails.dpdk.org/options/test-report>,
 <mailto:test-report-request@dpdk.org?subject=unsubscribe>
List-Archive: <http://mails.dpdk.org/archives/test-report/>
List-Post: <mailto:test-report@dpdk.org>
List-Help: <mailto:test-report-request@dpdk.org?subject=help>
List-Subscribe: <https://mails.dpdk.org/listinfo/test-report>,
 <mailto:test-report-request@dpdk.org?subject=subscribe>
Errors-To: test-report-bounces@dpdk.org

Test-Label: iol-unit-amd64-testing
Test-Status: SUCCESS
http://dpdk.org/patch/152253

_Testing PASS_

Submitter: Andre Muezerie <andremue@linux.microsoft.com>
Date: Wednesday, March 05 2025 16:06:42 
DPDK git baseline: Repo:dpdk
  Branch: master
  CommitID:7fa30bca91de033016b9b1b34dbda20ce347a298

152252-152253 --> testing pass

Upstream job id: Generic-Unit-Test-DPDK#321979

Test environment and result as below:

+---------------------+----------------+
|     Environment     | dpdk_unit_test |
+=====================+================+
| Debian 12           | PASS           |
+---------------------+----------------+
| CentOS Stream 9     | PASS           |
+---------------------+----------------+
| Debian Bullseye     | PASS           |
+---------------------+----------------+
| Fedora 40           | PASS           |
+---------------------+----------------+
| CentOS Stream 10    | PASS           |
+---------------------+----------------+
| Fedora 40 (Clang)   | PASS           |
+---------------------+----------------+
| Fedora 41           | PASS           |
+---------------------+----------------+
| RHEL9               | PASS           |
+---------------------+----------------+
| Fedora 41 (Clang)   | PASS           |
+---------------------+----------------+
| RHEL8               | PASS           |
+---------------------+----------------+
| Ubuntu 20.04        | PASS           |
+---------------------+----------------+
| Ubuntu 24.04        | PASS           |
+---------------------+----------------+
| Ubuntu 22.04        | PASS           |
+---------------------+----------------+
| Windows Server 2022 | PASS           |
+---------------------+----------------+


Debian 12
	Kernel: Depends on container host
	Compiler: gcc (Debian 12.2.0-14) 12.2.0

CentOS Stream 9
	Kernel: Depends on container host
	Compiler: gcc 11.5.0 20240719 (Red Hat 11.5.0-2)

Debian Bullseye
	Kernel: Depends on container host
	Compiler: gcc (Debian 10.2.1-6) 10.2.1 20210110

Fedora 40
	Kernel: Depends on container host
	Compiler: gcc 14.2.1 20240912 (Red Hat 14.2.1-3)

CentOS Stream 10
	Kernel: Depends on container host
	Compiler: gcc 14.2.1 20241104 (Red Hat 14.2.1-6)

Fedora 40 (Clang)
	Kernel: Depends on container host
	Compiler: clang 18.1.8 (Fedora 18.1.8-1.fc40)

Fedora 41
	Kernel: Depends on container host
	Compiler: gcc 14.2.1 20240912 (Red Hat 14.2.1-3)

RHEL9
	Kernel: Depends on container host
	Compiler: gcc 11.5.0 20240719 (Red Hat 11.5.0-2)

Fedora 41 (Clang)
	Kernel: Depends on container host
	Compiler: clang 19.1.5 (Fedora 19.1.5-1.fc41)

RHEL8
	Kernel: Depends on container host
	Compiler: gcc 8.5.0 20210514 (Red Hat 8.5.0-22)

Ubuntu 20.04
	Kernel: Depends on container host
	Compiler: gcc (Ubuntu 9.4.0-1ubuntu1~20.04.2) 9.4.0

Ubuntu 24.04
	Kernel: Depends on container host
	Compiler: gcc (Ubuntu 13.3.0-6ubuntu2~24.04) 13.3.0

Ubuntu 22.04
	Kernel: Depends on container host
	Compiler: gcc (Ubuntu 11.4.0-1ubuntu1~22.04) 11.4.0

Windows Server 2022
	Kernel: 10.0.20348.2031
	Compiler: clang 15.0.7, gcc 14.1.0 (MinGW), and MSVC VS 19.39.33521

To view detailed results, visit:
https://lab.dpdk.org/results/dashboard/patchsets/32758/

UNH-IOL DPDK Community Lab

To manage your email subscriptions, visit: 
https://lab.dpdk.org/results/dashboard/preferences/subscriptions/