From mboxrd@z Thu Jan  1 00:00:00 1970
Return-Path: <test-report-bounces@dpdk.org>
Received: from mails.dpdk.org (mails.dpdk.org [217.70.189.124])
	by inbox.dpdk.org (Postfix) with ESMTP id 3F31846354
	for <public@inbox.dpdk.org>; Thu,  6 Mar 2025 05:41:19 +0100 (CET)
Received: from mails.dpdk.org (localhost [127.0.0.1])
	by mails.dpdk.org (Postfix) with ESMTP id 39FAC402F1;
	Thu,  6 Mar 2025 05:41:19 +0100 (CET)
Received: from mail-yb1-f225.google.com (mail-yb1-f225.google.com
 [209.85.219.225])
 by mails.dpdk.org (Postfix) with ESMTP id DE11B402F0
 for <test-report@dpdk.org>; Thu,  6 Mar 2025 05:41:17 +0100 (CET)
Received: by mail-yb1-f225.google.com with SMTP id
 3f1490d57ef6-e3983426f80so193875276.1
 for <test-report@dpdk.org>; Wed, 05 Mar 2025 20:41:17 -0800 (PST)
DKIM-Signature: v=1; a=rsa-sha256; c=relaxed/relaxed;
 d=iol.unh.edu; s=unh-iol; t=1741236077; x=1741840877; darn=dpdk.org;
 h=references:in-reply-to:cc:to:from:subject:message-id:date:from:to
 :cc:subject:date:message-id:reply-to;
 bh=OrUYRh8rI6OZQtocXBcVhI8d4TDCfmPbWAtf3/uxnBk=;
 b=YhVqKPMAtCR3DpTiJhRsHlKGqRIEstSdZALXepjmZu9Ii+D3NxoQUfuo2sxppAYRgG
 q52/gLxEp4Nd2KRc85qdzM2NIxXUc4M6K9l1TPL8o5F0UJBSR4dsM+05fidOES2uopOb
 GCbYmEXGN58YofWkU1+ICA1RMtBfwaFu4kWPc=
X-Google-DKIM-Signature: v=1; a=rsa-sha256; c=relaxed/relaxed;
 d=1e100.net; s=20230601; t=1741236077; x=1741840877;
 h=references:in-reply-to:cc:to:from:subject:message-id:date
 :x-gm-message-state:from:to:cc:subject:date:message-id:reply-to;
 bh=OrUYRh8rI6OZQtocXBcVhI8d4TDCfmPbWAtf3/uxnBk=;
 b=U+AJJepZU3/Vux4EDwWoPaea0qcuK7eEghGYrxFMXf+ucyXSZwCPvPhIfHr0ByHSWw
 Mqqdxr+lF3CL3eqZVKw+YE+mWE0fvu6InPjXdXrDu9U+E5WtBxyg/QkbbAiC25tRUW9W
 PcJQpNA/9OWEUjf4XyLTJvTP5KlJ6jeg7XLNJI2q9woPlQgFhF+K96meMteO/UEKJznD
 SPeyJ5VHu/dSBRVielT3f26xs2wUJ/BZ8HTvQRmkevlk1oUx7R9yrWlUbiEMkdFH3OIA
 h4DCOXrndVIy+h0ZlmNvqaWxlQzHKITGF0M1NOj5UDtqWJz91rCznHReKyGw6TsBcu22
 0Uhg==
X-Gm-Message-State: AOJu0YzZ9LchlkyfGTHf4K8cVkzYQ43Ernb48X51yRKC0XoSyvelAAd0
 FliwyEuJ7KrsJ+b1YhcfGRmF9ScdNjGAP5HEg3b6KS1pLeIPSsRYPVzRilzHdVuE/+jUlvh7TsA
 z4fQ1jonmQGympbwCZCn9EqnGbb0GLHkRdN5b0pBWIobD42T45UEO0ICo
X-Gm-Gg: ASbGncvYH36woyjzMHb5sCKZ5BxWFSqxYJiwy+lQ6jVqMgodz8r057cL3T8Xjxw+2RS
 KbZFHJqohTC1QBg6G0as79itELd6UYn4tkwkRR4rJvh/tC4qmQCcEzziyI6RgkmcnLh3t1qFwxV
 hjjSZTXdVn2HaeuZK1uMnFX5eOurFx8Ws/ZlOrQ16Nak12tW9KElpdSpc041fuQdsu6E7TWcHIM
 COrvEm9v0v4ZfF16NGg9hsOKPbZ0z641Q4f0G3fy31nsrq+MOMJmw+Ar5WmmHhsQQidWBL8Qckn
 /vwqsR56xmNgjaHWlh1eyuxuJNPMxO5P8mOLE3pDp8aQRv5tIUPw
X-Google-Smtp-Source: AGHT+IE0GtUq7KYvWcAppFo85n5LgoN1Wt9oV011taYE2Xy8e7/S6aVASfETCRcLS7yNRwZ7L1eKW2bTaUXH
X-Received: by 2002:a05:6902:1b8e:b0:e5d:d81a:7de9 with SMTP id
 3f1490d57ef6-e611e1cfe4cmr8067432276.26.1741236077289; 
 Wed, 05 Mar 2025 20:41:17 -0800 (PST)
Received: from postal.iol.unh.edu (postal.iol.unh.edu.
 [2606:4100:3880:1234::84]) by smtp-relay.gmail.com with ESMTPS id
 3f1490d57ef6-e634b8490absm35955276.18.2025.03.05.20.41.17
 (version=TLS1_2 cipher=ECDHE-ECDSA-AES128-GCM-SHA256 bits=128/128);
 Wed, 05 Mar 2025 20:41:17 -0800 (PST)
X-Relaying-Domain: iol.unh.edu
Date: Wed, 05 Mar 2025 20:41:17 -0800 (PST)
Message-ID: <67c9276d.250a0220.18c726.23bfSMTPIN_ADDED_MISSING@mx.google.com>
Received: from [172.17.0.3] (unknown [172.18.0.217])
 by postal.iol.unh.edu (Postfix) with ESMTP id DA6A06052471;
 Wed,  5 Mar 2025 23:41:16 -0500 (EST)
Subject: |SUCCESS| pw152252-152253 [PATCH] [v2,2/2] drivers/net: remove use o
From: dpdklab@iol.unh.edu
To: Test Report <test-report@dpdk.org>
Cc: dpdk-test-reports@iol.unh.edu
In-Reply-To: <1741190802-19486-3-git-send-email-andremue@linux.microsoft.com>
References: <1741190802-19486-3-git-send-email-andremue@linux.microsoft.com>
Content-Type: text/plain
X-BeenThere: test-report@dpdk.org
X-Mailman-Version: 2.1.29
Precedence: list
List-Id: automatic DPDK test reports <test-report.dpdk.org>
List-Unsubscribe: <https://mails.dpdk.org/options/test-report>,
 <mailto:test-report-request@dpdk.org?subject=unsubscribe>
List-Archive: <http://mails.dpdk.org/archives/test-report/>
List-Post: <mailto:test-report@dpdk.org>
List-Help: <mailto:test-report-request@dpdk.org?subject=help>
List-Subscribe: <https://mails.dpdk.org/listinfo/test-report>,
 <mailto:test-report-request@dpdk.org?subject=subscribe>
Errors-To: test-report-bounces@dpdk.org

Test-Label: iol-sample-apps-testing
Test-Status: SUCCESS
http://dpdk.org/patch/152253

_Testing PASS RETEST #1_

Submitter: Andre Muezerie <andremue@linux.microsoft.com>
Date: Wednesday, March 05 2025 16:06:42 
DPDK git baseline: Repo:dpdk
  Branch: master
  CommitID:7fa30bca91de033016b9b1b34dbda20ce347a298

152252-152253 --> testing pass

Upstream job id: ACVP-FIPS-testing#9177

Test environment and result as below:

+--------------------+----------------------+----------------------+
|    Environment     | compressdev_zlib_pmd | dpdk_fips_validation |
+====================+======================+======================+
| Ubuntu 22.04 (ARM) | PASS                 | SKIPPED              |
+--------------------+----------------------+----------------------+
| Ubuntu 22.04       | PASS                 | SKIPPED              |
+--------------------+----------------------+----------------------+
| Ubuntu 20.04       | SKIPPED              | PASS                 |
+--------------------+----------------------+----------------------+


Ubuntu 22.04 (ARM)
	Kernel: 5.15.0-97-generic
	Compiler: gcc gcc (Ubuntu 11.4.0-1ubuntu1~22.04) 11.4.0

Ubuntu 22.04
	Kernel: 5.15.0-100-generic
	Compiler: gcc gcc (Ubuntu 11.4.0-1ubuntu1~22.04) 11.4.0

Ubuntu 20.04
	Kernel: Depends on container host
	Compiler: gcc (Ubuntu 9.4.0-1ubuntu1~20.04.2) 9.4.0

To view detailed results, visit:
https://lab.dpdk.org/results/dashboard/patchsets/32758/

UNH-IOL DPDK Community Lab

To manage your email subscriptions, visit: 
https://lab.dpdk.org/results/dashboard/preferences/subscriptions/