From mboxrd@z Thu Jan  1 00:00:00 1970
Return-Path: <test-report-bounces@dpdk.org>
Received: from mails.dpdk.org (mails.dpdk.org [217.70.189.124])
	by inbox.dpdk.org (Postfix) with ESMTP id 309AA46359
	for <public@inbox.dpdk.org>; Thu,  6 Mar 2025 11:46:49 +0100 (CET)
Received: from mails.dpdk.org (localhost [127.0.0.1])
	by mails.dpdk.org (Postfix) with ESMTP id 2D73E40430;
	Thu,  6 Mar 2025 11:46:49 +0100 (CET)
Received: from mail-io1-f100.google.com (mail-io1-f100.google.com
 [209.85.166.100])
 by mails.dpdk.org (Postfix) with ESMTP id B15CE4029E
 for <test-report@dpdk.org>; Thu,  6 Mar 2025 11:46:47 +0100 (CET)
Received: by mail-io1-f100.google.com with SMTP id
 ca18e2360f4ac-85b0180631fso13454639f.1
 for <test-report@dpdk.org>; Thu, 06 Mar 2025 02:46:47 -0800 (PST)
DKIM-Signature: v=1; a=rsa-sha256; c=relaxed/relaxed;
 d=iol.unh.edu; s=unh-iol; t=1741258007; x=1741862807; darn=dpdk.org;
 h=references:in-reply-to:cc:to:from:subject:message-id:date:from:to
 :cc:subject:date:message-id:reply-to;
 bh=Gto1BkQ2SVRBcCGsLyyvs/q4plA89EqfUWE6jUxx4HQ=;
 b=SmBvACh01hKBUrmVzgWNgxC+ZvQZ+YTdhC/oAY0SX7pigezWF+kcZdv0dllQ6C4o16
 kjy65bZpAWctIMo69vkw7UjsFafVmnIJ7psbssDQrViNwUnkO6QJMKTWvAMLY9A+K5Bi
 Ovo8IYYzNt1DkmwkWrcRi3eKC/M1SO8NTrhJQ=
X-Google-DKIM-Signature: v=1; a=rsa-sha256; c=relaxed/relaxed;
 d=1e100.net; s=20230601; t=1741258007; x=1741862807;
 h=references:in-reply-to:cc:to:from:subject:message-id:date
 :x-gm-message-state:from:to:cc:subject:date:message-id:reply-to;
 bh=Gto1BkQ2SVRBcCGsLyyvs/q4plA89EqfUWE6jUxx4HQ=;
 b=FA1J/ZHXlxkd7acwlz9OOaynjaqfNV1ErBd2PxityduqzYcWDgHxlAJGsW3Ms4potg
 WcvB4z4OWwmI0yxjqZZYLwaj6P5wyIZmxPVAgVfGNRZGdZ7dueoC0q5DunM4sAXr0yJ1
 84AOQkizbKGWtJNItTzXfLeBUi1zV/OjyWOca/sgz9LAzt5Kv9U7onNurt2AN/hSgY9z
 1A1KwPZK5U57bTWOkC71FPHAs35KRZGcTRTStAAPhWYgbPJXeFInQQ3iaQdbGSdy0gPq
 iGKQPJMd2+SvAqjY5NaSvMXYRGu2yhTxaRvf18FPv74+in1vCxmjsQ74XvV2chocWa5S
 Nz7A==
X-Gm-Message-State: AOJu0YyE44msrQQ66CYkYDjiExtH5TFimz5IhM0lz2MGOfYlgH+1f0Co
 WmcZsIZb3FNAmHKvzMQUrEdhSf438rOIXgZ8VykbxM2CTHrRBWlpyCZn1YFHADcEY4vwxesKAyy
 ct9N5aRVu82eeh4u6UXQUIRqZ2BUy9wWsQYbhOSMD
X-Gm-Gg: ASbGncv+J3IENSJeRf06bEfR9VR/5FXVoIw+7zBQ6oeR13TxEXXyvMcjlYEmLlmrzaR
 2mbWpYpvFxJyJmQVMDs570Sw3cEOj1nniS6o4ajsQaRPr5eHEs1jwkZkWOHk6OTyPcc/Twlndbw
 RnQyNWXfQa62WlGLCauFknTnGEK/XwsJCyX6ep0c0G9hAAjmRTgxfZDYVEJqo/IxGhg1sfhDEid
 z8eyHTi0aXTqAPsFGW77bPZ+CxNNWNR2ASipeDjFZ7ejLvNIQXhTFRk6oPiwgh1xvMXRImP967l
 ZhMoJr2x9MWfwBHPCEtbCUQifGeCi9h1DqJfjQZo
X-Google-Smtp-Source: AGHT+IGJ/vmMdgYToWqaNLCEhSjP4Kzw9m0DhJ+27j99UihamVRlcT9+JnSzd2JSdAckXNJLC55assABsREF
X-Received: by 2002:a05:6e02:170c:b0:3d4:2306:6d0 with SMTP id
 e9e14a558f8ab-3d42b97ba4dmr72582955ab.14.1741258006896; 
 Thu, 06 Mar 2025 02:46:46 -0800 (PST)
Received: from postal.iol.unh.edu (postal.iol.unh.edu. [132.177.123.84])
 by smtp-relay.gmail.com with ESMTPS id
 e9e14a558f8ab-3d43b4f7345sm401185ab.27.2025.03.06.02.46.46
 (version=TLS1_2 cipher=ECDHE-ECDSA-AES128-GCM-SHA256 bits=128/128);
 Thu, 06 Mar 2025 02:46:46 -0800 (PST)
X-Relaying-Domain: iol.unh.edu
Date: Thu, 06 Mar 2025 02:46:46 -0800 (PST)
Message-ID: <67c97d16.050a0220.31e5b3.2a99SMTPIN_ADDED_MISSING@mx.google.com>
Received: from [172.21.0.7] (unknown [172.18.0.240])
 by postal.iol.unh.edu (Postfix) with ESMTP id 585236052471;
 Thu,  6 Mar 2025 05:46:46 -0500 (EST)
Subject: |SUCCESS| pw152263-152265 [PATCH] [v10,3/3] eventdev: add atomic atq
From: dpdklab@iol.unh.edu
To: Test Report <test-report@dpdk.org>
Cc: dpdk-test-reports@iol.unh.edu
In-Reply-To: <20250306084946.3699972-4-luka.jankovic@ericsson.com>
References: <20250306084946.3699972-4-luka.jankovic@ericsson.com>
Content-Type: text/plain
X-BeenThere: test-report@dpdk.org
X-Mailman-Version: 2.1.29
Precedence: list
List-Id: automatic DPDK test reports <test-report.dpdk.org>
List-Unsubscribe: <https://mails.dpdk.org/options/test-report>,
 <mailto:test-report-request@dpdk.org?subject=unsubscribe>
List-Archive: <http://mails.dpdk.org/archives/test-report/>
List-Post: <mailto:test-report@dpdk.org>
List-Help: <mailto:test-report-request@dpdk.org?subject=help>
List-Subscribe: <https://mails.dpdk.org/listinfo/test-report>,
 <mailto:test-report-request@dpdk.org?subject=subscribe>
Errors-To: test-report-bounces@dpdk.org

Test-Label: iol-unit-amd64-testing
Test-Status: SUCCESS
http://dpdk.org/patch/152265

_Testing PASS_

Submitter: Luka Jankovic <luka.jankovic@ericsson.com>
Date: Thursday, March 06 2025 08:49:46 
DPDK git baseline: Repo:dpdk
  Branch: master
  CommitID:1fe7a8f9ebd27b449ae1d6c1eef0e9d730aeb30f

152263-152265 --> testing pass

Upstream job id: Generic-Unit-Test-DPDK#322226

Test environment and result as below:

+---------------------+----------------+
|     Environment     | dpdk_unit_test |
+=====================+================+
| CentOS Stream 10    | PASS           |
+---------------------+----------------+
| CentOS Stream 9     | PASS           |
+---------------------+----------------+
| Fedora 40           | PASS           |
+---------------------+----------------+
| Debian Bullseye     | PASS           |
+---------------------+----------------+
| Debian 12           | PASS           |
+---------------------+----------------+
| Fedora 40 (Clang)   | PASS           |
+---------------------+----------------+
| Fedora 41           | PASS           |
+---------------------+----------------+
| RHEL8               | PASS           |
+---------------------+----------------+
| Fedora 41 (Clang)   | PASS           |
+---------------------+----------------+
| RHEL9               | PASS           |
+---------------------+----------------+
| Ubuntu 22.04        | PASS           |
+---------------------+----------------+
| Ubuntu 20.04        | PASS           |
+---------------------+----------------+
| Ubuntu 24.04        | PASS           |
+---------------------+----------------+
| Windows Server 2022 | PASS           |
+---------------------+----------------+


CentOS Stream 10
	Kernel: Depends on container host
	Compiler: gcc 14.2.1 20241104 (Red Hat 14.2.1-6)

CentOS Stream 9
	Kernel: Depends on container host
	Compiler: gcc 11.5.0 20240719 (Red Hat 11.5.0-2)

Fedora 40
	Kernel: Depends on container host
	Compiler: gcc 14.2.1 20240912 (Red Hat 14.2.1-3)

Debian Bullseye
	Kernel: Depends on container host
	Compiler: gcc (Debian 10.2.1-6) 10.2.1 20210110

Debian 12
	Kernel: Depends on container host
	Compiler: gcc (Debian 12.2.0-14) 12.2.0

Fedora 40 (Clang)
	Kernel: Depends on container host
	Compiler: clang 18.1.8 (Fedora 18.1.8-1.fc40)

Fedora 41
	Kernel: Depends on container host
	Compiler: gcc 14.2.1 20240912 (Red Hat 14.2.1-3)

RHEL8
	Kernel: Depends on container host
	Compiler: gcc 8.5.0 20210514 (Red Hat 8.5.0-22)

Fedora 41 (Clang)
	Kernel: Depends on container host
	Compiler: clang 19.1.5 (Fedora 19.1.5-1.fc41)

RHEL9
	Kernel: Depends on container host
	Compiler: gcc 11.5.0 20240719 (Red Hat 11.5.0-2)

Ubuntu 22.04
	Kernel: Depends on container host
	Compiler: gcc (Ubuntu 11.4.0-1ubuntu1~22.04) 11.4.0

Ubuntu 20.04
	Kernel: Depends on container host
	Compiler: gcc (Ubuntu 9.4.0-1ubuntu1~20.04.2) 9.4.0

Ubuntu 24.04
	Kernel: Depends on container host
	Compiler: gcc (Ubuntu 13.3.0-6ubuntu2~24.04) 13.3.0

Windows Server 2022
	Kernel: 10.0.20348.2031
	Compiler: clang 15.0.7, gcc 14.1.0 (MinGW), and MSVC VS 19.39.33521

To view detailed results, visit:
https://lab.dpdk.org/results/dashboard/patchsets/32764/

UNH-IOL DPDK Community Lab

To manage your email subscriptions, visit: 
https://lab.dpdk.org/results/dashboard/preferences/subscriptions/