From mboxrd@z Thu Jan  1 00:00:00 1970
Return-Path: <test-report-bounces@dpdk.org>
Received: from mails.dpdk.org (mails.dpdk.org [217.70.189.124])
	by inbox.dpdk.org (Postfix) with ESMTP id EB0544634D
	for <public@inbox.dpdk.org>; Fri,  7 Mar 2025 02:25:23 +0100 (CET)
Received: from mails.dpdk.org (localhost [127.0.0.1])
	by mails.dpdk.org (Postfix) with ESMTP id D026E40A81;
	Fri,  7 Mar 2025 02:25:23 +0100 (CET)
Received: from mail-il1-f225.google.com (mail-il1-f225.google.com
 [209.85.166.225])
 by mails.dpdk.org (Postfix) with ESMTP id 0CC4140A75
 for <test-report@dpdk.org>; Fri,  7 Mar 2025 02:25:22 +0100 (CET)
Received: by mail-il1-f225.google.com with SMTP id
 e9e14a558f8ab-3cfcf8b7455so14996025ab.3
 for <test-report@dpdk.org>; Thu, 06 Mar 2025 17:25:21 -0800 (PST)
DKIM-Signature: v=1; a=rsa-sha256; c=relaxed/relaxed;
 d=iol.unh.edu; s=unh-iol; t=1741310721; x=1741915521; darn=dpdk.org;
 h=references:in-reply-to:cc:to:from:subject:message-id:date:from:to
 :cc:subject:date:message-id:reply-to;
 bh=n2D4B+2R9ZWuElkWZzArXsXb3MAneZlh7wdRr8iv7ik=;
 b=TyuX4CTgCe3EYslY/Gky05GSGrmmyCgBZR7qGoHxtsEmLa7ELl2ZWr1jJTHDeqC2f8
 ppZusupBozQU3BmaSOUYjSb5hbjrHdxXIfAwLFa4vo7/+ItcRCgwPObHCJnFw8S0Xgor
 mH7d1HeZliEh/dzPXdDfHn3pyyGsBbezWOqyc=
X-Google-DKIM-Signature: v=1; a=rsa-sha256; c=relaxed/relaxed;
 d=1e100.net; s=20230601; t=1741310721; x=1741915521;
 h=references:in-reply-to:cc:to:from:subject:message-id:date
 :x-gm-message-state:from:to:cc:subject:date:message-id:reply-to;
 bh=n2D4B+2R9ZWuElkWZzArXsXb3MAneZlh7wdRr8iv7ik=;
 b=j3oBO/pcATBKd5gy/+bYiTivcU9O17sOxoluKRbyy+A4LujZxAiURl3Ud4zUg+G7zH
 2ehkDAzBFIkQ6nY9qiJJVMqfp6gQIBXMS0llfSJiyWtq0JZBCY93WHgkW79gzVq9gUXX
 PuUiRDhWRi2v/avSzRLUSk+j82LNHeFHfvOzBvN+SS3RW54RxIqm7IioRi90eTDOqWRR
 ARuNCVg4H5Gk4SVnnAa1L8p8Thl1tmtQu3sRYRRwHtE5DqMUActZnvWyhfLqx8NNCbkc
 F2ZC/9w2b619VYl0W+18Q+2I3K7dbJ9DQR0+5n1r5gQINozV+Fvu+GtyDRsjhOcNl0Up
 ai7w==
X-Gm-Message-State: AOJu0YxLbVEFNXERMqWaAXm+Nr1CqiabdvvclS8v/+DauKqqho1GDAEz
 +ZQQN9hibHYy7HRghlw41ujJ3ufiSH0uD2XWr7bJW1DuKhdWqGyjo53QKv7kC32ZUAct5tPE9A4
 UsfkMsVNS0kgZxo2KXFVkBkCzn2vGrhF0GtoWWKRq5N1c89BTHjghbGJt
X-Gm-Gg: ASbGncvCFPBPXTdxWQj4TDnbg3aP9d8xglmZ0VXcDlhO4EeViKDtKxFIdtji3ZT1tS8
 5DOuuna0M6E7b3CVKXCn53m1HW7h5+cG0tss+++dwPYfhw17DH3UcqEoborrEU0HjjeUnrU2wXy
 Ska6gmPcge9hmBM5Yf31Ff2zQyBj7pW2luRS6+/xjV/Or8nhaD+VjRrLRUMjJ1d8iYM0HrTdbvM
 rd3EMRx5gyWKGgJg4kQzNIgW0sxTwsLoKgy4K+B8DVeLxGIzUtdyJQtujRlvGXOehmIoWvRpjbJ
 p9lESYILEUQGrTOj9yeNfN0CDG1ftVZT7mCt0h9h9O0md9bVVhQ+
X-Google-Smtp-Source: AGHT+IEe6tuDVM/9mvhd+fG1wAxGBLwuvQPOXE6bs/HxFq+nL3uH0srdbBJ/fdFVp151myppgEt5Tg8RV3e7
X-Received: by 2002:a05:6e02:1d8d:b0:3d3:e287:3e7a with SMTP id
 e9e14a558f8ab-3d441962873mr22090695ab.19.1741310721128; 
 Thu, 06 Mar 2025 17:25:21 -0800 (PST)
Received: from postal.iol.unh.edu (postal.iol.unh.edu.
 [2606:4100:3880:1234::84]) by smtp-relay.gmail.com with ESMTPS id
 8926c6da1cb9f-4f209e15c83sm115501173.17.2025.03.06.17.25.21
 (version=TLS1_2 cipher=ECDHE-ECDSA-AES128-GCM-SHA256 bits=128/128);
 Thu, 06 Mar 2025 17:25:21 -0800 (PST)
X-Relaying-Domain: iol.unh.edu
Date: Thu, 06 Mar 2025 17:25:21 -0800 (PST)
Message-ID: <67ca4b01.050a0220.3bcd4e.6aa6SMTPIN_ADDED_MISSING@mx.google.com>
Received: from [172.17.0.5] (unknown [172.18.0.217])
 by postal.iol.unh.edu (Postfix) with ESMTP id A96C66052471;
 Thu,  6 Mar 2025 20:25:18 -0500 (EST)
Subject: |SUCCESS| pw152275-152278 [PATCH] [v1,4/4] change verification field
From: dpdklab@iol.unh.edu
To: Test Report <test-report@dpdk.org>
Cc: dpdk-test-reports@iol.unh.edu
In-Reply-To: <20250306214747.579340-5-dmarx@iol.unh.edu>
References: <20250306214747.579340-5-dmarx@iol.unh.edu>
Content-Type: text/plain
X-BeenThere: test-report@dpdk.org
X-Mailman-Version: 2.1.29
Precedence: list
List-Id: automatic DPDK test reports <test-report.dpdk.org>
List-Unsubscribe: <https://mails.dpdk.org/options/test-report>,
 <mailto:test-report-request@dpdk.org?subject=unsubscribe>
List-Archive: <http://mails.dpdk.org/archives/test-report/>
List-Post: <mailto:test-report@dpdk.org>
List-Help: <mailto:test-report-request@dpdk.org?subject=help>
List-Subscribe: <https://mails.dpdk.org/listinfo/test-report>,
 <mailto:test-report-request@dpdk.org?subject=subscribe>
Errors-To: test-report-bounces@dpdk.org

Test-Label: iol-unit-arm64-testing
Test-Status: SUCCESS
http://dpdk.org/patch/152278

_Testing PASS_

Submitter: Dean Marx <dmarx@iol.unh.edu>
Date: Thursday, March 06 2025 21:47:47 
DPDK git baseline: Repo:dpdk
  Branch: master
  CommitID:c807af409e52bbd6899ea5cc49693f800a125a26

152275-152278 --> testing pass

Upstream job id: Generic-Unit-Test-DPDK#322421

Test environment and result as below:

+-----------------------------+--------------+----------------+---------------------------+------------------------------+
|         Environment         | lpm_autotest | dpdk_unit_test | cryptodev_sw_zuc_autotest | cryptodev_sw_snow3g_autotest |
+=============================+==============+================+===========================+==============================+
| Ubuntu 20.04 ARM SVE        | PASS         | SKIPPED        | SKIPPED                   | SKIPPED                      |
+-----------------------------+--------------+----------------+---------------------------+------------------------------+
| 32-bit Ubuntu 22.04.4 (ARM) | SKIPPED      | PASS           | SKIPPED                   | SKIPPED                      |
+-----------------------------+--------------+----------------+---------------------------+------------------------------+
| CentOS Stream 10 (ARM)      | SKIPPED      | PASS           | SKIPPED                   | SKIPPED                      |
+-----------------------------+--------------+----------------+---------------------------+------------------------------+
| CentOS Stream 9 (ARM)       | SKIPPED      | PASS           | SKIPPED                   | SKIPPED                      |
+-----------------------------+--------------+----------------+---------------------------+------------------------------+
| Fedora 40 (ARM)             | SKIPPED      | PASS           | SKIPPED                   | SKIPPED                      |
+-----------------------------+--------------+----------------+---------------------------+------------------------------+
| Debian 12 (arm)             | SKIPPED      | PASS           | PASS                      | PASS                         |
+-----------------------------+--------------+----------------+---------------------------+------------------------------+
| RHEL9 (ARM)                 | SKIPPED      | PASS           | SKIPPED                   | SKIPPED                      |
+-----------------------------+--------------+----------------+---------------------------+------------------------------+
| Fedora 41 (ARM Clang)       | SKIPPED      | PASS           | SKIPPED                   | SKIPPED                      |
+-----------------------------+--------------+----------------+---------------------------+------------------------------+
| Fedora 41 (ARM)             | SKIPPED      | PASS           | SKIPPED                   | SKIPPED                      |
+-----------------------------+--------------+----------------+---------------------------+------------------------------+
| Fedora 40 (ARM Clang)       | SKIPPED      | PASS           | SKIPPED                   | SKIPPED                      |
+-----------------------------+--------------+----------------+---------------------------+------------------------------+
| Ubuntu 22.04 (ARM)          | SKIPPED      | PASS           | SKIPPED                   | SKIPPED                      |
+-----------------------------+--------------+----------------+---------------------------+------------------------------+
| Ubuntu 20.04 (ARM)          | SKIPPED      | PASS           | SKIPPED                   | SKIPPED                      |
+-----------------------------+--------------+----------------+---------------------------+------------------------------+
| Ubuntu 24.04 (ARM)          | SKIPPED      | PASS           | SKIPPED                   | SKIPPED                      |
+-----------------------------+--------------+----------------+---------------------------+------------------------------+


Ubuntu 20.04 ARM SVE
	Kernel: Depends on container host
	Compiler: gcc (Ubuntu 10.5.0-1ubuntu1~20.04) 10.5.0

32-bit Ubuntu 22.04.4 (ARM)
	Kernel: 5.15.83+ aarch64
	Compiler: gcc (Ubuntu 11.4.0-1ubuntu1~22.04) 11.4.0

CentOS Stream 10 (ARM)
	Kernel: Depends on container host
	Compiler: gcc 14.2.1 20241104 (Red Hat 14.2.1-6)

CentOS Stream 9 (ARM)
	Kernel: Depends on container host
	Compiler: gcc 11.5.0 20240719 (Red Hat 11.5.0-2)

Fedora 40 (ARM)
	Kernel: Depends on container host
	Compiler: gcc 14.2.1 20240912 (Red Hat 14.2.1-3)

Debian 12 (arm)
	Kernel: Depends on container host
	Compiler: gcc (Debian 12.2.0-14) 12.2.0

RHEL9 (ARM)
	Kernel: Depends on container host
	Compiler: gcc 11.5.0 20240719 (Red Hat 11.5.0-2)

Fedora 41 (ARM Clang)
	Kernel: Depends on container host
	Compiler: clang 19.1.5 (Fedora 19.1.5-1.fc41)

Fedora 41 (ARM)
	Kernel: Depends on container host
	Compiler: gcc 14.2.1 20240912 (Red Hat 14.2.1-3)

Fedora 40 (ARM Clang)
	Kernel: Depends on container host
	Compiler: clang 18.1.8 (Fedora 18.1.8-1.fc40)

Ubuntu 22.04 (ARM)
	Kernel: Depends on container host
	Compiler: gcc (Ubuntu 11.4.0-1ubuntu1~22.04) 11.4.0

Ubuntu 20.04 (ARM)
	Kernel: Depends on container host
	Compiler: gcc (Ubuntu 9.4.0-1ubuntu1~20.04.2) 9.4.0

Ubuntu 24.04 (ARM)
	Kernel: Depends on container host
	Compiler: gcc (Ubuntu 13.3.0-6ubuntu2~24.04) 13.3.0

To view detailed results, visit:
https://lab.dpdk.org/results/dashboard/patchsets/32772/

UNH-IOL DPDK Community Lab

To manage your email subscriptions, visit: 
https://lab.dpdk.org/results/dashboard/preferences/subscriptions/