From mboxrd@z Thu Jan  1 00:00:00 1970
Return-Path: <test-report-bounces@dpdk.org>
Received: from mails.dpdk.org (mails.dpdk.org [217.70.189.124])
	by inbox.dpdk.org (Postfix) with ESMTP id 6D1E34634D
	for <public@inbox.dpdk.org>; Fri,  7 Mar 2025 03:16:53 +0100 (CET)
Received: from mails.dpdk.org (localhost [127.0.0.1])
	by mails.dpdk.org (Postfix) with ESMTP id 675C640A75;
	Fri,  7 Mar 2025 03:16:53 +0100 (CET)
Received: from mail-il1-f226.google.com (mail-il1-f226.google.com
 [209.85.166.226])
 by mails.dpdk.org (Postfix) with ESMTP id 5AA4E4029E
 for <test-report@dpdk.org>; Fri,  7 Mar 2025 03:16:52 +0100 (CET)
Received: by mail-il1-f226.google.com with SMTP id
 e9e14a558f8ab-3cf8e017abcso5044015ab.1
 for <test-report@dpdk.org>; Thu, 06 Mar 2025 18:16:52 -0800 (PST)
DKIM-Signature: v=1; a=rsa-sha256; c=relaxed/relaxed;
 d=iol.unh.edu; s=unh-iol; t=1741313811; x=1741918611; darn=dpdk.org;
 h=references:in-reply-to:cc:to:from:subject:message-id:date:from:to
 :cc:subject:date:message-id:reply-to;
 bh=KZGnxJxcRHgKI7jQKpXsnIe2azAp4JSR8Ctf52jWKPE=;
 b=i2zHZGYr7/SCsGuJeidLyFpCYVt6mV/+/Br6IWA5k61HrPOHwHKLXGUQSUJWxy5OvZ
 8Ue1Wee2xg1M4qFrwl8hQDxp9uuR+xieDsTJUeOPHJmJm2nNHB/K3/cwL54BZY6Y4+t5
 W5mo5E1NM5neyGyvf70532og9ttxJxq3CClEo=
X-Google-DKIM-Signature: v=1; a=rsa-sha256; c=relaxed/relaxed;
 d=1e100.net; s=20230601; t=1741313811; x=1741918611;
 h=references:in-reply-to:cc:to:from:subject:message-id:date
 :x-gm-message-state:from:to:cc:subject:date:message-id:reply-to;
 bh=KZGnxJxcRHgKI7jQKpXsnIe2azAp4JSR8Ctf52jWKPE=;
 b=mZMGGhwSy6B/IBnkUoUsJGvsPy2f5JxZgMHpOmbFIFZcTreh1lDaaCn2Qv8A9ZvLNv
 3PZrxg0VUxF5VkbXb0SIRIg3Ospqba/djSaOAqDtvgs4ubcAPJ4gZZowhm10cq+DhJUw
 LGdbnMOf7/Xl4AOfROl5xJA+5vf5XC4Fb+Zgb6iDg29BS5XRfhwq9MqSuQUGPN9en1QZ
 AjbMx9tz5nNNgOKrMy0as8iZakXbx+Mk+MG7VKV9DPloCFr8ub8aZ5yIW1l1nTtkICvA
 Taib01S81IEjzWbSg8RABnAghpxc4/STHHxvZUIE+wsdgLn6vAmVGuZ7OY4BEBuNSUCb
 bnqw==
X-Gm-Message-State: AOJu0Yw7NkqaLpy1FYXW/4qLh1vNSkGV2fhRZtdayD3IwXrbz04Hyg3V
 Y5+IBLDcUHR945PLTRdpwe2Zsl2mn/vSEyTHy54cGEQJhvs1XN8ES/cCb0R22cXiGEieesTut5a
 iJBxWkrRL6doS5lw/BGpw5fgFUNdZ2MfFQ4g9h0Rw
X-Gm-Gg: ASbGncvfUkwE6gafLKMeHf+gIqbtM20fF6EEHYYIvYJCOBClv2z16wDSqFmxKQ17SXL
 ZyoWm9nKiTJxL1bhlIaF+muipZO7P0EG0O5sIBBVoytzjy13QXXw3w35E61TmPD7wT8fKExpygh
 CltiPliqdI+Q5fRnWAhXj/MTtLVofM9ipnrP9yGI2eOrEOAOqvB3kRrPa+KDDl8kVPFrBUWo1Mi
 mMg/3V/RWMm+6+tT1UmMdVTkQAVNm69bFHlHdyNgkV/2oE0roFR0VbG4vlc2hohTkfxWck8QFfg
 blmU9W4LVHTXr4rzJXVOm5jEGJXCeyeGXt08xURK
X-Google-Smtp-Source: AGHT+IGn5cdmnOUmV98Ln7wI5nx5k7al+EPdg0NdOKkjr8ME+I6US/YspdXIWD/5scFyqLobX2EHNuKqPwsp
X-Received: by 2002:a05:6e02:240a:b0:3d0:10ec:cc36 with SMTP id
 e9e14a558f8ab-3d441990a54mr19744925ab.11.1741313811654; 
 Thu, 06 Mar 2025 18:16:51 -0800 (PST)
Received: from postal.iol.unh.edu (postal.iol.unh.edu. [132.177.123.84])
 by smtp-relay.gmail.com with ESMTPS id
 8926c6da1cb9f-4f209e15c83sm118826173.17.2025.03.06.18.16.51
 (version=TLS1_2 cipher=ECDHE-ECDSA-AES128-GCM-SHA256 bits=128/128);
 Thu, 06 Mar 2025 18:16:51 -0800 (PST)
X-Relaying-Domain: iol.unh.edu
Date: Thu, 06 Mar 2025 18:16:51 -0800 (PST)
Message-ID: <67ca5713.050a0220.3bcd4e.6d41SMTPIN_ADDED_MISSING@mx.google.com>
Received: from [172.21.0.8] (unknown [172.18.0.240])
 by postal.iol.unh.edu (Postfix) with ESMTP id 540C36052471;
 Thu,  6 Mar 2025 21:16:48 -0500 (EST)
Subject: |SUCCESS| pw152275-152278 [PATCH] [v1,4/4] change verification field
From: dpdklab@iol.unh.edu
To: Test Report <test-report@dpdk.org>
Cc: dpdk-test-reports@iol.unh.edu
In-Reply-To: <20250306214747.579340-5-dmarx@iol.unh.edu>
References: <20250306214747.579340-5-dmarx@iol.unh.edu>
Content-Type: text/plain
X-BeenThere: test-report@dpdk.org
X-Mailman-Version: 2.1.29
Precedence: list
List-Id: automatic DPDK test reports <test-report.dpdk.org>
List-Unsubscribe: <https://mails.dpdk.org/options/test-report>,
 <mailto:test-report-request@dpdk.org?subject=unsubscribe>
List-Archive: <http://mails.dpdk.org/archives/test-report/>
List-Post: <mailto:test-report@dpdk.org>
List-Help: <mailto:test-report-request@dpdk.org?subject=help>
List-Subscribe: <https://mails.dpdk.org/listinfo/test-report>,
 <mailto:test-report-request@dpdk.org?subject=subscribe>
Errors-To: test-report-bounces@dpdk.org

Test-Label: iol-compile-arm64-testing
Test-Status: SUCCESS
http://dpdk.org/patch/152278

_Testing PASS_

Submitter: Dean Marx <dmarx@iol.unh.edu>
Date: Thursday, March 06 2025 21:47:47 
DPDK git baseline: Repo:dpdk
  Branch: master
  CommitID:c807af409e52bbd6899ea5cc49693f800a125a26

152275-152278 --> testing pass

Upstream job id: Generic-DPDK-Compile-Meson#369761

Test environment and result as below:

+----------------------------------------+--------------------+
|              Environment               | dpdk_meson_compile |
+========================================+====================+
| RHEL9 (ARM)                            | PASS               |
+----------------------------------------+--------------------+
| Debian 12 with MUSDK                   | PASS               |
+----------------------------------------+--------------------+
| Ubuntu 20.04 ARM GCC Cross Compile     | PASS               |
+----------------------------------------+--------------------+
| Fedora 40 (ARM)                        | PASS               |
+----------------------------------------+--------------------+
| Ubuntu 20.04 ARM SVE                   | PASS               |
+----------------------------------------+--------------------+
| Fedora 40 (ARM Clang)                  | PASS               |
+----------------------------------------+--------------------+
| Ubuntu 22.04 (ARM)                     | PASS               |
+----------------------------------------+--------------------+
| Fedora 41 (ARM)                        | PASS               |
+----------------------------------------+--------------------+
| Ubuntu 20.04 ARM Clang Cross Compile   | PASS               |
+----------------------------------------+--------------------+
| Fedora 41 (ARM Clang)                  | PASS               |
+----------------------------------------+--------------------+
| Ubuntu 24.04 (ARM)                     | PASS               |
+----------------------------------------+--------------------+
| Ubuntu 20.04 (ARM)                     | PASS               |
+----------------------------------------+--------------------+
| Debian 12 (arm)                        | PASS               |
+----------------------------------------+--------------------+
| CentOS Stream 9 (ARM)                  | PASS               |
+----------------------------------------+--------------------+
| CentOS Stream 10 (ARM)                 | PASS               |
+----------------------------------------+--------------------+
| Ubuntu 20.04 aarch32 GCC Cross Compile | PASS               |
+----------------------------------------+--------------------+


RHEL9 (ARM)
	Kernel: Depends on container host
	Compiler: gcc 11.5.0 20240719 (Red Hat 11.5.0-2)

Debian 12 with MUSDK
	Kernel: Depends on container host
	Compiler: gcc (Debian 12.2.0-14) 12.2.0

Ubuntu 20.04 ARM GCC Cross Compile
	Kernel: Depends on container host
	Compiler: aarch64-linux-gnu-gcc (Ubuntu 9.4.0-1ubuntu1~20.04.2) 9.4.0

Fedora 40 (ARM)
	Kernel: Depends on container host
	Compiler: gcc 14.2.1 20240912 (Red Hat 14.2.1-3)

Ubuntu 20.04 ARM SVE
	Kernel: Depends on container host
	Compiler: gcc (Ubuntu 10.5.0-1ubuntu1~20.04) 10.5.0

Fedora 40 (ARM Clang)
	Kernel: Depends on container host
	Compiler: clang 18.1.8 (Fedora 18.1.8-1.fc40)

Ubuntu 22.04 (ARM)
	Kernel: Depends on container host
	Compiler: gcc (Ubuntu 11.4.0-1ubuntu1~22.04) 11.4.0

Fedora 41 (ARM)
	Kernel: Depends on container host
	Compiler: gcc 14.2.1 20240912 (Red Hat 14.2.1-3)

Ubuntu 20.04 ARM Clang Cross Compile
	Kernel: Depends on container host
	Compiler: clang 10.0.0-4ubuntu1

Fedora 41 (ARM Clang)
	Kernel: Depends on container host
	Compiler: clang 19.1.5 (Fedora 19.1.5-1.fc41)

Ubuntu 24.04 (ARM)
	Kernel: Depends on container host
	Compiler: gcc (Ubuntu 13.3.0-6ubuntu2~24.04) 13.3.0

Ubuntu 20.04 (ARM)
	Kernel: Depends on container host
	Compiler: gcc (Ubuntu 9.4.0-1ubuntu1~20.04.2) 9.4.0

Debian 12 (arm)
	Kernel: Depends on container host
	Compiler: gcc (Debian 12.2.0-14) 12.2.0

CentOS Stream 9 (ARM)
	Kernel: Depends on container host
	Compiler: gcc 11.5.0 20240719 (Red Hat 11.5.0-2)

CentOS Stream 10 (ARM)
	Kernel: Depends on container host
	Compiler: gcc 14.2.1 20241104 (Red Hat 14.2.1-6)

Ubuntu 20.04 aarch32 GCC Cross Compile
	Kernel: Depends on container host
	Compiler: gcc 9.4.0

To view detailed results, visit:
https://lab.dpdk.org/results/dashboard/patchsets/32772/

UNH-IOL DPDK Community Lab

To manage your email subscriptions, visit: 
https://lab.dpdk.org/results/dashboard/preferences/subscriptions/