From mboxrd@z Thu Jan 1 00:00:00 1970 Return-Path: Received: from mails.dpdk.org (mails.dpdk.org [217.70.189.124]) by inbox.dpdk.org (Postfix) with ESMTP id 1067A46363 for ; Fri, 7 Mar 2025 08:45:04 +0100 (CET) Received: from mails.dpdk.org (localhost [127.0.0.1]) by mails.dpdk.org (Postfix) with ESMTP id 0CECB4029E; Fri, 7 Mar 2025 08:45:04 +0100 (CET) Received: from mail-pl1-f228.google.com (mail-pl1-f228.google.com [209.85.214.228]) by mails.dpdk.org (Postfix) with ESMTP id 5248D40275 for ; Fri, 7 Mar 2025 08:45:03 +0100 (CET) Received: by mail-pl1-f228.google.com with SMTP id d9443c01a7336-2239f8646f6so28802635ad.2 for ; Thu, 06 Mar 2025 23:45:03 -0800 (PST) DKIM-Signature: v=1; a=rsa-sha256; c=relaxed/relaxed; d=iol.unh.edu; s=unh-iol; t=1741333502; x=1741938302; darn=dpdk.org; h=cc:to:from:subject:message-id:date:from:to:cc:subject:date :message-id:reply-to; bh=KSQmZ0IEjL2WBprntaTRca6rwYyy5tgcecRmn6+Ekr0=; b=cq7EIOlf3+BdBy2EusP8zNS4u/HhxL8AFaV1CtZWS9MCInjMnN3W+2AH4i2RHl+L5t ui97Z9ShYeypRResxqBY1NDdJb7TKVfuBeTNdNKCQei5ETaSo0vvn5B1xQAa7un+NvNq yYPPxVlF7Z7cC7YoQg/7m0t0FJ9gfhzmG84RM= X-Google-DKIM-Signature: v=1; a=rsa-sha256; c=relaxed/relaxed; d=1e100.net; s=20230601; t=1741333502; x=1741938302; h=cc:to:from:subject:message-id:date:x-gm-message-state:from:to:cc :subject:date:message-id:reply-to; bh=KSQmZ0IEjL2WBprntaTRca6rwYyy5tgcecRmn6+Ekr0=; b=m1UeDMmnWzCu/UACekBgT82dNibfRI5z3iQF12vsiCq1ODK72IeRl1pHsezgCZxeHy cCM38lJg6d4/GboHChNTgHCFDD+ENHSQCh8mA3FOL9dWqVASj2Ud6GJ01xfNfrMWJlpX qx+Im8it34pMpUQFFz8guynsd4PQpNVQt2cShO7mNmOoYgkjQGpujqw3Vcd7A+yolO/O +8rOsFilfYbUUlgvHm4zcgt9I2CLltYEDlaWJNup68mYdtJ576OJmd5MhPWtWsBkDV5s XKtDVqxuL7xOa4U/IIQXTNZNEseKa+M6Ax1uRNjLd0hePhqbdKH5G1sxuq+JW5sEuEaQ LT7Q== X-Gm-Message-State: AOJu0YzEKpIG/TE8kPQd3rWDEEShApia2G+Ybo9J77JlnpzAHKK9s6kv E5FlftiUKILQj3z8wq/EgHueBQatJSSR7qykVLgxFqU3+49LSlp2MjP+OXBq6apFgOi3CJlZs7x +wN/nnU3S/AfIPCJ7TA3R2ii1+sVB2g26 X-Gm-Gg: ASbGncvEolsgD8AWm35WXKRzFsEsDvJb3mY2bVLEUkOMF1IkolCKQeE1RBhsAFBmQ2w GNAUQpCdrDNXSNWHrNVfwHKvj5WOhuwf2Gnv0o8k43xqG/B1KfeAjfGNfanvLNIWcNUcSN5LYXS VVAPaUGkgv/oKjSPe2Lr9TTeZs+toyBkfk+dRfeL+Qgj6Y8Rv18QoyfIiQ6mvUH9qz8Rub9zJsF CMhDIXsQRrFSnr4j8GRZr4M+I313zAIcGLyKiSZabU41ELr+arQyMBQPjhZMMEddwH6gC0P9Ibn Fccj83/VUSViF57earHXkvWd6fHX5Gh5qw5yxuXO X-Google-Smtp-Source: AGHT+IFhaXSR/yVL28cZCHoR5xprWqEkZqBuKQOxLMhEdknamLK4Tn6Qfja6hX+Fo9HV7dyAkpS25dWlnlK6 X-Received: by 2002:a17:902:e5d2:b0:224:23ab:b88b with SMTP id d9443c01a7336-2242887ecc6mr35596445ad.8.1741333502606; Thu, 06 Mar 2025 23:45:02 -0800 (PST) Received: from postal.iol.unh.edu (postal.iol.unh.edu. [132.177.123.84]) by smtp-relay.gmail.com with ESMTPS id d9443c01a7336-224109fd876sm1146905ad.54.2025.03.06.23.45.02 (version=TLS1_2 cipher=ECDHE-ECDSA-AES128-GCM-SHA256 bits=128/128); Thu, 06 Mar 2025 23:45:02 -0800 (PST) X-Relaying-Domain: iol.unh.edu Date: Thu, 06 Mar 2025 23:45:02 -0800 (PST) Message-ID: <67caa3fe.170a0220.a1902.62cfSMTPIN_ADDED_MISSING@mx.google.com> Received: from [172.21.0.7] (unknown [172.18.0.240]) by postal.iol.unh.edu (Postfix) with ESMTP id 054C66052471; Fri, 7 Mar 2025 02:44:59 -0500 (EST) Subject: |SUCCESS| [GIT MASTER] 39594cdfcb730ea667370b1e304313d10996aff3 From: dpdklab@iol.unh.edu To: Test Report Cc: dpdk-test-reports@iol.unh.edu, Xueming Li , Christian Ehrhardt , Kevin Traynor , Luca Boccassi Content-Type: text/plain X-BeenThere: test-report@dpdk.org X-Mailman-Version: 2.1.29 Precedence: list List-Id: automatic DPDK test reports List-Unsubscribe: , List-Archive: List-Post: List-Help: List-Subscribe: , Errors-To: test-report-bounces@dpdk.org _Testing PASS_ Branch: tags/v24.11 39594cdfcb730ea667370b1e304313d10996aff3 --> testing pass Upstream job id: Generic-Unit-Test-DPDK#322498 Test environment and result as below: +---------------------+----------------+ | Environment | dpdk_unit_test | +=====================+================+ | CentOS Stream 9 | PASS | +---------------------+----------------+ | CentOS Stream 10 | PASS | +---------------------+----------------+ | Fedora 40 | PASS | +---------------------+----------------+ | Debian 12 | PASS | +---------------------+----------------+ | Fedora 40 (Clang) | PASS | +---------------------+----------------+ | Fedora 41 (Clang) | PASS | +---------------------+----------------+ | RHEL9 | PASS | +---------------------+----------------+ | Fedora 41 | PASS | +---------------------+----------------+ | Ubuntu 24.04 | PASS | +---------------------+----------------+ | Ubuntu 22.04 | PASS | +---------------------+----------------+ | Ubuntu 20.04 | PASS | +---------------------+----------------+ | RHEL8 | PASS | +---------------------+----------------+ | Windows Server 2022 | PASS | +---------------------+----------------+ CentOS Stream 9 Kernel: Depends on container host Compiler: gcc 11.5.0 20240719 (Red Hat 11.5.0-2) CentOS Stream 10 Kernel: Depends on container host Compiler: gcc 14.2.1 20241104 (Red Hat 14.2.1-6) Fedora 40 Kernel: Depends on container host Compiler: gcc 14.2.1 20240912 (Red Hat 14.2.1-3) Debian 12 Kernel: Depends on container host Compiler: gcc (Debian 12.2.0-14) 12.2.0 Fedora 40 (Clang) Kernel: Depends on container host Compiler: clang 18.1.8 (Fedora 18.1.8-1.fc40) Fedora 41 (Clang) Kernel: Depends on container host Compiler: clang 19.1.5 (Fedora 19.1.5-1.fc41) RHEL9 Kernel: Depends on container host Compiler: gcc 11.5.0 20240719 (Red Hat 11.5.0-2) Fedora 41 Kernel: Depends on container host Compiler: gcc 14.2.1 20240912 (Red Hat 14.2.1-3) Ubuntu 24.04 Kernel: Depends on container host Compiler: gcc (Ubuntu 13.3.0-6ubuntu2~24.04) 13.3.0 Ubuntu 22.04 Kernel: Depends on container host Compiler: gcc (Ubuntu 11.4.0-1ubuntu1~22.04) 11.4.0 Ubuntu 20.04 Kernel: Depends on container host Compiler: gcc (Ubuntu 9.4.0-1ubuntu1~20.04.2) 9.4.0 RHEL8 Kernel: Depends on container host Compiler: gcc 8.5.0 20210514 (Red Hat 8.5.0-22) Windows Server 2022 Kernel: 10.0.20348.2031 Compiler: clang 15.0.7, gcc 14.1.0 (MinGW), and MSVC VS 19.39.33521 To view detailed results, visit: https://lab.dpdk.org/results/dashboard/tarballs/32878/ UNH-IOL DPDK Community Lab To manage your email subscriptions, visit: https://lab.dpdk.org/results/dashboard/preferences/subscriptions/