From mboxrd@z Thu Jan 1 00:00:00 1970 Return-Path: Received: from mails.dpdk.org (mails.dpdk.org [217.70.189.124]) by inbox.dpdk.org (Postfix) with ESMTP id 98CF946378 for ; Sun, 9 Mar 2025 01:10:48 +0100 (CET) Received: from mails.dpdk.org (localhost [127.0.0.1]) by mails.dpdk.org (Postfix) with ESMTP id 8DF2C4026A; Sun, 9 Mar 2025 01:10:48 +0100 (CET) Received: from mail-qt1-f228.google.com (mail-qt1-f228.google.com [209.85.160.228]) by mails.dpdk.org (Postfix) with ESMTP id 6BCDB40151 for ; Sun, 9 Mar 2025 01:10:47 +0100 (CET) Received: by mail-qt1-f228.google.com with SMTP id d75a77b69052e-474faf23fbeso38668501cf.2 for ; Sat, 08 Mar 2025 16:10:47 -0800 (PST) DKIM-Signature: v=1; a=rsa-sha256; c=relaxed/relaxed; d=iol.unh.edu; s=unh-iol; t=1741479046; x=1742083846; darn=dpdk.org; h=references:in-reply-to:cc:to:from:subject:message-id:date:from:to :cc:subject:date:message-id:reply-to; bh=hNNnoZ/EDrpjZCGHJ93n9htSwYjKBK/l+/0QrqyidUg=; b=d4bArBG/hLxGg/cM7q0Lv2/QDgcx9t48qXyKZPEDWr8NM4BUNv9aJ8l0w3CcCjjp5C Dzio70Kbxex4+jczb3qOfCBHouYWvsxYvi8eOhsxczGIBI3DvrggDyOPJdklGVCQmJ5+ yj+OH738sjWuukmFLwL7ZDzGnNYzy/wQEYCcw= X-Google-DKIM-Signature: v=1; a=rsa-sha256; c=relaxed/relaxed; d=1e100.net; s=20230601; t=1741479046; x=1742083846; h=references:in-reply-to:cc:to:from:subject:message-id:date :x-gm-message-state:from:to:cc:subject:date:message-id:reply-to; bh=hNNnoZ/EDrpjZCGHJ93n9htSwYjKBK/l+/0QrqyidUg=; b=L9uhYHIewcXpCV5NhIDf8mJy/Ct7dDokUvGJ4ttaSGWAPp7PD/SqcgBVtPOAKIF1Ee yd7nB6/PEGVbdbGRW70hCsMaN30rYbffZ441kTHMKbTd6l4xDpGiXPAahV2S484dkymN gL4mP4Pz6d737z5Vrv2Qd65jQRHFVRkFPZjnDehZadFpwEtHgoXTFUNW7JjOR9yn9Ats q8b7uookzj0l4OwxzTekK7rFcz4z9kc1IcmXjubRCYj40qOuvexMOt0PR+K7Y8xwiEPf A3BSNvnw2or5Oo/6uMYj7tr8k9yeZ+UfvmPwzN4Hj9lPBsbE9m2b8hJAA8PEGOLXraJl rYxg== X-Gm-Message-State: AOJu0Yy67isuOCIr9DF577Z/qY7ai8oEv0uiFx9EipSfd0TnCkL44Hdi ksu99iSFvo8wXyOsSD+6B4Pgd6mROwmNz04EYkwpeyXHjQQhzV6ucFtgT4fobiij0gcb5z13mzY qTRl9LjLu1FkKVI2LCnSvGKAE/zntXj5s4d8QGdBNWbpUyMGM2Jk44ehh X-Gm-Gg: ASbGncsPvClABBQ7GWn1/I9UhUNVPclNB1+vxWs646LadSuVon8f+kXv3Ra79/ZJCAg BKf2/oFj7QfmTBH2Il6DTrOVReI3/9uHbmAfo6N+J275i7gnZwYEYRLsYdIgJxcKMPLNJ5xqHVy TsOPXPWV8fYQYZeenRNc4oMUtjbHl3HsNRR37anfnZCQYnHQYMCrk+pX2B11rk1RWoSj8kbwooY h5bTzR6SjuT1AToqoPUVZrXAqjhVEVn42zPuMX7h2fgnQM1HBqoEm+k9eVy/gmNg4qMG2CYlABU i9AjP+YjqeCStmZxU0plY+D5PPeUxwi8/fcX2XkmNDLoAygd9v9H X-Google-Smtp-Source: AGHT+IFEphxX9TZbnKvxkhYKAJfJbcoOX0Gr0q71P8HFOM/mc5bQXExMETpcVxg7VkM7Uqyt08qWV2MxmJaS X-Received: by 2002:a05:622a:540e:b0:476:6a3d:de42 with SMTP id d75a77b69052e-4766a3de6eamr47167901cf.6.1741479046698; Sat, 08 Mar 2025 16:10:46 -0800 (PST) Received: from postal.iol.unh.edu (postal.iol.unh.edu. [2606:4100:3880:1234::84]) by smtp-relay.gmail.com with ESMTPS id d75a77b69052e-4751d95d98csm3135961cf.3.2025.03.08.16.10.46 (version=TLS1_2 cipher=ECDHE-ECDSA-AES128-GCM-SHA256 bits=128/128); Sat, 08 Mar 2025 16:10:46 -0800 (PST) X-Relaying-Domain: iol.unh.edu Date: Sat, 08 Mar 2025 16:10:46 -0800 (PST) Message-ID: <67ccdc86.c80a0220.1be3ea.0f7fSMTPIN_ADDED_MISSING@mx.google.com> Received: from [172.17.0.6] (unknown [172.18.0.217]) by postal.iol.unh.edu (Postfix) with ESMTP id D327B6052471; Sat, 8 Mar 2025 19:10:43 -0500 (EST) Subject: |SUCCESS| pw152293 [PATCH] [v2] rust: support raw DPDK API From: dpdklab@iol.unh.edu To: Test Report Cc: dpdk-test-reports@iol.unh.edu In-Reply-To: <20250308185031.979893-1-getelson@nvidia.com> References: <20250308185031.979893-1-getelson@nvidia.com> Content-Type: text/plain X-BeenThere: test-report@dpdk.org X-Mailman-Version: 2.1.29 Precedence: list List-Id: automatic DPDK test reports List-Unsubscribe: , List-Archive: List-Post: List-Help: List-Subscribe: , Errors-To: test-report-bounces@dpdk.org Test-Label: iol-compile-amd64-testing Test-Status: SUCCESS http://dpdk.org/patch/152293 _Testing PASS_ Submitter: Etelson, Gregory Date: Saturday, March 08 2025 18:50:31 DPDK git baseline: Repo:dpdk Branch: master CommitID:5f37ee9c859f3ce08ca4364f1d8c0e70ec33ac83 152293 --> testing pass Upstream job id: Generic-DPDK-Compile-Meson#370131 Test environment and result as below: +-----------------------------------+--------------------+-------------------+------------------+-------------------------+-------------------+----------------------+ | Environment | dpdk_meson_compile | dpdk_compile_spdk | dpdk_compile_ovs | dpdk_llvm_clang_compile | dpdk_msvc_compile | dpdk_mingw64_compile | +===================================+====================+===================+==================+=========================+===================+======================+ | CentOS Stream 9 | PASS | PASS | SKIPPED | SKIPPED | SKIPPED | SKIPPED | +-----------------------------------+--------------------+-------------------+------------------+-------------------------+-------------------+----------------------+ | CentOS Stream 10 | PASS | SKIPPED | SKIPPED | SKIPPED | SKIPPED | SKIPPED | +-----------------------------------+--------------------+-------------------+------------------+-------------------------+-------------------+----------------------+ | Debian 12 | PASS | PASS | SKIPPED | SKIPPED | SKIPPED | SKIPPED | +-----------------------------------+--------------------+-------------------+------------------+-------------------------+-------------------+----------------------+ | Fedora 40 (Clang) | PASS | PASS | SKIPPED | SKIPPED | SKIPPED | SKIPPED | +-----------------------------------+--------------------+-------------------+------------------+-------------------------+-------------------+----------------------+ | Fedora 41 (Clang) | PASS | PASS | PASS | SKIPPED | SKIPPED | SKIPPED | +-----------------------------------+--------------------+-------------------+------------------+-------------------------+-------------------+----------------------+ | Fedora 41 | PASS | PASS | PASS | SKIPPED | SKIPPED | SKIPPED | +-----------------------------------+--------------------+-------------------+------------------+-------------------------+-------------------+----------------------+ | RHEL9 | PASS | SKIPPED | SKIPPED | SKIPPED | SKIPPED | SKIPPED | +-----------------------------------+--------------------+-------------------+------------------+-------------------------+-------------------+----------------------+ | RHEL8 | PASS | SKIPPED | SKIPPED | SKIPPED | SKIPPED | SKIPPED | +-----------------------------------+--------------------+-------------------+------------------+-------------------------+-------------------+----------------------+ | Ubuntu 24.04 | PASS | PASS | PASS | SKIPPED | SKIPPED | SKIPPED | +-----------------------------------+--------------------+-------------------+------------------+-------------------------+-------------------+----------------------+ | Alpine | PASS | SKIPPED | SKIPPED | SKIPPED | SKIPPED | SKIPPED | +-----------------------------------+--------------------+-------------------+------------------+-------------------------+-------------------+----------------------+ | Ubuntu 24.04 32 Bit Cross Compile | PASS | SKIPPED | SKIPPED | SKIPPED | SKIPPED | SKIPPED | +-----------------------------------+--------------------+-------------------+------------------+-------------------------+-------------------+----------------------+ | FreeBSD 13.4 | PASS | SKIPPED | SKIPPED | SKIPPED | SKIPPED | SKIPPED | +-----------------------------------+--------------------+-------------------+------------------+-------------------------+-------------------+----------------------+ | Fedora 40 | PASS | PASS | SKIPPED | SKIPPED | SKIPPED | SKIPPED | +-----------------------------------+--------------------+-------------------+------------------+-------------------------+-------------------+----------------------+ | FreeBSD 14.2 | PASS | SKIPPED | SKIPPED | SKIPPED | SKIPPED | SKIPPED | +-----------------------------------+--------------------+-------------------+------------------+-------------------------+-------------------+----------------------+ | Ubuntu 22.04 | PASS | PASS | SKIPPED | SKIPPED | SKIPPED | SKIPPED | +-----------------------------------+--------------------+-------------------+------------------+-------------------------+-------------------+----------------------+ | openSUSE Leap 15 | PASS | SKIPPED | SKIPPED | SKIPPED | SKIPPED | SKIPPED | +-----------------------------------+--------------------+-------------------+------------------+-------------------------+-------------------+----------------------+ | Ubuntu 20.04 | PASS | SKIPPED | SKIPPED | SKIPPED | SKIPPED | SKIPPED | +-----------------------------------+--------------------+-------------------+------------------+-------------------------+-------------------+----------------------+ | Windows Server 2022 | SKIPPED | SKIPPED | SKIPPED | PASS | PASS | PASS | +-----------------------------------+--------------------+-------------------+------------------+-------------------------+-------------------+----------------------+ CentOS Stream 9 Kernel: Depends on container host Compiler: gcc 11.5.0 20240719 (Red Hat 11.5.0-2) CentOS Stream 10 Kernel: Depends on container host Compiler: gcc 14.2.1 20241104 (Red Hat 14.2.1-6) Debian 12 Kernel: Depends on container host Compiler: gcc (Debian 12.2.0-14) 12.2.0 Fedora 40 (Clang) Kernel: Depends on container host Compiler: clang 18.1.8 (Fedora 18.1.8-1.fc40) Fedora 41 (Clang) Kernel: Depends on container host Compiler: clang 19.1.5 (Fedora 19.1.5-1.fc41) Fedora 41 Kernel: Depends on container host Compiler: gcc 14.2.1 20240912 (Red Hat 14.2.1-3) RHEL9 Kernel: Depends on container host Compiler: gcc 11.5.0 20240719 (Red Hat 11.5.0-2) RHEL8 Kernel: Depends on container host Compiler: gcc 8.5.0 20210514 (Red Hat 8.5.0-22) Ubuntu 24.04 Kernel: Depends on container host Compiler: gcc (Ubuntu 13.3.0-6ubuntu2~24.04) 13.3.0 Alpine Kernel: Depends on container host Compiler: gcc (Alpine 14.2.0) 14.2.0 Ubuntu 24.04 32 Bit Cross Compile Kernel: Depends on container host Compiler: gcc (Ubuntu 13.3.0-6ubuntu2~24.04) 13.3.0 FreeBSD 13.4 Kernel: 13.4-RELEASE-p1 Compiler: clang 18.1.6 Fedora 40 Kernel: Depends on container host Compiler: gcc 14.2.1 20240912 (Red Hat 14.2.1-3) FreeBSD 14.2 Kernel: 14.2-RELEASE Compiler: clang 18.1.6 Ubuntu 22.04 Kernel: Depends on container host Compiler: gcc (Ubuntu 11.4.0-1ubuntu1~22.04) 11.4.0 openSUSE Leap 15 Kernel: Depends on container host Compiler: gcc (SUSE Linux) 7.5.0 Ubuntu 20.04 Kernel: Depends on container host Compiler: gcc (Ubuntu 9.4.0-1ubuntu1~20.04.2) 9.4.0 Windows Server 2022 Kernel: 10.0.20348.2031 Compiler: clang 15.0.7, gcc 14.1.0 (MinGW), and MSVC VS 19.39.33521 To view detailed results, visit: https://lab.dpdk.org/results/dashboard/patchsets/32782/ UNH-IOL DPDK Community Lab To manage your email subscriptions, visit: https://lab.dpdk.org/results/dashboard/preferences/subscriptions/