From mboxrd@z Thu Jan  1 00:00:00 1970
Return-Path: <test-report-bounces@dpdk.org>
Received: from mails.dpdk.org (mails.dpdk.org [217.70.189.124])
	by inbox.dpdk.org (Postfix) with ESMTP id B7A534637F
	for <public@inbox.dpdk.org>; Sun,  9 Mar 2025 09:22:37 +0100 (CET)
Received: from mails.dpdk.org (localhost [127.0.0.1])
	by mails.dpdk.org (Postfix) with ESMTP id 900DF402A0;
	Sun,  9 Mar 2025 09:22:37 +0100 (CET)
Received: from mail-pl1-f225.google.com (mail-pl1-f225.google.com
 [209.85.214.225])
 by mails.dpdk.org (Postfix) with ESMTP id 8CA2340151
 for <test-report@dpdk.org>; Sun,  9 Mar 2025 09:22:36 +0100 (CET)
Received: by mail-pl1-f225.google.com with SMTP id
 d9443c01a7336-22349bb8605so58846535ad.0
 for <test-report@dpdk.org>; Sun, 09 Mar 2025 00:22:36 -0800 (PST)
DKIM-Signature: v=1; a=rsa-sha256; c=relaxed/relaxed;
 d=iol.unh.edu; s=unh-iol; t=1741508555; x=1742113355; darn=dpdk.org;
 h=cc:to:from:subject:message-id:date:from:to:cc:subject:date
 :message-id:reply-to;
 bh=67ZAWU7nblovX8o9kuNDlhOSsVfJQowXkWxVWPeCWvc=;
 b=hmxrooDFw78tJIU4FfH6wgZmSOlUHGgnI5RPZiF/JjNE6Kt5G69zCQG0x15LIAsjOb
 iqN/PvFn9DywgTX6tFc72/zthrW/fWGiaTx4YRSflQ8bhbVO/qwa3Rtbf0bujnOg1ryy
 cQ2yGokcPKX9QrXadyiw/xBKWNXpo+OX8QigM=
X-Google-DKIM-Signature: v=1; a=rsa-sha256; c=relaxed/relaxed;
 d=1e100.net; s=20230601; t=1741508555; x=1742113355;
 h=cc:to:from:subject:message-id:date:x-gm-message-state:from:to:cc
 :subject:date:message-id:reply-to;
 bh=67ZAWU7nblovX8o9kuNDlhOSsVfJQowXkWxVWPeCWvc=;
 b=lCS7DPXmv5QmnItQ8myWs+6hV2VZLVBhDk09FUjqbt9kHQZAW8QXoVSVyny0YW65ez
 Ck4VAspn028r0QOd4unRZ5MGfhERqpdyrBes/VCVwZJ37SDm4jRUt3nugVWfzxHf3tMo
 c7O+Wl4KcKdIJsWR0uHUGAgJMgdbiIAnT6lp/4VF9lBrNOqKguv8+vE3kLNW22Q3WvUq
 2cQrb7UFlAUvKXKcXihmXVWupEVELghFh6cb8Pp/5AVeoWiPFpyA7ASDDckyXyBLTdsv
 E6Sumti6bGGF19hi1PueWtNJpSIvHo74IPqtaPKlIi2pNWMQ4p/9WjhyKrLCfWlgrmXm
 a/Ew==
X-Gm-Message-State: AOJu0YwWODr1IHgNhvfp/upUw9E42TOee9NF+Z/rrek0BtZebR3yafcC
 PKoinfQY1093J8V0+GqbYOA1DGg0W48HjzdjvK6io0lu/nhmHaXFfAj1hT8ZybZ3Nav/7/XOPoJ
 sxieaE56/V1Ju0mCKdAA2CJ2msPhDfnHY
X-Gm-Gg: ASbGncvL07Ijmg1Y9VcpQMS+I6hJJDqfygp+kcziJMvKBa3xW7cEbPif+a55Osx42oj
 V2ExlOTAXWh15P/UAY6VV2AsXTPtlhcmNX+ysywyefmid/x+JVVimd249zuc9IhpexMG9ddbVNC
 LqcRvpEvPcDUKR+i5WtkoLPR0x8f0heHhVA9BNevOXZnkWNY4iHabp4kI48RdqZXUf2AGya7EEH
 KmxiyVOLk0JoK8bL2X27KYUKQHv5mrwZMTrGOrz5i1MiJcSAsa42A2ND8KMxkq3AOC5gCK9XLDD
 cJ8eBPU/yHM3YsPQdegXsd0sRTcYIvlN44x2cSBk
X-Google-Smtp-Source: AGHT+IGjVTD9881a6R9ISMCOhvlndA6RVVJcXW22lBqBmw/j9X+++bkA8kU93hcp2+pW7tAWD69uuq141C+U
X-Received: by 2002:a17:902:da90:b0:224:3db:a296 with SMTP id
 d9443c01a7336-22428881fefmr166361615ad.2.1741508555372; 
 Sun, 09 Mar 2025 00:22:35 -0800 (PST)
Received: from postal.iol.unh.edu (postal.iol.unh.edu. [132.177.123.84])
 by smtp-relay.gmail.com with ESMTPS id
 d9443c01a7336-224109d422esm3340655ad.7.2025.03.09.00.22.35
 (version=TLS1_2 cipher=ECDHE-ECDSA-AES128-GCM-SHA256 bits=128/128);
 Sun, 09 Mar 2025 00:22:35 -0800 (PST)
X-Relaying-Domain: iol.unh.edu
Date: Sun, 09 Mar 2025 00:22:35 -0800 (PST)
Message-ID: <67cd4fcb.170a0220.159014.188fSMTPIN_ADDED_MISSING@mx.google.com>
Received: from [172.21.0.6] (unknown [172.18.0.240])
 by postal.iol.unh.edu (Postfix) with ESMTP id 4A7906052471;
 Sun,  9 Mar 2025 04:22:31 -0400 (EDT)
Subject: |SUCCESS| [GIT MASTER] c66daa12e76d7b4912cfb7109a761856a7a873ab
From: dpdklab@iol.unh.edu
To: Test Report <test-report@dpdk.org>
Cc: dpdk-test-reports@iol.unh.edu, Xueming Li <xuemingl@nvidia.com>,
 Christian Ehrhardt <christian.ehrhardt@canonical.com>,
 Kevin Traynor <ktraynor@redhat.com>, Luca Boccassi <bluca@debian.org>
Content-Type: text/plain
X-BeenThere: test-report@dpdk.org
X-Mailman-Version: 2.1.29
Precedence: list
List-Id: automatic DPDK test reports <test-report.dpdk.org>
List-Unsubscribe: <https://mails.dpdk.org/options/test-report>,
 <mailto:test-report-request@dpdk.org?subject=unsubscribe>
List-Archive: <http://mails.dpdk.org/archives/test-report/>
List-Post: <mailto:test-report@dpdk.org>
List-Help: <mailto:test-report-request@dpdk.org?subject=help>
List-Subscribe: <https://mails.dpdk.org/listinfo/test-report>,
 <mailto:test-report-request@dpdk.org?subject=subscribe>
Errors-To: test-report-bounces@dpdk.org

_Testing PASS_

Branch: tags/v23.11

c66daa12e76d7b4912cfb7109a761856a7a873ab --> testing pass

Upstream job id: Generic-DPDK-Compile-Meson#370256

Test environment and result as below:

+---------------------+--------------------+-------------------+-------------------+------------------+-------------------------+----------------------+
|     Environment     | dpdk_meson_compile | dpdk_compile_spdk | dpdk_msvc_compile | dpdk_compile_ovs | dpdk_llvm_clang_compile | dpdk_mingw64_compile |
+=====================+====================+===================+===================+==================+=========================+======================+
| CentOS Stream 10    | PASS               | SKIPPED           | SKIPPED           | SKIPPED          | SKIPPED                 | SKIPPED              |
+---------------------+--------------------+-------------------+-------------------+------------------+-------------------------+----------------------+
| Fedora 40           | PASS               | PASS              | SKIPPED           | SKIPPED          | SKIPPED                 | SKIPPED              |
+---------------------+--------------------+-------------------+-------------------+------------------+-------------------------+----------------------+
| Ubuntu 20.04        | PASS               | SKIPPED           | SKIPPED           | SKIPPED          | SKIPPED                 | SKIPPED              |
+---------------------+--------------------+-------------------+-------------------+------------------+-------------------------+----------------------+
| RHEL8               | PASS               | SKIPPED           | SKIPPED           | SKIPPED          | SKIPPED                 | SKIPPED              |
+---------------------+--------------------+-------------------+-------------------+------------------+-------------------------+----------------------+
| Alpine              | PASS               | SKIPPED           | SKIPPED           | SKIPPED          | SKIPPED                 | SKIPPED              |
+---------------------+--------------------+-------------------+-------------------+------------------+-------------------------+----------------------+
| FreeBSD 13.4        | PASS               | SKIPPED           | SKIPPED           | SKIPPED          | SKIPPED                 | SKIPPED              |
+---------------------+--------------------+-------------------+-------------------+------------------+-------------------------+----------------------+
| CentOS Stream 9     | PASS               | PASS              | SKIPPED           | SKIPPED          | SKIPPED                 | SKIPPED              |
+---------------------+--------------------+-------------------+-------------------+------------------+-------------------------+----------------------+
| Debian 12           | PASS               | PASS              | SKIPPED           | SKIPPED          | SKIPPED                 | SKIPPED              |
+---------------------+--------------------+-------------------+-------------------+------------------+-------------------------+----------------------+
| Fedora 40 (Clang)   | PASS               | PASS              | SKIPPED           | SKIPPED          | SKIPPED                 | SKIPPED              |
+---------------------+--------------------+-------------------+-------------------+------------------+-------------------------+----------------------+
| FreeBSD 14.2        | PASS               | SKIPPED           | SKIPPED           | SKIPPED          | SKIPPED                 | SKIPPED              |
+---------------------+--------------------+-------------------+-------------------+------------------+-------------------------+----------------------+
| Ubuntu 22.04        | PASS               | PASS              | SKIPPED           | SKIPPED          | SKIPPED                 | SKIPPED              |
+---------------------+--------------------+-------------------+-------------------+------------------+-------------------------+----------------------+
| Fedora 41           | PASS               | PASS              | SKIPPED           | PASS             | SKIPPED                 | SKIPPED              |
+---------------------+--------------------+-------------------+-------------------+------------------+-------------------------+----------------------+
| openSUSE Leap 15    | PASS               | SKIPPED           | SKIPPED           | SKIPPED          | SKIPPED                 | SKIPPED              |
+---------------------+--------------------+-------------------+-------------------+------------------+-------------------------+----------------------+
| Fedora 41 (Clang)   | PASS               | PASS              | SKIPPED           | PASS             | SKIPPED                 | SKIPPED              |
+---------------------+--------------------+-------------------+-------------------+------------------+-------------------------+----------------------+
| Ubuntu 24.04        | PASS               | PASS              | SKIPPED           | PASS             | SKIPPED                 | SKIPPED              |
+---------------------+--------------------+-------------------+-------------------+------------------+-------------------------+----------------------+
| RHEL9               | PASS               | SKIPPED           | SKIPPED           | SKIPPED          | SKIPPED                 | SKIPPED              |
+---------------------+--------------------+-------------------+-------------------+------------------+-------------------------+----------------------+
| Windows Server 2022 | SKIPPED            | SKIPPED           | PASS              | SKIPPED          | PASS                    | PASS                 |
+---------------------+--------------------+-------------------+-------------------+------------------+-------------------------+----------------------+


CentOS Stream 10
	Kernel: Depends on container host
	Compiler: gcc 14.2.1 20241104 (Red Hat 14.2.1-6)

Fedora 40
	Kernel: Depends on container host
	Compiler: gcc 14.2.1 20240912 (Red Hat 14.2.1-3)

Ubuntu 20.04
	Kernel: Depends on container host
	Compiler: gcc (Ubuntu 9.4.0-1ubuntu1~20.04.2) 9.4.0

RHEL8
	Kernel: Depends on container host
	Compiler: gcc 8.5.0 20210514 (Red Hat 8.5.0-22)

Alpine
	Kernel: Depends on container host
	Compiler: gcc (Alpine 14.2.0) 14.2.0

FreeBSD 13.4
	Kernel: 13.4-RELEASE-p1
	Compiler: clang 18.1.6

CentOS Stream 9
	Kernel: Depends on container host
	Compiler: gcc 11.5.0 20240719 (Red Hat 11.5.0-2)

Debian 12
	Kernel: Depends on container host
	Compiler: gcc (Debian 12.2.0-14) 12.2.0

Fedora 40 (Clang)
	Kernel: Depends on container host
	Compiler: clang 18.1.8 (Fedora 18.1.8-1.fc40)

FreeBSD 14.2
	Kernel: 14.2-RELEASE
	Compiler: clang 18.1.6

Ubuntu 22.04
	Kernel: Depends on container host
	Compiler: gcc (Ubuntu 11.4.0-1ubuntu1~22.04) 11.4.0

Fedora 41
	Kernel: Depends on container host
	Compiler: gcc 14.2.1 20240912 (Red Hat 14.2.1-3)

openSUSE Leap 15
	Kernel: Depends on container host
	Compiler: gcc (SUSE Linux) 7.5.0

Fedora 41 (Clang)
	Kernel: Depends on container host
	Compiler: clang 19.1.5 (Fedora 19.1.5-1.fc41)

Ubuntu 24.04
	Kernel: Depends on container host
	Compiler: gcc (Ubuntu 13.3.0-6ubuntu2~24.04) 13.3.0

RHEL9
	Kernel: Depends on container host
	Compiler: gcc 11.5.0 20240719 (Red Hat 11.5.0-2)

Windows Server 2022
	Kernel: 10.0.20348.2031
	Compiler: clang 15.0.7, gcc 14.1.0 (MinGW), and MSVC VS 19.39.33521

To view detailed results, visit:
https://lab.dpdk.org/results/dashboard/tarballs/32894/

UNH-IOL DPDK Community Lab

To manage your email subscriptions, visit: 
https://lab.dpdk.org/results/dashboard/preferences/subscriptions/