From mboxrd@z Thu Jan  1 00:00:00 1970
Return-Path: <test-report-bounces@dpdk.org>
Received: from mails.dpdk.org (mails.dpdk.org [217.70.189.124])
	by inbox.dpdk.org (Postfix) with ESMTP id C6E3B463AB
	for <public@inbox.dpdk.org>; Tue, 11 Mar 2025 00:11:09 +0100 (CET)
Received: from mails.dpdk.org (localhost [127.0.0.1])
	by mails.dpdk.org (Postfix) with ESMTP id B76BF40261;
	Tue, 11 Mar 2025 00:11:09 +0100 (CET)
Received: from mail-pl1-f228.google.com (mail-pl1-f228.google.com
 [209.85.214.228])
 by mails.dpdk.org (Postfix) with ESMTP id 5E79D400D7
 for <test-report@dpdk.org>; Tue, 11 Mar 2025 00:11:08 +0100 (CET)
Received: by mail-pl1-f228.google.com with SMTP id
 d9443c01a7336-224341bbc1dso57811885ad.3
 for <test-report@dpdk.org>; Mon, 10 Mar 2025 16:11:08 -0700 (PDT)
DKIM-Signature: v=1; a=rsa-sha256; c=relaxed/relaxed;
 d=iol.unh.edu; s=unh-iol; t=1741648267; x=1742253067; darn=dpdk.org;
 h=references:in-reply-to:cc:to:from:subject:message-id:date:from:to
 :cc:subject:date:message-id:reply-to;
 bh=Phhmp7mfBpQJXPT0tr2i6f45T17NJnDWC20YkCT39Qo=;
 b=UO5x0tcgg6d+6OJdg/waN3FPf6p5z9rogP38CNt/dRjJZTHiOGcfzkkBuDN68l0QvS
 wfZ/lhgx4fQ7D7G7sa3K70xrQgg/xF2adSMCnDHQLPiDV8ClOq0xefzndqYWQTZ2sSSe
 m7CEy3ShzOrS7hWkH6V3CO+Qntgxs4IzjhxUQ=
X-Google-DKIM-Signature: v=1; a=rsa-sha256; c=relaxed/relaxed;
 d=1e100.net; s=20230601; t=1741648267; x=1742253067;
 h=references:in-reply-to:cc:to:from:subject:message-id:date
 :x-gm-message-state:from:to:cc:subject:date:message-id:reply-to;
 bh=Phhmp7mfBpQJXPT0tr2i6f45T17NJnDWC20YkCT39Qo=;
 b=uUGvTVeT508CmAP9mfbEPxmOpSKdWTlunKHm/g2t5pLThLQI5/Dn/VFMf9gEdcSuDX
 hAEmeR5NICGiU+9c3Xj9MlAkICj6UpXPvLk/pm/xofH7OSSGRp02CnNqDjKzY0XAfbmZ
 L+u1FI0orPHvNuL8VUwONhH02rXEgiydOu/zAcPnH+vHH4H2nbH9tBko4mGQ8RMVnjUC
 JVz3dMOvESsUDo+hLe3dFosiLwXVBbWlqVlQSC3vTxQa/lmIO9OdhL6drpT2SXNDkpkh
 DbyiMLDrkdQdnEw9uH6oKLov30FbXHb230U1EcMfschJYCzsIj3KWlDgQU7iEyzuH8wY
 k6Mg==
X-Gm-Message-State: AOJu0YzVI0Vi5CEQBR0zlxIBWcHEIGuKDWhLF8LQEs1KeEO96GYCRpBk
 i8URj37Jhnt/RL8TkzrmJ+0iyAIH8N7dRJo/c2udtD4cE9mTwvXfKf91INyYtQ1+BkygefkeyYV
 tgYtelomsnFVAZOu1iQ3YH/7A0DiqOaUls1RLuWnD
X-Gm-Gg: ASbGncukCxhAQm2STMMNKzzRy4MWscfYXgWstE5JD+4KsgahDq5aVibV6TNOJ/tX492
 s4371pg9gkVgnlMELp2yuXFdsuDE20Z4OfbudtEuRRxhzeOIg9X3fy5cZw3aYYdy2tX5+5n7LaJ
 JmlqifgInFECtXLkKqf0Rl04TFtVM5UlfTqdPG9uQLl2wlOapAp7tts4BjtNxJoRs6/dXvrDUoS
 jdSgkQlahUROLPyNS5QVMYAdoE+gIBu/J4kw0sQ1xSphzda0eskrCoR26UJgwrFU0mvpdsrGzmk
 IbrIlJIkI4Qv/EwH+iVRl6vdM/7eB7aRJ4YlBetV
X-Google-Smtp-Source: AGHT+IEKHRFugUciZM8+AOHDB8JYrmSbWkfpk3Nsx2fyguW6tcWwwdiadDYb6/z2GV5P0W+1u/Mskh/EW3UZ
X-Received: by 2002:a05:6a00:4b14:b0:736:34ff:be7 with SMTP id
 d2e1a72fcca58-736eb87c863mr1924996b3a.15.1741648267390; 
 Mon, 10 Mar 2025 16:11:07 -0700 (PDT)
Received: from postal.iol.unh.edu (postal.iol.unh.edu. [132.177.123.84])
 by smtp-relay.gmail.com with ESMTPS id
 d2e1a72fcca58-73698501fe4sm573923b3a.17.2025.03.10.16.11.07
 (version=TLS1_2 cipher=ECDHE-ECDSA-AES128-GCM-SHA256 bits=128/128);
 Mon, 10 Mar 2025 16:11:07 -0700 (PDT)
X-Relaying-Domain: iol.unh.edu
Date: Mon, 10 Mar 2025 16:11:07 -0700 (PDT)
Message-ID: <67cf718b.a70a0220.2ed5ae.d83dSMTPIN_ADDED_MISSING@mx.google.com>
Received: from [172.17.0.3] (unknown [172.18.0.217])
 by postal.iol.unh.edu (Postfix) with ESMTP id DD97C6052471;
 Mon, 10 Mar 2025 19:11:03 -0400 (EDT)
Subject: |SUCCESS| pw152302-152303 [PATCH] [2/2] net/bnxt: fix epoch bit calc
From: dpdklab@iol.unh.edu
To: Test Report <test-report@dpdk.org>
Cc: dpdk-test-reports@iol.unh.edu
In-Reply-To: <20250310210132.48829-3-ajit.khaparde@broadcom.com>
References: <20250310210132.48829-3-ajit.khaparde@broadcom.com>
Content-Type: text/plain
X-BeenThere: test-report@dpdk.org
X-Mailman-Version: 2.1.29
Precedence: list
List-Id: automatic DPDK test reports <test-report.dpdk.org>
List-Unsubscribe: <https://mails.dpdk.org/options/test-report>,
 <mailto:test-report-request@dpdk.org?subject=unsubscribe>
List-Archive: <http://mails.dpdk.org/archives/test-report/>
List-Post: <mailto:test-report@dpdk.org>
List-Help: <mailto:test-report-request@dpdk.org?subject=help>
List-Subscribe: <https://mails.dpdk.org/listinfo/test-report>,
 <mailto:test-report-request@dpdk.org?subject=subscribe>
Errors-To: test-report-bounces@dpdk.org

Test-Label: iol-compile-amd64-testing
Test-Status: SUCCESS
http://dpdk.org/patch/152303

_Testing PASS_

Submitter: Ajit Khaparde <ajit.khaparde@broadcom.com>
Date: Monday, March 10 2025 21:01:32 
DPDK git baseline: Repo:dpdk
  Branch: master
  CommitID:f38af913dccd737bfd832f743b25280b384f2520

152302-152303 --> testing pass

Upstream job id: Generic-DPDK-Compile-Meson#370618

Test environment and result as below:

+-----------------------------------+--------------------+-------------------+------------------+-------------------+-------------------------+----------------------+
|            Environment            | dpdk_meson_compile | dpdk_compile_spdk | dpdk_compile_ovs | dpdk_msvc_compile | dpdk_llvm_clang_compile | dpdk_mingw64_compile |
+===================================+====================+===================+==================+===================+=========================+======================+
| Debian 12                         | PASS               | PASS              | SKIPPED          | SKIPPED           | SKIPPED                 | SKIPPED              |
+-----------------------------------+--------------------+-------------------+------------------+-------------------+-------------------------+----------------------+
| CentOS Stream 10                  | PASS               | SKIPPED           | SKIPPED          | SKIPPED           | SKIPPED                 | SKIPPED              |
+-----------------------------------+--------------------+-------------------+------------------+-------------------+-------------------------+----------------------+
| RHEL8                             | PASS               | SKIPPED           | SKIPPED          | SKIPPED           | SKIPPED                 | SKIPPED              |
+-----------------------------------+--------------------+-------------------+------------------+-------------------+-------------------------+----------------------+
| Fedora 41                         | PASS               | PASS              | PASS             | SKIPPED           | SKIPPED                 | SKIPPED              |
+-----------------------------------+--------------------+-------------------+------------------+-------------------+-------------------------+----------------------+
| openSUSE Leap 15                  | PASS               | SKIPPED           | SKIPPED          | SKIPPED           | SKIPPED                 | SKIPPED              |
+-----------------------------------+--------------------+-------------------+------------------+-------------------+-------------------------+----------------------+
| Ubuntu 22.04                      | PASS               | PASS              | SKIPPED          | SKIPPED           | SKIPPED                 | SKIPPED              |
+-----------------------------------+--------------------+-------------------+------------------+-------------------+-------------------------+----------------------+
| Ubuntu 24.04                      | PASS               | PASS              | PASS             | SKIPPED           | SKIPPED                 | SKIPPED              |
+-----------------------------------+--------------------+-------------------+------------------+-------------------+-------------------------+----------------------+
| Alpine                            | PASS               | SKIPPED           | SKIPPED          | SKIPPED           | SKIPPED                 | SKIPPED              |
+-----------------------------------+--------------------+-------------------+------------------+-------------------+-------------------------+----------------------+
| Ubuntu 24.04 32 Bit Cross Compile | PASS               | SKIPPED           | SKIPPED          | SKIPPED           | SKIPPED                 | SKIPPED              |
+-----------------------------------+--------------------+-------------------+------------------+-------------------+-------------------------+----------------------+
| FreeBSD 13.4                      | PASS               | SKIPPED           | SKIPPED          | SKIPPED           | SKIPPED                 | SKIPPED              |
+-----------------------------------+--------------------+-------------------+------------------+-------------------+-------------------------+----------------------+
| FreeBSD 14.2                      | PASS               | SKIPPED           | SKIPPED          | SKIPPED           | SKIPPED                 | SKIPPED              |
+-----------------------------------+--------------------+-------------------+------------------+-------------------+-------------------------+----------------------+
| Ubuntu 20.04                      | PASS               | SKIPPED           | SKIPPED          | SKIPPED           | SKIPPED                 | SKIPPED              |
+-----------------------------------+--------------------+-------------------+------------------+-------------------+-------------------------+----------------------+
| Fedora 40 (Clang)                 | PASS               | PASS              | SKIPPED          | SKIPPED           | SKIPPED                 | SKIPPED              |
+-----------------------------------+--------------------+-------------------+------------------+-------------------+-------------------------+----------------------+
| RHEL9                             | PASS               | SKIPPED           | SKIPPED          | SKIPPED           | SKIPPED                 | SKIPPED              |
+-----------------------------------+--------------------+-------------------+------------------+-------------------+-------------------------+----------------------+
| CentOS Stream 9                   | PASS               | PASS              | SKIPPED          | SKIPPED           | SKIPPED                 | SKIPPED              |
+-----------------------------------+--------------------+-------------------+------------------+-------------------+-------------------------+----------------------+
| Fedora 40                         | PASS               | PASS              | SKIPPED          | SKIPPED           | SKIPPED                 | SKIPPED              |
+-----------------------------------+--------------------+-------------------+------------------+-------------------+-------------------------+----------------------+
| Fedora 41 (Clang)                 | PASS               | PASS              | PASS             | SKIPPED           | SKIPPED                 | SKIPPED              |
+-----------------------------------+--------------------+-------------------+------------------+-------------------+-------------------------+----------------------+
| Windows Server 2022               | SKIPPED            | SKIPPED           | SKIPPED          | PASS              | PASS                    | PASS                 |
+-----------------------------------+--------------------+-------------------+------------------+-------------------+-------------------------+----------------------+


Debian 12
	Kernel: Depends on container host
	Compiler: gcc (Debian 12.2.0-14) 12.2.0

CentOS Stream 10
	Kernel: Depends on container host
	Compiler: gcc 14.2.1 20241104 (Red Hat 14.2.1-6)

RHEL8
	Kernel: Depends on container host
	Compiler: gcc 8.5.0 20210514 (Red Hat 8.5.0-22)

Fedora 41
	Kernel: Depends on container host
	Compiler: gcc 14.2.1 20240912 (Red Hat 14.2.1-3)

openSUSE Leap 15
	Kernel: Depends on container host
	Compiler: gcc (SUSE Linux) 7.5.0

Ubuntu 22.04
	Kernel: Depends on container host
	Compiler: gcc (Ubuntu 11.4.0-1ubuntu1~22.04) 11.4.0

Ubuntu 24.04
	Kernel: Depends on container host
	Compiler: gcc (Ubuntu 13.3.0-6ubuntu2~24.04) 13.3.0

Alpine
	Kernel: Depends on container host
	Compiler: gcc (Alpine 14.2.0) 14.2.0

Ubuntu 24.04 32 Bit Cross Compile
	Kernel: Depends on container host
	Compiler: gcc (Ubuntu 13.3.0-6ubuntu2~24.04) 13.3.0

FreeBSD 13.4
	Kernel: 13.4-RELEASE-p1
	Compiler: clang 18.1.6

FreeBSD 14.2
	Kernel: 14.2-RELEASE
	Compiler: clang 18.1.6

Ubuntu 20.04
	Kernel: Depends on container host
	Compiler: gcc (Ubuntu 9.4.0-1ubuntu1~20.04.2) 9.4.0

Fedora 40 (Clang)
	Kernel: Depends on container host
	Compiler: clang 18.1.8 (Fedora 18.1.8-1.fc40)

RHEL9
	Kernel: Depends on container host
	Compiler: gcc 11.5.0 20240719 (Red Hat 11.5.0-2)

CentOS Stream 9
	Kernel: Depends on container host
	Compiler: gcc 11.5.0 20240719 (Red Hat 11.5.0-2)

Fedora 40
	Kernel: Depends on container host
	Compiler: gcc 14.2.1 20240912 (Red Hat 14.2.1-3)

Fedora 41 (Clang)
	Kernel: Depends on container host
	Compiler: clang 19.1.5 (Fedora 19.1.5-1.fc41)

Windows Server 2022
	Kernel: 10.0.20348.2031
	Compiler: clang 15.0.7, gcc 14.1.0 (MinGW), and MSVC VS 19.39.33521

To view detailed results, visit:
https://lab.dpdk.org/results/dashboard/patchsets/32790/

UNH-IOL DPDK Community Lab

To manage your email subscriptions, visit: 
https://lab.dpdk.org/results/dashboard/preferences/subscriptions/