From mboxrd@z Thu Jan  1 00:00:00 1970
Return-Path: <test-report-bounces@dpdk.org>
Received: from mails.dpdk.org (mails.dpdk.org [217.70.189.124])
	by inbox.dpdk.org (Postfix) with ESMTP id 9C0F5463BC
	for <public@inbox.dpdk.org>; Tue, 11 Mar 2025 13:02:15 +0100 (CET)
Received: from mails.dpdk.org (localhost [127.0.0.1])
	by mails.dpdk.org (Postfix) with ESMTP id 9A6C24027F;
	Tue, 11 Mar 2025 13:02:15 +0100 (CET)
Received: from mail-pl1-f227.google.com (mail-pl1-f227.google.com
 [209.85.214.227])
 by mails.dpdk.org (Postfix) with ESMTP id 778A440263
 for <test-report@dpdk.org>; Tue, 11 Mar 2025 13:02:14 +0100 (CET)
Received: by mail-pl1-f227.google.com with SMTP id
 d9443c01a7336-219f8263ae0so100336465ad.0
 for <test-report@dpdk.org>; Tue, 11 Mar 2025 05:02:14 -0700 (PDT)
DKIM-Signature: v=1; a=rsa-sha256; c=relaxed/relaxed;
 d=iol.unh.edu; s=unh-iol; t=1741694533; x=1742299333; darn=dpdk.org;
 h=references:in-reply-to:cc:to:from:subject:message-id:date:from:to
 :cc:subject:date:message-id:reply-to;
 bh=y1kZJzqqeE1pKvumYsCe4BI+hMmTpu5xOoCxX3Csnu4=;
 b=Stu57UdNoSZpPabbVyF8EO5zoI+LN+817ydE7WqR6NbOg1sx5nQMFtulcoSZQgGdvr
 27grTH28EDKxDgVJDhnBayd56/EM9MpsQsARmLfNzh5tw/CUsVRt77+YXbS5t0MzKGVR
 RvFzhOtg7Kul2dtS5Fx2xcGkM1PmiRTiGZsH0=
X-Google-DKIM-Signature: v=1; a=rsa-sha256; c=relaxed/relaxed;
 d=1e100.net; s=20230601; t=1741694533; x=1742299333;
 h=references:in-reply-to:cc:to:from:subject:message-id:date
 :x-gm-message-state:from:to:cc:subject:date:message-id:reply-to;
 bh=y1kZJzqqeE1pKvumYsCe4BI+hMmTpu5xOoCxX3Csnu4=;
 b=kulgFvsX2/Ui41YaSmPhQtM7rxlCvb/O68PqmqS8yl/88vugb8jmOKkomnImqeQcMR
 Q16SnXTSruXADGPwLssGGdpuG5s8pr/iD3GAIYGgIh7GmriVogKladpNuJC/R/Rp9J1L
 3xOgfkBz3U9qX2yeRTplCLxHYKcRAvfzsn+TZoWe/lj1Dkwwu+oWJgvT6n9myCB6Bp/G
 kUsOTHcQWdhr7xwk8P+nOEW+Bi9qtP8FeTEHBEGtJ9BUihDbhU8usYGZzhuYLqO7S7Dd
 oGt++PJ1KwIaDbvlYh8zLCNqXOhyoNBQyyP5c7ZxusSoE08r1YV9QCSavBllQc6gruBw
 tuhw==
X-Gm-Message-State: AOJu0Yx5Fs8VGxDvzyeDsXH2xBbMNdPMgeKQ+0iro0V2efL9f51e6iGV
 MLz3Oh5Ni1QJmbm39UmVqhvzh3pEMTlMOs/IbFVh7wpd3W2fudCtwhK5+O8SpLf6SXo00Uji4IM
 eLGxA9vb/c2cSgz3/8FUqbnAfbiZoeY+d4Tv6ZudQ6gGp1iJbwfVyG6Bd
X-Gm-Gg: ASbGncu1Ydz6rm+4O8ymXP4IF+xuDHPhW/DLPKdwyFDHglDgArbi/jz4qM6INUbU0Dc
 8mWGTFHru5CHjziYw6S6ZHfH3hy0Hw4XzxUyRj7II2mwTxv8NhWwQViGvBJjmsqh/ufnfTCP9R+
 4zuJoO07Xhwse01obb2qNCrjL5oJvoZ5qRuhHWeBFzgSU/6j/B3pSnhy6ZCoWXx8Q2MJrp9aw+u
 WCinRlhWlDZDlxMT1kruNrwFLi4Xp2dnXB9uc/XFSPRvE9D5LMJX7vhEz4YXZBvvuW9MnoL6Rvg
 0Uxvr+PN6xbtqJSF2fd14IYQmogqFmlJVXH+H9GJ8+gl/g851QxD
X-Google-Smtp-Source: AGHT+IHTZvSRWUg5KXkw4HvUf3vXDmsmjs1rEcYPv8FAqXOBgZ4KnnOLElwMVf23gH3y1gkdTFaFKwy/iKn+
X-Received: by 2002:a17:902:e549:b0:224:249f:9723 with SMTP id
 d9443c01a7336-225931af3fdmr38296025ad.51.1741694531974; 
 Tue, 11 Mar 2025 05:02:11 -0700 (PDT)
Received: from postal.iol.unh.edu (postal.iol.unh.edu.
 [2606:4100:3880:1234::84]) by smtp-relay.gmail.com with ESMTPS id
 d9443c01a7336-224109fcefdsm5775025ad.52.2025.03.11.05.02.11
 (version=TLS1_2 cipher=ECDHE-ECDSA-AES128-GCM-SHA256 bits=128/128);
 Tue, 11 Mar 2025 05:02:11 -0700 (PDT)
X-Relaying-Domain: iol.unh.edu
Date: Tue, 11 Mar 2025 05:02:11 -0700 (PDT)
Message-ID: <67d02643.170a0220.38e431.d098SMTPIN_ADDED_MISSING@mx.google.com>
Received: from [172.17.0.3] (unknown [172.18.0.217])
 by postal.iol.unh.edu (Postfix) with ESMTP id 7128B6052471;
 Tue, 11 Mar 2025 08:02:11 -0400 (EDT)
Subject: |SUCCESS| pw152304-152309 [PATCH] [v2,6/6] bus/vmbus: set event for 
From: dpdklab@iol.unh.edu
To: Test Report <test-report@dpdk.org>
Cc: dpdk-test-reports@iol.unh.edu
In-Reply-To: <1741642977-14297-7-git-send-email-longli@linuxonhyperv.com>
References: <1741642977-14297-7-git-send-email-longli@linuxonhyperv.com>
Content-Type: text/plain
X-BeenThere: test-report@dpdk.org
X-Mailman-Version: 2.1.29
Precedence: list
List-Id: automatic DPDK test reports <test-report.dpdk.org>
List-Unsubscribe: <https://mails.dpdk.org/options/test-report>,
 <mailto:test-report-request@dpdk.org?subject=unsubscribe>
List-Archive: <http://mails.dpdk.org/archives/test-report/>
List-Post: <mailto:test-report@dpdk.org>
List-Help: <mailto:test-report-request@dpdk.org?subject=help>
List-Subscribe: <https://mails.dpdk.org/listinfo/test-report>,
 <mailto:test-report-request@dpdk.org?subject=subscribe>
Errors-To: test-report-bounces@dpdk.org

Test-Label: iol-compile-amd64-testing
Test-Status: SUCCESS
http://dpdk.org/patch/152309

_Testing PASS_

Submitter: Long Li <longli@linuxonhyperv.com>
Date: Monday, March 10 2025 21:42:57 
DPDK git baseline: Repo:dpdk
  Branch: master
  CommitID:d59e5e7d3e827f02131a88bafd9191efd6720a42

152304-152309 --> testing pass

Upstream job id: Generic-DPDK-Compile-Meson#370758

Test environment and result as below:

+-----------------------------------+--------------------+-------------------+------------------+-------------------------+-------------------+----------------------+
|            Environment            | dpdk_meson_compile | dpdk_compile_spdk | dpdk_compile_ovs | dpdk_llvm_clang_compile | dpdk_msvc_compile | dpdk_mingw64_compile |
+===================================+====================+===================+==================+=========================+===================+======================+
| CentOS Stream 9                   | PASS               | PASS              | SKIPPED          | SKIPPED                 | SKIPPED           | SKIPPED              |
+-----------------------------------+--------------------+-------------------+------------------+-------------------------+-------------------+----------------------+
| Debian 12                         | PASS               | PASS              | SKIPPED          | SKIPPED                 | SKIPPED           | SKIPPED              |
+-----------------------------------+--------------------+-------------------+------------------+-------------------------+-------------------+----------------------+
| Fedora 40 (Clang)                 | PASS               | PASS              | SKIPPED          | SKIPPED                 | SKIPPED           | SKIPPED              |
+-----------------------------------+--------------------+-------------------+------------------+-------------------------+-------------------+----------------------+
| CentOS Stream 10                  | PASS               | SKIPPED           | SKIPPED          | SKIPPED                 | SKIPPED           | SKIPPED              |
+-----------------------------------+--------------------+-------------------+------------------+-------------------------+-------------------+----------------------+
| openSUSE Leap 15                  | PASS               | SKIPPED           | SKIPPED          | SKIPPED                 | SKIPPED           | SKIPPED              |
+-----------------------------------+--------------------+-------------------+------------------+-------------------------+-------------------+----------------------+
| RHEL9                             | PASS               | SKIPPED           | SKIPPED          | SKIPPED                 | SKIPPED           | SKIPPED              |
+-----------------------------------+--------------------+-------------------+------------------+-------------------------+-------------------+----------------------+
| Fedora 41                         | PASS               | PASS              | PASS             | SKIPPED                 | SKIPPED           | SKIPPED              |
+-----------------------------------+--------------------+-------------------+------------------+-------------------------+-------------------+----------------------+
| Ubuntu 20.04                      | PASS               | SKIPPED           | SKIPPED          | SKIPPED                 | SKIPPED           | SKIPPED              |
+-----------------------------------+--------------------+-------------------+------------------+-------------------------+-------------------+----------------------+
| Fedora 40                         | PASS               | PASS              | SKIPPED          | SKIPPED                 | SKIPPED           | SKIPPED              |
+-----------------------------------+--------------------+-------------------+------------------+-------------------------+-------------------+----------------------+
| Fedora 41 (Clang)                 | PASS               | PASS              | PASS             | SKIPPED                 | SKIPPED           | SKIPPED              |
+-----------------------------------+--------------------+-------------------+------------------+-------------------------+-------------------+----------------------+
| RHEL8                             | PASS               | SKIPPED           | SKIPPED          | SKIPPED                 | SKIPPED           | SKIPPED              |
+-----------------------------------+--------------------+-------------------+------------------+-------------------------+-------------------+----------------------+
| Ubuntu 22.04                      | PASS               | PASS              | SKIPPED          | SKIPPED                 | SKIPPED           | SKIPPED              |
+-----------------------------------+--------------------+-------------------+------------------+-------------------------+-------------------+----------------------+
| Alpine                            | PASS               | SKIPPED           | SKIPPED          | SKIPPED                 | SKIPPED           | SKIPPED              |
+-----------------------------------+--------------------+-------------------+------------------+-------------------------+-------------------+----------------------+
| Ubuntu 24.04 32 Bit Cross Compile | PASS               | SKIPPED           | SKIPPED          | SKIPPED                 | SKIPPED           | SKIPPED              |
+-----------------------------------+--------------------+-------------------+------------------+-------------------------+-------------------+----------------------+
| FreeBSD 13.4                      | PASS               | SKIPPED           | SKIPPED          | SKIPPED                 | SKIPPED           | SKIPPED              |
+-----------------------------------+--------------------+-------------------+------------------+-------------------------+-------------------+----------------------+
| FreeBSD 14.2                      | PASS               | SKIPPED           | SKIPPED          | SKIPPED                 | SKIPPED           | SKIPPED              |
+-----------------------------------+--------------------+-------------------+------------------+-------------------------+-------------------+----------------------+
| Ubuntu 24.04                      | PASS               | PASS              | PASS             | SKIPPED                 | SKIPPED           | SKIPPED              |
+-----------------------------------+--------------------+-------------------+------------------+-------------------------+-------------------+----------------------+
| Windows Server 2022               | SKIPPED            | SKIPPED           | SKIPPED          | PASS                    | PASS              | PASS                 |
+-----------------------------------+--------------------+-------------------+------------------+-------------------------+-------------------+----------------------+


CentOS Stream 9
	Kernel: Depends on container host
	Compiler: gcc 11.5.0 20240719 (Red Hat 11.5.0-2)

Debian 12
	Kernel: Depends on container host
	Compiler: gcc (Debian 12.2.0-14) 12.2.0

Fedora 40 (Clang)
	Kernel: Depends on container host
	Compiler: clang 18.1.8 (Fedora 18.1.8-1.fc40)

CentOS Stream 10
	Kernel: Depends on container host
	Compiler: gcc 14.2.1 20241104 (Red Hat 14.2.1-6)

openSUSE Leap 15
	Kernel: Depends on container host
	Compiler: gcc (SUSE Linux) 7.5.0

RHEL9
	Kernel: Depends on container host
	Compiler: gcc 11.5.0 20240719 (Red Hat 11.5.0-2)

Fedora 41
	Kernel: Depends on container host
	Compiler: gcc 14.2.1 20240912 (Red Hat 14.2.1-3)

Ubuntu 20.04
	Kernel: Depends on container host
	Compiler: gcc (Ubuntu 9.4.0-1ubuntu1~20.04.2) 9.4.0

Fedora 40
	Kernel: Depends on container host
	Compiler: gcc 14.2.1 20240912 (Red Hat 14.2.1-3)

Fedora 41 (Clang)
	Kernel: Depends on container host
	Compiler: clang 19.1.5 (Fedora 19.1.5-1.fc41)

RHEL8
	Kernel: Depends on container host
	Compiler: gcc 8.5.0 20210514 (Red Hat 8.5.0-22)

Ubuntu 22.04
	Kernel: Depends on container host
	Compiler: gcc (Ubuntu 11.4.0-1ubuntu1~22.04) 11.4.0

Alpine
	Kernel: Depends on container host
	Compiler: gcc (Alpine 14.2.0) 14.2.0

Ubuntu 24.04 32 Bit Cross Compile
	Kernel: Depends on container host
	Compiler: gcc (Ubuntu 13.3.0-6ubuntu2~24.04) 13.3.0

FreeBSD 13.4
	Kernel: 13.4-RELEASE-p1
	Compiler: clang 18.1.6

FreeBSD 14.2
	Kernel: 14.2-RELEASE
	Compiler: clang 18.1.6

Ubuntu 24.04
	Kernel: Depends on container host
	Compiler: gcc (Ubuntu 13.3.0-6ubuntu2~24.04) 13.3.0

Windows Server 2022
	Kernel: 10.0.20348.2031
	Compiler: clang 15.0.7, gcc 14.1.0 (MinGW), and MSVC VS 19.39.33521

To view detailed results, visit:
https://lab.dpdk.org/results/dashboard/patchsets/32791/

UNH-IOL DPDK Community Lab

To manage your email subscriptions, visit: 
https://lab.dpdk.org/results/dashboard/preferences/subscriptions/