From mboxrd@z Thu Jan 1 00:00:00 1970 Return-Path: Received: from mails.dpdk.org (mails.dpdk.org [217.70.189.124]) by inbox.dpdk.org (Postfix) with ESMTP id 47AE8463C1 for ; Tue, 11 Mar 2025 14:09:56 +0100 (CET) Received: from mails.dpdk.org (localhost [127.0.0.1]) by mails.dpdk.org (Postfix) with ESMTP id 3EDF64027F; Tue, 11 Mar 2025 14:09:56 +0100 (CET) Received: from mail-pl1-f226.google.com (mail-pl1-f226.google.com [209.85.214.226]) by mails.dpdk.org (Postfix) with ESMTP id 7FABF40263 for ; Tue, 11 Mar 2025 14:09:54 +0100 (CET) Received: by mail-pl1-f226.google.com with SMTP id d9443c01a7336-2235189adaeso91725745ad.0 for ; Tue, 11 Mar 2025 06:09:54 -0700 (PDT) DKIM-Signature: v=1; a=rsa-sha256; c=relaxed/relaxed; d=iol.unh.edu; s=unh-iol; t=1741698594; x=1742303394; darn=dpdk.org; h=references:in-reply-to:cc:to:from:subject:message-id:date:from:to :cc:subject:date:message-id:reply-to; bh=Fvo6OY9JaIm6fbEkvVKPicyhuU8b+iy0ptRCPqvmLro=; b=VyqM58i2QxQKPHQy47MZKQzvu1TS18K5zV7oHLp5td91JCt30WC2ncOtYs+lUOJlhI FWlXoNDBLAvB8I3kT5kC+USrysxKsoCb8Ao9Ee31BYDavMYdnzU0so1oZE6hhdIX25Zm 2wUOLzrlWt4vL6o1NwtTSAyhk93w0cUB5mBx8= X-Google-DKIM-Signature: v=1; a=rsa-sha256; c=relaxed/relaxed; d=1e100.net; s=20230601; t=1741698594; x=1742303394; h=references:in-reply-to:cc:to:from:subject:message-id:date :x-gm-message-state:from:to:cc:subject:date:message-id:reply-to; bh=Fvo6OY9JaIm6fbEkvVKPicyhuU8b+iy0ptRCPqvmLro=; b=iD9TsszPk8OEV4Bxyc8N8JcwvG24EKcCdm/g/GezWp3+zA2ABQyF+98Qg3F/+0PLBZ QTfEfI2O81QLuq4oo7tAxM3M3QvHarJGliP1/1froV67WwZ8MWBcyEY84Jf6DkqevRJJ tCu71Xb0a70ghVbQLD3s64V7orvzni7JIqTxZZ6OTM43ycIxkpqkKPjKk/JtDVKNa3Zs il8X5B6X+PAD9qYiPKIH4so8MQSJe4FnDE8EOzRkdGV8nwkmDsmGYtvbguuj+h/3vfXo uidoU2fNZVQHDfP2STwgoL961f6+OmssrbqepKreDAI1QBB1NEspCQlpdJIaQN8OYEpa 9n+g== X-Gm-Message-State: AOJu0Yx0ka/GkofdAbMv//0svOAP+P7DcopAasK/pUeagp5YMtotaCDB k4L5a3HQMTY0tbUnX/x1CyAS7GbT6klGvuQhRsMn/9P2Dkuu9amysCFln3+UgVkKmGQmZnCT5Bh ooAMV6toHLlRL1DNkckDyIB2CqeGyyyWYhgBJUwdd0UoMYE3fTF6+KMoS X-Gm-Gg: ASbGncvdeaSXu0mgH0OE43MIOKA1kBRQd+fRNo8ubVrw79JwQwh1AlXT5kMBcKBrwJ8 kdSqNIfrSQVmrNaWh+AGcPZbxPxcRULD4GOig1cPuiXfzyDL7c4lX7zHpcbNJS67Pwb0HeyNuY+ DmyhMv+tVPnN15lcwz69T/jL+wuobSPCohqEaONksQj4ftsmq7rbcE+8W3bHhmFH7v/LkR5zzXo 8uDTr1NKE/83a5m5ECc1IsdMsrJonHfUemgtBja3ipqAHDXeEhfzo1mr1QEHogQWP9rV+wygwzt 12WD2XF087CJTUvXH2qXXm9f3WAPOBMJqNA9qkzs5IKwXvC9Zi0H X-Google-Smtp-Source: AGHT+IGtRbd42JPu/OUHKNfLhC4RgcnjPY0JjQWMzYD9xUdnRcBzP3VafcKJJS3+YeL4QOKXkQ/43DB2DYZ5 X-Received: by 2002:a17:902:e546:b0:215:a56f:1e50 with SMTP id d9443c01a7336-22593d6ad0emr48711975ad.8.1741698593689; Tue, 11 Mar 2025 06:09:53 -0700 (PDT) Received: from postal.iol.unh.edu (postal.iol.unh.edu. [2606:4100:3880:1234::84]) by smtp-relay.gmail.com with ESMTPS id d9443c01a7336-224109d4516sm5866815ad.20.2025.03.11.06.09.53 (version=TLS1_2 cipher=ECDHE-ECDSA-AES128-GCM-SHA256 bits=128/128); Tue, 11 Mar 2025 06:09:53 -0700 (PDT) X-Relaying-Domain: iol.unh.edu Date: Tue, 11 Mar 2025 06:09:53 -0700 (PDT) Message-ID: <67d03621.170a0220.964ca.cf5bSMTPIN_ADDED_MISSING@mx.google.com> Received: from [172.21.0.6] (unknown [172.18.0.240]) by postal.iol.unh.edu (Postfix) with ESMTP id A9EDF6052471; Tue, 11 Mar 2025 09:09:50 -0400 (EDT) Subject: |SUCCESS| pw152312-152318 [PATCH] [RFC,v3,8/8] build: remove static From: dpdklab@iol.unh.edu To: Test Report Cc: dpdk-test-reports@iol.unh.edu In-Reply-To: <20250311095609.194523-9-david.marchand@redhat.com> References: <20250311095609.194523-9-david.marchand@redhat.com> Content-Type: text/plain X-BeenThere: test-report@dpdk.org X-Mailman-Version: 2.1.29 Precedence: list List-Id: automatic DPDK test reports List-Unsubscribe: , List-Archive: List-Post: List-Help: List-Subscribe: , Errors-To: test-report-bounces@dpdk.org Test-Label: iol-abi-testing Test-Status: SUCCESS http://dpdk.org/patch/152318 _Testing PASS_ Submitter: David Marchand Date: Tuesday, March 11 2025 09:56:06 DPDK git baseline: Repo:dpdk Branch: master CommitID:5f37ee9c859f3ce08ca4364f1d8c0e70ec33ac83 152312-152318 --> testing pass Upstream job id: Generic-DPDK-Compile-ABI#119873 Test environment and result as below: +-------------------+----------+ | Environment | abi_test | +===================+==========+ | CentOS Stream 9 | PASS | +-------------------+----------+ | CentOS Stream 10 | PASS | +-------------------+----------+ | Fedora 40 (Clang) | PASS | +-------------------+----------+ | openSUSE Leap 15 | PASS | +-------------------+----------+ | RHEL8 | PASS | +-------------------+----------+ | Ubuntu 22.04 | PASS | +-------------------+----------+ | Fedora 41 | PASS | +-------------------+----------+ | Fedora 41 (Clang) | PASS | +-------------------+----------+ | RHEL9 | PASS | +-------------------+----------+ | Ubuntu 24.04 | PASS | +-------------------+----------+ | Debian 12 | PASS | +-------------------+----------+ | Fedora 40 | PASS | +-------------------+----------+ CentOS Stream 9 Kernel: Depends on container host Compiler: gcc 11.5.0 20240719 (Red Hat 11.5.0-2) CentOS Stream 10 Kernel: Depends on container host Compiler: gcc 14.2.1 20241104 (Red Hat 14.2.1-6) Fedora 40 (Clang) Kernel: Depends on container host Compiler: clang 18.1.8 (Fedora 18.1.8-1.fc40) openSUSE Leap 15 Kernel: Depends on container host Compiler: gcc (SUSE Linux) 7.5.0 RHEL8 Kernel: Depends on container host Compiler: gcc 8.5.0 20210514 (Red Hat 8.5.0-22) Ubuntu 22.04 Kernel: Depends on container host Compiler: gcc (Ubuntu 11.4.0-1ubuntu1~22.04) 11.4.0 Fedora 41 Kernel: Depends on container host Compiler: gcc 14.2.1 20240912 (Red Hat 14.2.1-3) Fedora 41 (Clang) Kernel: Depends on container host Compiler: clang 19.1.5 (Fedora 19.1.5-1.fc41) RHEL9 Kernel: Depends on container host Compiler: gcc 11.5.0 20240719 (Red Hat 11.5.0-2) Ubuntu 24.04 Kernel: Depends on container host Compiler: gcc (Ubuntu 13.3.0-6ubuntu2~24.04) 13.3.0 Debian 12 Kernel: Depends on container host Compiler: gcc (Debian 12.2.0-14) 12.2.0 Fedora 40 Kernel: Depends on container host Compiler: gcc 14.2.1 20240912 (Red Hat 14.2.1-3) To view detailed results, visit: https://lab.dpdk.org/results/dashboard/patchsets/32794/ UNH-IOL DPDK Community Lab To manage your email subscriptions, visit: https://lab.dpdk.org/results/dashboard/preferences/subscriptions/