From mboxrd@z Thu Jan  1 00:00:00 1970
Return-Path: <test-report-bounces@dpdk.org>
Received: from mails.dpdk.org (mails.dpdk.org [217.70.189.124])
	by inbox.dpdk.org (Postfix) with ESMTP id 73DFB463C1
	for <public@inbox.dpdk.org>; Tue, 11 Mar 2025 14:11:03 +0100 (CET)
Received: from mails.dpdk.org (localhost [127.0.0.1])
	by mails.dpdk.org (Postfix) with ESMTP id 67EF14027F;
	Tue, 11 Mar 2025 14:11:03 +0100 (CET)
Received: from mail-pl1-f226.google.com (mail-pl1-f226.google.com
 [209.85.214.226])
 by mails.dpdk.org (Postfix) with ESMTP id 6453C40263
 for <test-report@dpdk.org>; Tue, 11 Mar 2025 14:11:02 +0100 (CET)
Received: by mail-pl1-f226.google.com with SMTP id
 d9443c01a7336-224191d92e4so93297635ad.3
 for <test-report@dpdk.org>; Tue, 11 Mar 2025 06:11:02 -0700 (PDT)
DKIM-Signature: v=1; a=rsa-sha256; c=relaxed/relaxed;
 d=iol.unh.edu; s=unh-iol; t=1741698661; x=1742303461; darn=dpdk.org;
 h=references:in-reply-to:cc:to:from:subject:message-id:date:from:to
 :cc:subject:date:message-id:reply-to;
 bh=9TMtCHi5kM0Zjf/Py+jvFMYMQNQwX3JBL/u3lEo+j/o=;
 b=UqwkdxOFBKJya/3oOsS+VkyF9jf7fjSzRUKECN2Mdvz4DGeOTJ5y9QC9BTFZp684Ie
 MYiGEf+Sqc9orCt8thJUSq7TgT58fv5s8XKe/CZUsemOU2VZrGN7DUZWU9RhMGZd/BtF
 w9uLo1EGzg06LPX4awolYd92dNyzGrd7j2TDI=
X-Google-DKIM-Signature: v=1; a=rsa-sha256; c=relaxed/relaxed;
 d=1e100.net; s=20230601; t=1741698661; x=1742303461;
 h=references:in-reply-to:cc:to:from:subject:message-id:date
 :x-gm-message-state:from:to:cc:subject:date:message-id:reply-to;
 bh=9TMtCHi5kM0Zjf/Py+jvFMYMQNQwX3JBL/u3lEo+j/o=;
 b=dWBeRYOUAiwcCHEA+CJglgDMcNLul/80vixakmDOvAKWVRqcVULBGM5eZR5zT3Kaox
 BVR0fSKXCCKMno3X9hruUKozAkEEoYK2/pRCYCIKeCr8k7L2IiNnNkMFI6bpRhVn4Tda
 rjUjXJOwENuSZUWyCmClDSrMcUsjS5gyuyG3cNoASqQQpqRBnT4cfcxS4KX9TTZv3u3L
 DogOASE1DNILOwO8lK3c6Y7aHJT3+lYj13kpREHoXs3zeJyYNedbmJfzQEBmFLZLUqMz
 3FDIT+3BMebwo8qgsjeIkdQZ57zOWruJ3JI7yBfiVvHrTqiM/u8VHm4u0KBaHOx65nlz
 qtfg==
X-Gm-Message-State: AOJu0YySsUQoHO4X8pEhnqotRGAW0+UAq3t1PhP+PWVJfuzLIly+ImoE
 AVbllRK/ryG0oH8zSUJROy6jVDNfU2Y5/lVUHgnQ4EsH86A3vXBsysoPkVuH5r0ASE3tIorbZWT
 /2+BRQEP53ujQWwKcTfdTG5/aYAvQSuq/boG6xSJL
X-Gm-Gg: ASbGncuyULQyDf9QxJNlmh9on1CPFNOr1Hj5W7fAcdNG4HB3LcP+93TiBM4DWtE+CN6
 0Ae2IWONPa/ahsftk3rnGLhUpZidZnUJR+6BbiOhVVWUuAGt6nuCQGL3847M7vqI9zTjNSI6Ir5
 wz2efblKh9m+2+Bg1j3pAD450RakJz719o5XgXZBLjRncJMtJCIkAWZ9NFGGjBP/vpcEPHp+6YJ
 Bx3Hh0mqMRT3kT0OGhh9N3Fsgve1TaJnjFAvdySocFdXkJYI8S//LDpiF2NNL4wuU86GAZXeIAi
 8dw3T3fTccwDhicqZECLc94fZzuwcmGKp+8INMvy
X-Google-Smtp-Source: AGHT+IF7fs32TUEc2gjFIwKTsazzjhsUq7Ik+Y1YsBw6U3SyPn153IuOC/HLZIEOhK4i7m8k8y1p2bFRVAoo
X-Received: by 2002:a17:903:32ce:b0:223:4b8d:32f1 with SMTP id
 d9443c01a7336-22428882233mr295150875ad.1.1741698661556; 
 Tue, 11 Mar 2025 06:11:01 -0700 (PDT)
Received: from postal.iol.unh.edu (postal.iol.unh.edu. [132.177.123.84])
 by smtp-relay.gmail.com with ESMTPS id
 d9443c01a7336-224109d4262sm5885535ad.4.2025.03.11.06.11.01
 (version=TLS1_2 cipher=ECDHE-ECDSA-AES128-GCM-SHA256 bits=128/128);
 Tue, 11 Mar 2025 06:11:01 -0700 (PDT)
X-Relaying-Domain: iol.unh.edu
Date: Tue, 11 Mar 2025 06:11:01 -0700 (PDT)
Message-ID: <67d03665.170a0220.2b6f0e.e097SMTPIN_ADDED_MISSING@mx.google.com>
Received: from [172.21.0.5] (unknown [172.18.0.240])
 by postal.iol.unh.edu (Postfix) with ESMTP id 786946052471;
 Tue, 11 Mar 2025 09:10:58 -0400 (EDT)
Subject: |SUCCESS| pw152312-152318 [PATCH] [RFC,v3,8/8] build: remove static 
From: dpdklab@iol.unh.edu
To: Test Report <test-report@dpdk.org>
Cc: dpdk-test-reports@iol.unh.edu
In-Reply-To: <20250311095609.194523-9-david.marchand@redhat.com>
References: <20250311095609.194523-9-david.marchand@redhat.com>
Content-Type: text/plain
X-BeenThere: test-report@dpdk.org
X-Mailman-Version: 2.1.29
Precedence: list
List-Id: automatic DPDK test reports <test-report.dpdk.org>
List-Unsubscribe: <https://mails.dpdk.org/options/test-report>,
 <mailto:test-report-request@dpdk.org?subject=unsubscribe>
List-Archive: <http://mails.dpdk.org/archives/test-report/>
List-Post: <mailto:test-report@dpdk.org>
List-Help: <mailto:test-report-request@dpdk.org?subject=help>
List-Subscribe: <https://mails.dpdk.org/listinfo/test-report>,
 <mailto:test-report-request@dpdk.org?subject=subscribe>
Errors-To: test-report-bounces@dpdk.org

Test-Label: iol-abi-testing
Test-Status: SUCCESS
http://dpdk.org/patch/152318

_Testing PASS_

Submitter: David Marchand <david.marchand@redhat.com>
Date: Tuesday, March 11 2025 09:56:06 
DPDK git baseline: Repo:dpdk
  Branch: master
  CommitID:5f37ee9c859f3ce08ca4364f1d8c0e70ec33ac83

152312-152318 --> testing pass

Upstream job id: Generic-DPDK-Compile-ABI#119869

Test environment and result as below:

+-------------------+----------+
|    Environment    | abi_test |
+===================+==========+
| CentOS Stream 9   | PASS     |
+-------------------+----------+
| CentOS Stream 10  | PASS     |
+-------------------+----------+
| Fedora 40 (Clang) | PASS     |
+-------------------+----------+
| openSUSE Leap 15  | PASS     |
+-------------------+----------+
| RHEL8             | PASS     |
+-------------------+----------+
| Ubuntu 22.04      | PASS     |
+-------------------+----------+
| Fedora 41         | PASS     |
+-------------------+----------+
| Fedora 41 (Clang) | PASS     |
+-------------------+----------+
| RHEL9             | PASS     |
+-------------------+----------+
| Ubuntu 24.04      | PASS     |
+-------------------+----------+
| Debian 12         | PASS     |
+-------------------+----------+
| Fedora 40         | PASS     |
+-------------------+----------+


CentOS Stream 9
	Kernel: Depends on container host
	Compiler: gcc 11.5.0 20240719 (Red Hat 11.5.0-2)

CentOS Stream 10
	Kernel: Depends on container host
	Compiler: gcc 14.2.1 20241104 (Red Hat 14.2.1-6)

Fedora 40 (Clang)
	Kernel: Depends on container host
	Compiler: clang 18.1.8 (Fedora 18.1.8-1.fc40)

openSUSE Leap 15
	Kernel: Depends on container host
	Compiler: gcc (SUSE Linux) 7.5.0

RHEL8
	Kernel: Depends on container host
	Compiler: gcc 8.5.0 20210514 (Red Hat 8.5.0-22)

Ubuntu 22.04
	Kernel: Depends on container host
	Compiler: gcc (Ubuntu 11.4.0-1ubuntu1~22.04) 11.4.0

Fedora 41
	Kernel: Depends on container host
	Compiler: gcc 14.2.1 20240912 (Red Hat 14.2.1-3)

Fedora 41 (Clang)
	Kernel: Depends on container host
	Compiler: clang 19.1.5 (Fedora 19.1.5-1.fc41)

RHEL9
	Kernel: Depends on container host
	Compiler: gcc 11.5.0 20240719 (Red Hat 11.5.0-2)

Ubuntu 24.04
	Kernel: Depends on container host
	Compiler: gcc (Ubuntu 13.3.0-6ubuntu2~24.04) 13.3.0

Debian 12
	Kernel: Depends on container host
	Compiler: gcc (Debian 12.2.0-14) 12.2.0

Fedora 40
	Kernel: Depends on container host
	Compiler: gcc 14.2.1 20240912 (Red Hat 14.2.1-3)

To view detailed results, visit:
https://lab.dpdk.org/results/dashboard/patchsets/32794/

UNH-IOL DPDK Community Lab

To manage your email subscriptions, visit: 
https://lab.dpdk.org/results/dashboard/preferences/subscriptions/