From mboxrd@z Thu Jan  1 00:00:00 1970
Return-Path: <test-report-bounces@dpdk.org>
Received: from mails.dpdk.org (mails.dpdk.org [217.70.189.124])
	by inbox.dpdk.org (Postfix) with ESMTP id BC9B3463C7
	for <public@inbox.dpdk.org>; Tue, 11 Mar 2025 18:37:30 +0100 (CET)
Received: from mails.dpdk.org (localhost [127.0.0.1])
	by mails.dpdk.org (Postfix) with ESMTP id B6C944025A;
	Tue, 11 Mar 2025 18:37:30 +0100 (CET)
Received: from mail-io1-f100.google.com (mail-io1-f100.google.com
 [209.85.166.100])
 by mails.dpdk.org (Postfix) with ESMTP id 4C3294014F
 for <test-report@dpdk.org>; Tue, 11 Mar 2025 18:37:29 +0100 (CET)
Received: by mail-io1-f100.google.com with SMTP id
 ca18e2360f4ac-85b41281b50so106142239f.3
 for <test-report@dpdk.org>; Tue, 11 Mar 2025 10:37:29 -0700 (PDT)
DKIM-Signature: v=1; a=rsa-sha256; c=relaxed/relaxed;
 d=iol.unh.edu; s=unh-iol; t=1741714648; x=1742319448; darn=dpdk.org;
 h=references:in-reply-to:cc:to:from:subject:message-id:date:from:to
 :cc:subject:date:message-id:reply-to;
 bh=PPoFAdQYC5x2BwodExK0LiNxkiKPqy+cV7VKNjSVD6g=;
 b=WwMbVsF6FbaWLfTx74+EeqHHyD5HB4Zo8Q0DOwbQelEquNRzsBnuCkZph5F1qEHxhe
 XUwdoGSBgwLnXIEj5kWzXJrFoS8wx2cDPnmwX8wuo5rXlNfzP9p3IpQh2QCv5dPJCu1F
 iOIS6D+aorNFtlqjmwQB5l8JL0R7+r/5iIdjs=
X-Google-DKIM-Signature: v=1; a=rsa-sha256; c=relaxed/relaxed;
 d=1e100.net; s=20230601; t=1741714648; x=1742319448;
 h=references:in-reply-to:cc:to:from:subject:message-id:date
 :x-gm-message-state:from:to:cc:subject:date:message-id:reply-to;
 bh=PPoFAdQYC5x2BwodExK0LiNxkiKPqy+cV7VKNjSVD6g=;
 b=U8c8x4G0wNT3knNqOIsAqzegJh0jkN0SnDsQ2P5xRJpudNn1d3yGN/r9UcxUC3g0x8
 kWwnaUY38Cph/qktohSjtoHVyHYsVOiiMFhmdxi4nwqzjT1kJsHYedGEFDS2GCHJx3RH
 Ex4ak1KYPqP8YFnRW1DouCbMZBnx6cQoSlJClQ7288wJYIGPOD98vt7qI55a7fafm6SU
 pRrb8yvOalLm8kl03Ev143tyclKvg/ogavt5V0GFfeJKfdhr+mm8P1Y+fhg8XeJUjb1H
 bezfuewinY0le8aK2ldp4COy1XvJOudl3E+t0rEpiG6nbqSviG3VejBlfgNiwx28Hy03
 hu1g==
X-Gm-Message-State: AOJu0YybehB11jfodsBqN03M5CR9Uyapascj6a7/qmhXB711rr5ZLGvt
 zMvvlU2OvJu/ZFiqIXhMf1KPj1IW0X8qRobXX4MPuOuq1RT6f9wwHzob6zUkcVy8Cmir1RjFh8g
 +/xlDUsar2qhktFaKOCNDDC4JzePYlDdHMyWPFmQS04nXdgc84nAS9QZB
X-Gm-Gg: ASbGnctUvEaq0YbJzll+p4LIJpHbY5RVoZAc0mb3BTD+psqaZPF597PGKbuPPUvm6TM
 5tIo4Sf2QDCCYCQUwYTbw0ml3eL1dDRuXEapbSNj3u178fXrqg1y/4MD7cDDnJBHyAtxdYlVkqx
 IIZz885sMZlf5MbIJaLODbGzp/mto650Y0mNRpOK0/M/nMl/NkmmEoeEHNX+jEb+UOcPlC05BCk
 J3uLXwiTmuCndgO4+9pEAp/9MjNZpaBzHUNApJdnMkIVaXyGOEoXo49KC8h3OkkpMYT4K0gqX17
 W1Mbpzug7aOOATm7GCvP8ZH6Dn0ZYXwU0pq42kwuX5MhmV1ykJcv
X-Google-Smtp-Source: AGHT+IGTWpB7eUapDGugh/aBXXxDOY12ezInuPPQxFCSRwOxXYKa7syodVrWicpoUoz/5UJYeiInW1u7auGF
X-Received: by 2002:a05:6e02:2168:b0:3d3:dfb6:2203 with SMTP id
 e9e14a558f8ab-3d441a3118dmr205469465ab.19.1741714648593; 
 Tue, 11 Mar 2025 10:37:28 -0700 (PDT)
Received: from postal.iol.unh.edu (postal.iol.unh.edu.
 [2606:4100:3880:1234::84]) by smtp-relay.gmail.com with ESMTPS id
 8926c6da1cb9f-4f23552510fsm284073173.73.2025.03.11.10.37.28
 (version=TLS1_2 cipher=ECDHE-ECDSA-AES128-GCM-SHA256 bits=128/128);
 Tue, 11 Mar 2025 10:37:28 -0700 (PDT)
X-Relaying-Domain: iol.unh.edu
Date: Tue, 11 Mar 2025 10:37:28 -0700 (PDT)
Message-ID: <67d074d8.050a0220.2e6c6a.c891SMTPIN_ADDED_MISSING@mx.google.com>
Received: from [172.17.0.5] (unknown [172.18.0.217])
 by postal.iol.unh.edu (Postfix) with ESMTP id 438C36052471;
 Tue, 11 Mar 2025 13:37:25 -0400 (EDT)
Subject: |SUCCESS| pw152320 [PATCH] [v2] common/qat: fix incorrect size in th
From: dpdklab@iol.unh.edu
To: Test Report <test-report@dpdk.org>
Cc: dpdk-test-reports@iol.unh.edu
In-Reply-To: <20250311103024.1186285-1-arkadiuszx.kusztal@intel.com>
References: <20250311103024.1186285-1-arkadiuszx.kusztal@intel.com>
Content-Type: text/plain
X-BeenThere: test-report@dpdk.org
X-Mailman-Version: 2.1.29
Precedence: list
List-Id: automatic DPDK test reports <test-report.dpdk.org>
List-Unsubscribe: <https://mails.dpdk.org/options/test-report>,
 <mailto:test-report-request@dpdk.org?subject=unsubscribe>
List-Archive: <http://mails.dpdk.org/archives/test-report/>
List-Post: <mailto:test-report@dpdk.org>
List-Help: <mailto:test-report-request@dpdk.org?subject=help>
List-Subscribe: <https://mails.dpdk.org/listinfo/test-report>,
 <mailto:test-report-request@dpdk.org?subject=subscribe>
Errors-To: test-report-bounces@dpdk.org

Test-Label: iol-unit-amd64-testing
Test-Status: SUCCESS
http://dpdk.org/patch/152320

_Testing PASS_

Submitter: Arkadiusz Kusztal <arkadiuszx.kusztal@intel.com>
Date: Tuesday, March 11 2025 10:30:24 
DPDK git baseline: Repo:dpdk
  Branch: master
  CommitID:57c3c8f4f18d65f6b09057819ba36532f2f5e04c

152320 --> testing pass

Upstream job id: Generic-Unit-Test-DPDK#323382

Test environment and result as below:

+-------------------+----------------+
|    Environment    | dpdk_unit_test |
+===================+================+
| CentOS Stream 9   | PASS           |
+-------------------+----------------+
| Fedora 41         | PASS           |
+-------------------+----------------+
| Debian 12         | PASS           |
+-------------------+----------------+
| CentOS Stream 10  | PASS           |
+-------------------+----------------+
| Fedora 40 (Clang) | PASS           |
+-------------------+----------------+
| Fedora 40         | PASS           |
+-------------------+----------------+
| Ubuntu 20.04      | PASS           |
+-------------------+----------------+
| Fedora 41 (Clang) | PASS           |
+-------------------+----------------+
| RHEL8             | PASS           |
+-------------------+----------------+
| RHEL9             | PASS           |
+-------------------+----------------+
| Ubuntu 22.04      | PASS           |
+-------------------+----------------+
| Ubuntu 24.04      | PASS           |
+-------------------+----------------+


CentOS Stream 9
	Kernel: Depends on container host
	Compiler: gcc 11.5.0 20240719 (Red Hat 11.5.0-2)

Fedora 41
	Kernel: Depends on container host
	Compiler: gcc 14.2.1 20240912 (Red Hat 14.2.1-3)

Debian 12
	Kernel: Depends on container host
	Compiler: gcc (Debian 12.2.0-14) 12.2.0

CentOS Stream 10
	Kernel: Depends on container host
	Compiler: gcc 14.2.1 20241104 (Red Hat 14.2.1-6)

Fedora 40 (Clang)
	Kernel: Depends on container host
	Compiler: clang 18.1.8 (Fedora 18.1.8-1.fc40)

Fedora 40
	Kernel: Depends on container host
	Compiler: gcc 14.2.1 20240912 (Red Hat 14.2.1-3)

Ubuntu 20.04
	Kernel: Depends on container host
	Compiler: gcc (Ubuntu 9.4.0-1ubuntu1~20.04.2) 9.4.0

Fedora 41 (Clang)
	Kernel: Depends on container host
	Compiler: clang 19.1.5 (Fedora 19.1.5-1.fc41)

RHEL8
	Kernel: Depends on container host
	Compiler: gcc 8.5.0 20210514 (Red Hat 8.5.0-22)

RHEL9
	Kernel: Depends on container host
	Compiler: gcc 11.5.0 20240719 (Red Hat 11.5.0-2)

Ubuntu 22.04
	Kernel: Depends on container host
	Compiler: gcc (Ubuntu 11.4.0-1ubuntu1~22.04) 11.4.0

Ubuntu 24.04
	Kernel: Depends on container host
	Compiler: gcc (Ubuntu 13.3.0-6ubuntu2~24.04) 13.3.0

To view detailed results, visit:
https://lab.dpdk.org/results/dashboard/patchsets/32795/

UNH-IOL DPDK Community Lab

To manage your email subscriptions, visit: 
https://lab.dpdk.org/results/dashboard/preferences/subscriptions/