From mboxrd@z Thu Jan  1 00:00:00 1970
Return-Path: <test-report-bounces@dpdk.org>
Received: from mails.dpdk.org (mails.dpdk.org [217.70.189.124])
	by inbox.dpdk.org (Postfix) with ESMTP id E730E463D4
	for <public@inbox.dpdk.org>; Wed, 12 Mar 2025 02:59:12 +0100 (CET)
Received: from mails.dpdk.org (localhost [127.0.0.1])
	by mails.dpdk.org (Postfix) with ESMTP id DCD8440265;
	Wed, 12 Mar 2025 02:59:12 +0100 (CET)
Received: from mail-qt1-f225.google.com (mail-qt1-f225.google.com
 [209.85.160.225])
 by mails.dpdk.org (Postfix) with ESMTP id 5552040264
 for <test-report@dpdk.org>; Wed, 12 Mar 2025 02:59:11 +0100 (CET)
Received: by mail-qt1-f225.google.com with SMTP id
 d75a77b69052e-4767b3f8899so4390121cf.0
 for <test-report@dpdk.org>; Tue, 11 Mar 2025 18:59:11 -0700 (PDT)
DKIM-Signature: v=1; a=rsa-sha256; c=relaxed/relaxed;
 d=iol.unh.edu; s=unh-iol; t=1741744750; x=1742349550; darn=dpdk.org;
 h=references:in-reply-to:cc:to:from:subject:message-id:date:from:to
 :cc:subject:date:message-id:reply-to;
 bh=d8r5G/Yv0gxOt82jbYB1dxDL9dAxf5nKsdwKLtP0S4U=;
 b=hqQp+hbw1/DJDDuMgAyDBn2etXl/U0btoGdnlNfNKty1L/Aj11/85fp3xvNuh4qaCE
 6fiAb/sR1W7TWJ9wAkh5ZLZvN54X9uojkL7sbryzRPEJFn6zvUKwINO95Jw4ELt0sXBc
 i8fcKTkYuiS9Z5iqGAW/b3BcsanUxXbgkOdIo=
X-Google-DKIM-Signature: v=1; a=rsa-sha256; c=relaxed/relaxed;
 d=1e100.net; s=20230601; t=1741744750; x=1742349550;
 h=references:in-reply-to:cc:to:from:subject:message-id:date
 :x-gm-message-state:from:to:cc:subject:date:message-id:reply-to;
 bh=d8r5G/Yv0gxOt82jbYB1dxDL9dAxf5nKsdwKLtP0S4U=;
 b=BVWc2QYGYAezE/q/YBgQU9u7eDIZaNP2JgPg7q5u+e0fifH1bTAwR/i7hAKVsnzWRH
 olxTMBR72JMaogx1NO5MBgq7GjLeHYEduvF5uYb8g1CZP2c9mcjdAVo5t49xn0e/wJy7
 Id2uBBZXlaAzMjm2Ps4lKL2JykJEDUYTwWX30JWPzI3jQehiXCoXnxewgaw9gWfGo8nP
 DFtggD20ODOLCpRaPoV/0RowOIpPv5NOK09uN9xJ/iMXP0Jr2WXuS2/oJp2kW5zHkgl+
 HINDbTujUuQZo4KuKNtmX+oZqDk0A+EyP89r50BR3GuQDxyr+mo8HbTQsgH/CzPdZQeK
 UzGw==
X-Gm-Message-State: AOJu0YwvheGFO67OdqE1Z+IF42DmdCFgEKMOW6BdUDtWXsjegZAs9Mqm
 wAwrdqsAVuubeCOfZqVHvflaAkJBBpM8h9dQmTSaP8RAl9XCHbrLjPdltWxLsaodcxywhPwd93b
 YcLuHYyobH4S0C8wQeXKSJAyA0fMEhHtcBGTeTC8l+iYrRZ8grXEF2hrN
X-Gm-Gg: ASbGncsYpAydfWDeWp7UDQLVHpm06yPArSy7bzmqTkgnyLlUlrdTMEjuP9AcuazaRot
 CX6LlG8CwXJDJ1cpYMIgtBRi9vuF1Mwrr36NvzvGrEHzpTu4gRgFhHKBPp5RBD1sDzBjDRe+MtD
 ybPOEeECPSSL/zYn6dVwZdDNBUK04l7vg9zs4XpWjO42XGpXOtILbwFymGU3KzddUZta7AzwL7E
 YcKVVnpj51JH8OwJ9uRxYmCBDFxQY/Zb32ub+qla8o78wDKA3TJyAQON9qWwZAaEohWxr9hYuF2
 OfeANBNFW3Dq9RWvhM2y1xCRiIp5RWbiUD4JQvu9HAdqJXXKbXgm
X-Google-Smtp-Source: AGHT+IG0gVPi9FvgayjN3NRvhnaiLU8JSTkFuKwEUtxRuhXMbVSTFaQhyekhBRH3BZs5g87lGCP9Slvk3TBW
X-Received: by 2002:ad4:5f88:0:b0:6e8:fb11:e2c7 with SMTP id
 6a1803df08f44-6ea51edf46bmr82745236d6.8.1741744750725; 
 Tue, 11 Mar 2025 18:59:10 -0700 (PDT)
Received: from postal.iol.unh.edu (postal.iol.unh.edu.
 [2606:4100:3880:1234::84]) by smtp-relay.gmail.com with ESMTPS id
 6a1803df08f44-6e8f70909d4sm5108806d6.25.2025.03.11.18.59.10
 (version=TLS1_2 cipher=ECDHE-ECDSA-AES128-GCM-SHA256 bits=128/128);
 Tue, 11 Mar 2025 18:59:10 -0700 (PDT)
X-Relaying-Domain: iol.unh.edu
Date: Tue, 11 Mar 2025 18:59:10 -0700 (PDT)
Message-ID: <67d0ea6e.d40a0220.33bf57.8bcfSMTPIN_ADDED_MISSING@mx.google.com>
Received: from [172.21.0.6] (unknown [172.18.0.240])
 by postal.iol.unh.edu (Postfix) with ESMTP id 6F0666052471;
 Tue, 11 Mar 2025 21:59:10 -0400 (EDT)
Subject: |SUCCESS| pw152332-152340 [PATCH] [v3,9/9] net/ioring: support multi
From: dpdklab@iol.unh.edu
To: Test Report <test-report@dpdk.org>
Cc: dpdk-test-reports@iol.unh.edu
In-Reply-To: <20250311235424.172440-10-stephen@networkplumber.org>
References: <20250311235424.172440-10-stephen@networkplumber.org>
Content-Type: text/plain
X-BeenThere: test-report@dpdk.org
X-Mailman-Version: 2.1.29
Precedence: list
List-Id: automatic DPDK test reports <test-report.dpdk.org>
List-Unsubscribe: <https://mails.dpdk.org/options/test-report>,
 <mailto:test-report-request@dpdk.org?subject=unsubscribe>
List-Archive: <http://mails.dpdk.org/archives/test-report/>
List-Post: <mailto:test-report@dpdk.org>
List-Help: <mailto:test-report-request@dpdk.org?subject=help>
List-Subscribe: <https://mails.dpdk.org/listinfo/test-report>,
 <mailto:test-report-request@dpdk.org?subject=subscribe>
Errors-To: test-report-bounces@dpdk.org

Test-Label: iol-unit-amd64-testing
Test-Status: SUCCESS
http://dpdk.org/patch/152340

_Testing PASS_

Submitter: Stephen Hemminger <stephen@networkplumber.org>
Date: Tuesday, March 11 2025 23:51:27 
DPDK git baseline: Repo:dpdk
  Branch: master
  CommitID:f1ba1be33657c02df257dbe6e5741232bff7df1a

152332-152340 --> testing pass

Upstream job id: Generic-Unit-Test-DPDK#323578

Test environment and result as below:

+-------------------+----------------+
|    Environment    | dpdk_unit_test |
+===================+================+
| CentOS Stream 9   | PASS           |
+-------------------+----------------+
| Debian 12         | PASS           |
+-------------------+----------------+
| CentOS Stream 10  | PASS           |
+-------------------+----------------+
| Fedora 40         | PASS           |
+-------------------+----------------+
| Fedora 41 (Clang) | PASS           |
+-------------------+----------------+
| Fedora 41         | PASS           |
+-------------------+----------------+
| RHEL9             | PASS           |
+-------------------+----------------+
| Ubuntu 22.04      | PASS           |
+-------------------+----------------+
| RHEL8             | PASS           |
+-------------------+----------------+
| Fedora 40 (Clang) | PASS           |
+-------------------+----------------+
| Ubuntu 24.04      | PASS           |
+-------------------+----------------+
| Ubuntu 20.04      | PASS           |
+-------------------+----------------+


CentOS Stream 9
	Kernel: Depends on container host
	Compiler: gcc 11.5.0 20240719 (Red Hat 11.5.0-2)

Debian 12
	Kernel: Depends on container host
	Compiler: gcc (Debian 12.2.0-14) 12.2.0

CentOS Stream 10
	Kernel: Depends on container host
	Compiler: gcc 14.2.1 20241104 (Red Hat 14.2.1-6)

Fedora 40
	Kernel: Depends on container host
	Compiler: gcc 14.2.1 20240912 (Red Hat 14.2.1-3)

Fedora 41 (Clang)
	Kernel: Depends on container host
	Compiler: clang 19.1.5 (Fedora 19.1.5-1.fc41)

Fedora 41
	Kernel: Depends on container host
	Compiler: gcc 14.2.1 20240912 (Red Hat 14.2.1-3)

RHEL9
	Kernel: Depends on container host
	Compiler: gcc 11.5.0 20240719 (Red Hat 11.5.0-2)

Ubuntu 22.04
	Kernel: Depends on container host
	Compiler: gcc (Ubuntu 11.4.0-1ubuntu1~22.04) 11.4.0

RHEL8
	Kernel: Depends on container host
	Compiler: gcc 8.5.0 20210514 (Red Hat 8.5.0-22)

Fedora 40 (Clang)
	Kernel: Depends on container host
	Compiler: clang 18.1.8 (Fedora 18.1.8-1.fc40)

Ubuntu 24.04
	Kernel: Depends on container host
	Compiler: gcc (Ubuntu 13.3.0-6ubuntu2~24.04) 13.3.0

Ubuntu 20.04
	Kernel: Depends on container host
	Compiler: gcc (Ubuntu 9.4.0-1ubuntu1~20.04.2) 9.4.0

To view detailed results, visit:
https://lab.dpdk.org/results/dashboard/patchsets/32802/

UNH-IOL DPDK Community Lab

To manage your email subscriptions, visit: 
https://lab.dpdk.org/results/dashboard/preferences/subscriptions/