From mboxrd@z Thu Jan 1 00:00:00 1970 Return-Path: Received: from mails.dpdk.org (mails.dpdk.org [217.70.189.124]) by inbox.dpdk.org (Postfix) with ESMTP id 3641C463D4 for ; Wed, 12 Mar 2025 03:45:04 +0100 (CET) Received: from mails.dpdk.org (localhost [127.0.0.1]) by mails.dpdk.org (Postfix) with ESMTP id 07A5B40265; Wed, 12 Mar 2025 03:45:04 +0100 (CET) Received: from mail-oa1-f100.google.com (mail-oa1-f100.google.com [209.85.160.100]) by mails.dpdk.org (Postfix) with ESMTP id 0622A40264 for ; Wed, 12 Mar 2025 03:45:03 +0100 (CET) Received: by mail-oa1-f100.google.com with SMTP id 586e51a60fabf-2c2ada8264aso1462277fac.2 for ; Tue, 11 Mar 2025 19:45:02 -0700 (PDT) DKIM-Signature: v=1; a=rsa-sha256; c=relaxed/relaxed; d=iol.unh.edu; s=unh-iol; t=1741747502; x=1742352302; darn=dpdk.org; h=references:in-reply-to:cc:to:from:subject:message-id:date:from:to :cc:subject:date:message-id:reply-to; bh=Du9JulY0re2OW+i+i6EbBncANpJrEQJ1LfDx+yZwaoc=; b=ORGfDOVrgkeRy8dhCoVvDnHp+7LYRKKJ1Ansn1bjX1cgGxkOWlbiKYH429V2eTsrkx X2YRPYIAgKDGb089EVcBkcQfZ5ZuK/5m2xC1rb4kx3d4FRFTOhU7JfHcYxI5H5+bL8bk Ork9sfyU4lzMT1Bbt8VGli+Sc6lI7Ln/Zs2/o= X-Google-DKIM-Signature: v=1; a=rsa-sha256; c=relaxed/relaxed; d=1e100.net; s=20230601; t=1741747502; x=1742352302; h=references:in-reply-to:cc:to:from:subject:message-id:date :x-gm-message-state:from:to:cc:subject:date:message-id:reply-to; bh=Du9JulY0re2OW+i+i6EbBncANpJrEQJ1LfDx+yZwaoc=; b=kqW7DjhdSjKJ7bh6k7812t3XD7+IEfa7IFF9UJMO+WXd2+x3YSEnAg0UgvBESXFd40 ObyeKGTQ+nNXHOwm0gA4cMmBI0okMw3HpfA3rnvDg1tO0lC0stT8A+W1gWXbdnOQy5Hi YF70wKKz/BXSmzD1HJNkJQMn33Nc+p/IXBzJPCvvZPnRy78avLYc4YWN3MWijzJh8725 TWT14g2iHQBcPAdjux7NLuT+jNqgxfN5T0kyayn75O6mn+ghLVqIB6NhUQcm5KLJpHH/ XjmhZhP8A/nPX2t/yEgjl1ejNE+LcGybjPa3MA0CsWnR8VHXlrWnmoOPbI2WCloPVfNK GhgQ== X-Gm-Message-State: AOJu0YwmuKTSUZqqfAyjtqOP2XqhKT6oqT5pahy6PG5vBzpfW7aia6n0 ylFDQ6mA7brPAnJKSWxtynKQ6HjBtrEJ4iFgeSogCkK3dbn0zrVPb4sNcc1Xx2DNVlJUqHcI8R6 NfI5fN8TlB3mhAUm77U0J7vaYnQK8y+802IY2n7EzJVcWrKvlWXbfLYb+ X-Gm-Gg: ASbGnctAGe+PaAmimnh5MqTwUz1BrzWnvpYnsslqdp3ClrzZqmlJpHH1n7KtlbjvNXc uLX3NJaBukhcbYWGQc3E1GRDmQcd7IugfiG76R5JZbbqSyA/izsL834QlATWuM+LN+df0MvUT+s 6n50+Q0rVGvUoIRdT1hy2xWaxSh5NCayJRjWfurRMdLHvhluOjsMt9OcVkCEoDlzeQq/eqnS/1S nU+ORSbY7hsmkUw5i3WHOTxrLgETvRpkUs5009HIbpugz/+jhEQawWqKx0Kyj0YvWjgsS9kIzVJ wMB6w2eK3e/0PVAk2Aa3aUYS54yDtxXuBIph+jKrk93rxPW/gAFl X-Google-Smtp-Source: AGHT+IGpqH0aQLbZ7khrEDTig9rDohFQmpsQiHdS+Y87mh2YCvKOcUCtf6PIdbawLcTKPEZ4001WrSVfkvwT X-Received: by 2002:a05:6870:d8d4:b0:2c2:588a:70a3 with SMTP id 586e51a60fabf-2c261300c13mr10169083fac.24.1741747502245; Tue, 11 Mar 2025 19:45:02 -0700 (PDT) Received: from postal.iol.unh.edu (postal.iol.unh.edu. [2606:4100:3880:1234::84]) by smtp-relay.gmail.com with ESMTPS id 586e51a60fabf-2c2512c9b41sm629510fac.21.2025.03.11.19.45.02 (version=TLS1_2 cipher=ECDHE-ECDSA-AES128-GCM-SHA256 bits=128/128); Tue, 11 Mar 2025 19:45:02 -0700 (PDT) X-Relaying-Domain: iol.unh.edu Date: Tue, 11 Mar 2025 19:45:02 -0700 (PDT) Message-ID: <67d0f52e.050a0220.2d6a63.e9c6SMTPIN_ADDED_MISSING@mx.google.com> Received: from [172.17.0.3] (unknown [172.18.0.217]) by postal.iol.unh.edu (Postfix) with ESMTP id 925566052471; Tue, 11 Mar 2025 22:45:01 -0400 (EDT) Subject: |SUCCESS| pw152332-152340 [PATCH] [v3,9/9] net/ioring: support multi From: dpdklab@iol.unh.edu To: Test Report Cc: dpdk-test-reports@iol.unh.edu In-Reply-To: <20250311235424.172440-10-stephen@networkplumber.org> References: <20250311235424.172440-10-stephen@networkplumber.org> Content-Type: text/plain X-BeenThere: test-report@dpdk.org X-Mailman-Version: 2.1.29 Precedence: list List-Id: automatic DPDK test reports List-Unsubscribe: , List-Archive: List-Post: List-Help: List-Subscribe: , Errors-To: test-report-bounces@dpdk.org Test-Label: iol-compile-amd64-testing Test-Status: SUCCESS http://dpdk.org/patch/152340 _Testing PASS_ Submitter: Stephen Hemminger Date: Tuesday, March 11 2025 23:51:27 DPDK git baseline: Repo:dpdk Branch: master CommitID:f1ba1be33657c02df257dbe6e5741232bff7df1a 152332-152340 --> testing pass Upstream job id: Windows-Compile-DPDK-Native#27286 Test environment and result as below: +-----------------------------------+--------------------+-------------------+------------------+-------------------+-------------------------+----------------------+ | Environment | dpdk_meson_compile | dpdk_compile_spdk | dpdk_compile_ovs | dpdk_msvc_compile | dpdk_llvm_clang_compile | dpdk_mingw64_compile | +===================================+====================+===================+==================+===================+=========================+======================+ | CentOS Stream 9 | PASS | PASS | SKIPPED | SKIPPED | SKIPPED | SKIPPED | +-----------------------------------+--------------------+-------------------+------------------+-------------------+-------------------------+----------------------+ | Debian 12 | PASS | PASS | SKIPPED | SKIPPED | SKIPPED | SKIPPED | +-----------------------------------+--------------------+-------------------+------------------+-------------------+-------------------------+----------------------+ | CentOS Stream 10 | PASS | SKIPPED | SKIPPED | SKIPPED | SKIPPED | SKIPPED | +-----------------------------------+--------------------+-------------------+------------------+-------------------+-------------------------+----------------------+ | Fedora 40 (Clang) | PASS | PASS | SKIPPED | SKIPPED | SKIPPED | SKIPPED | +-----------------------------------+--------------------+-------------------+------------------+-------------------+-------------------------+----------------------+ | Fedora 40 | PASS | PASS | SKIPPED | SKIPPED | SKIPPED | SKIPPED | +-----------------------------------+--------------------+-------------------+------------------+-------------------+-------------------------+----------------------+ | Fedora 41 (Clang) | PASS | PASS | PASS | SKIPPED | SKIPPED | SKIPPED | +-----------------------------------+--------------------+-------------------+------------------+-------------------+-------------------------+----------------------+ | openSUSE Leap 15 | PASS | SKIPPED | SKIPPED | SKIPPED | SKIPPED | SKIPPED | +-----------------------------------+--------------------+-------------------+------------------+-------------------+-------------------------+----------------------+ | Ubuntu 20.04 | PASS | SKIPPED | SKIPPED | SKIPPED | SKIPPED | SKIPPED | +-----------------------------------+--------------------+-------------------+------------------+-------------------+-------------------------+----------------------+ | Ubuntu 22.04 | PASS | PASS | SKIPPED | SKIPPED | SKIPPED | SKIPPED | +-----------------------------------+--------------------+-------------------+------------------+-------------------+-------------------------+----------------------+ | RHEL9 | PASS | SKIPPED | SKIPPED | SKIPPED | SKIPPED | SKIPPED | +-----------------------------------+--------------------+-------------------+------------------+-------------------+-------------------------+----------------------+ | RHEL8 | PASS | SKIPPED | SKIPPED | SKIPPED | SKIPPED | SKIPPED | +-----------------------------------+--------------------+-------------------+------------------+-------------------+-------------------------+----------------------+ | Ubuntu 24.04 32 Bit Cross Compile | PASS | SKIPPED | SKIPPED | SKIPPED | SKIPPED | SKIPPED | +-----------------------------------+--------------------+-------------------+------------------+-------------------+-------------------------+----------------------+ | Alpine | PASS | SKIPPED | SKIPPED | SKIPPED | SKIPPED | SKIPPED | +-----------------------------------+--------------------+-------------------+------------------+-------------------+-------------------------+----------------------+ | FreeBSD 13.4 | PASS | SKIPPED | SKIPPED | SKIPPED | SKIPPED | SKIPPED | +-----------------------------------+--------------------+-------------------+------------------+-------------------+-------------------------+----------------------+ | FreeBSD 14.2 | PASS | SKIPPED | SKIPPED | SKIPPED | SKIPPED | SKIPPED | +-----------------------------------+--------------------+-------------------+------------------+-------------------+-------------------------+----------------------+ | Ubuntu 24.04 | PASS | PASS | PASS | SKIPPED | SKIPPED | SKIPPED | +-----------------------------------+--------------------+-------------------+------------------+-------------------+-------------------------+----------------------+ | Windows Server 2022 | SKIPPED | SKIPPED | SKIPPED | PASS | PASS | PASS | +-----------------------------------+--------------------+-------------------+------------------+-------------------+-------------------------+----------------------+ CentOS Stream 9 Kernel: Depends on container host Compiler: gcc 11.5.0 20240719 (Red Hat 11.5.0-2) Debian 12 Kernel: Depends on container host Compiler: gcc (Debian 12.2.0-14) 12.2.0 CentOS Stream 10 Kernel: Depends on container host Compiler: gcc 14.2.1 20241104 (Red Hat 14.2.1-6) Fedora 40 (Clang) Kernel: Depends on container host Compiler: clang 18.1.8 (Fedora 18.1.8-1.fc40) Fedora 40 Kernel: Depends on container host Compiler: gcc 14.2.1 20240912 (Red Hat 14.2.1-3) Fedora 41 (Clang) Kernel: Depends on container host Compiler: clang 19.1.5 (Fedora 19.1.5-1.fc41) openSUSE Leap 15 Kernel: Depends on container host Compiler: gcc (SUSE Linux) 7.5.0 Ubuntu 20.04 Kernel: Depends on container host Compiler: gcc (Ubuntu 9.4.0-1ubuntu1~20.04.2) 9.4.0 Ubuntu 22.04 Kernel: Depends on container host Compiler: gcc (Ubuntu 11.4.0-1ubuntu1~22.04) 11.4.0 RHEL9 Kernel: Depends on container host Compiler: gcc 11.5.0 20240719 (Red Hat 11.5.0-2) RHEL8 Kernel: Depends on container host Compiler: gcc 8.5.0 20210514 (Red Hat 8.5.0-22) Ubuntu 24.04 32 Bit Cross Compile Kernel: Depends on container host Compiler: gcc (Ubuntu 13.3.0-6ubuntu2~24.04) 13.3.0 Alpine Kernel: Depends on container host Compiler: gcc (Alpine 14.2.0) 14.2.0 FreeBSD 13.4 Kernel: 13.4-RELEASE-p1 Compiler: clang 18.1.6 FreeBSD 14.2 Kernel: 14.2-RELEASE Compiler: clang 18.1.6 Ubuntu 24.04 Kernel: Depends on container host Compiler: gcc (Ubuntu 13.3.0-6ubuntu2~24.04) 13.3.0 Windows Server 2022 Kernel: 10.0.20348.2031 Compiler: clang 15.0.7, gcc 14.1.0 (MinGW), and MSVC VS 19.39.33521 To view detailed results, visit: https://lab.dpdk.org/results/dashboard/patchsets/32802/ UNH-IOL DPDK Community Lab To manage your email subscriptions, visit: https://lab.dpdk.org/results/dashboard/preferences/subscriptions/