From mboxrd@z Thu Jan 1 00:00:00 1970 Return-Path: Received: from mails.dpdk.org (mails.dpdk.org [217.70.189.124]) by inbox.dpdk.org (Postfix) with ESMTP id 63BC2463DB for ; Wed, 12 Mar 2025 06:49:59 +0100 (CET) Received: from mails.dpdk.org (localhost [127.0.0.1]) by mails.dpdk.org (Postfix) with ESMTP id 43E45402CE; Wed, 12 Mar 2025 06:49:59 +0100 (CET) Received: from mail-pl1-f227.google.com (mail-pl1-f227.google.com [209.85.214.227]) by mails.dpdk.org (Postfix) with ESMTP id A891740265 for ; Wed, 12 Mar 2025 06:49:57 +0100 (CET) Received: by mail-pl1-f227.google.com with SMTP id d9443c01a7336-22403cbb47fso121925195ad.0 for ; Tue, 11 Mar 2025 22:49:57 -0700 (PDT) DKIM-Signature: v=1; a=rsa-sha256; c=relaxed/relaxed; d=iol.unh.edu; s=unh-iol; t=1741758597; x=1742363397; darn=dpdk.org; h=cc:to:from:subject:message-id:date:from:to:cc:subject:date :message-id:reply-to; bh=xp18H+xrANQmhkoMmmHuCjW+DBbd3ZmhPwjvbbrZPmA=; b=ZSHgcFMZSmDL4ZLCNMwKVUSc5tKJfjjPlOofAYM8UM2418BtNidVR4ieWNHtMNCoTC SHglqVWL24nHRkBgYwa+2qVCUrDxCe44dECS3w72+jQEl6ze1NNZGCu+RmwFDNf3rocl yvtueQO3Cwl9jgbj4XIBh9cHGSHcGhYQD42WQ= X-Google-DKIM-Signature: v=1; a=rsa-sha256; c=relaxed/relaxed; d=1e100.net; s=20230601; t=1741758597; x=1742363397; h=cc:to:from:subject:message-id:date:x-gm-message-state:from:to:cc :subject:date:message-id:reply-to; bh=xp18H+xrANQmhkoMmmHuCjW+DBbd3ZmhPwjvbbrZPmA=; b=g94u8Y4YwVXexNlUFIcaCM9IHtbYDixpv7sLbyZz0O1SRrJDqMqh2fFb56DYkMw3sV olsubpNodGA9eOaORyv7bK+dACxhxNDkmLVaY1w84uwpKcK8P+7WlGHWPDY72DmSZ9JZ yOuJQNb92UgIaKjpi4K0SQ1CBT70eHQDRwft2iJyzogHkqTbTndDdPeBfHeboJMxpgXQ KjBKb08J8NwIXZo0+O7Sz4AoXC0chtTtRTGNNWb7b8T6E+g1lWHCkt1hD5ZBeFZ+d5sK OldcyZgxmsJ8UuSedE7vndwlh5qXk8D1B9npbONEWOQCvboEHZNmBWCPYsCs2r9QjhxC KZtw== X-Gm-Message-State: AOJu0Yw8HPng36VJ/9mz+iay6jJ5iDmHFOGxBfy6J1PCOJ+lttEbbrJb DVzNKQQp8QfH+x4u16D2FUHuJKUYNrYcaBT5J3xavt4+RugQcOMyWuGeue9+oHU2wpHPS3hLuF/ OPwTQXoJ01DHLmxi+jeSVU+cXHmNEqf1pT+xla7y0oRwc1132 X-Gm-Gg: ASbGncsUm6Wb766pYCaEntkI4/p1nZx4uQ1t83rJAH7vjyGtMykhXrBd6k8/d7kOrPt lvQ3fxl25RD/PUVgXBw0aAf24YNccdXb4g/3+wBlF+6TZjeLpX3gkJcefXeGLL7PH7syZ1YIhoN ywv1Ug5PJ/vr7ZZJVPEahIfepzuuYUhz30q7SWaGqaqCkUY6mj3Csb1HkHWhtmLatNOxAywbwMi p+DugBl6i6xohFeMqLEc7UeNsmwzs2lmPm1nBverBX02QCAqRYMjJVIuQ63BUndDJszrsPCljc0 hQ5H4Zc5j4QeqrsmGvAQ3eJs33HDcNxxLJ3PI4E/5VOs4zQVgaYr X-Google-Smtp-Source: AGHT+IGJEc4+gbBnNbZRmg93+lz1TRLphK/MOREpYvmA58oFOxH9fQ3ceCj6wIcn7ECdVjTn7E1Ms8HIQgtK X-Received: by 2002:a17:903:32c6:b0:224:826:279e with SMTP id d9443c01a7336-22428bf1937mr275427715ad.50.1741758596685; Tue, 11 Mar 2025 22:49:56 -0700 (PDT) Received: from postal.iol.unh.edu (postal.iol.unh.edu. [2606:4100:3880:1234::84]) by smtp-relay.gmail.com with ESMTPS id 98e67ed59e1d1-30118251355sm116509a91.7.2025.03.11.22.49.56 (version=TLS1_2 cipher=ECDHE-ECDSA-AES128-GCM-SHA256 bits=128/128); Tue, 11 Mar 2025 22:49:56 -0700 (PDT) X-Relaying-Domain: iol.unh.edu Date: Tue, 11 Mar 2025 22:49:56 -0700 (PDT) Message-ID: <67d12084.170a0220.25a2de.3484SMTPIN_ADDED_MISSING@mx.google.com> Received: from [172.21.0.5] (unknown [172.18.0.240]) by postal.iol.unh.edu (Postfix) with ESMTP id 406E06052471; Wed, 12 Mar 2025 01:49:53 -0400 (EDT) Subject: |SUCCESS| [GIT MASTER] 39594cdfcb730ea667370b1e304313d10996aff3 From: dpdklab@iol.unh.edu To: Test Report Cc: dpdk-test-reports@iol.unh.edu, Xueming Li , Christian Ehrhardt , Kevin Traynor , Luca Boccassi Content-Type: text/plain X-BeenThere: test-report@dpdk.org X-Mailman-Version: 2.1.29 Precedence: list List-Id: automatic DPDK test reports List-Unsubscribe: , List-Archive: List-Post: List-Help: List-Subscribe: , Errors-To: test-report-bounces@dpdk.org _Testing PASS_ Branch: tags/v24.11 39594cdfcb730ea667370b1e304313d10996aff3 --> testing pass Upstream job id: Generic-DPDK-Compile-ABI#120000 Test environment and result as below: +-------------------+----------+ | Environment | abi_test | +===================+==========+ | CentOS Stream 9 | PASS | +-------------------+----------+ | CentOS Stream 10 | PASS | +-------------------+----------+ | Debian 12 | PASS | +-------------------+----------+ | Fedora 40 (Clang) | PASS | +-------------------+----------+ | Fedora 41 (Clang) | PASS | +-------------------+----------+ | Fedora 40 | PASS | +-------------------+----------+ | openSUSE Leap 15 | PASS | +-------------------+----------+ | Fedora 41 | PASS | +-------------------+----------+ | RHEL8 | PASS | +-------------------+----------+ | RHEL9 | PASS | +-------------------+----------+ | Ubuntu 24.04 | PASS | +-------------------+----------+ | Ubuntu 22.04 | PASS | +-------------------+----------+ CentOS Stream 9 Kernel: Depends on container host Compiler: gcc 11.5.0 20240719 (Red Hat 11.5.0-2) CentOS Stream 10 Kernel: Depends on container host Compiler: gcc 14.2.1 20241104 (Red Hat 14.2.1-6) Debian 12 Kernel: Depends on container host Compiler: gcc (Debian 12.2.0-14) 12.2.0 Fedora 40 (Clang) Kernel: Depends on container host Compiler: clang 18.1.8 (Fedora 18.1.8-1.fc40) Fedora 41 (Clang) Kernel: Depends on container host Compiler: clang 19.1.5 (Fedora 19.1.5-1.fc41) Fedora 40 Kernel: Depends on container host Compiler: gcc 14.2.1 20240912 (Red Hat 14.2.1-3) openSUSE Leap 15 Kernel: Depends on container host Compiler: gcc (SUSE Linux) 7.5.0 Fedora 41 Kernel: Depends on container host Compiler: gcc 14.2.1 20240912 (Red Hat 14.2.1-3) RHEL8 Kernel: Depends on container host Compiler: gcc 8.5.0 20210514 (Red Hat 8.5.0-22) RHEL9 Kernel: Depends on container host Compiler: gcc 11.5.0 20240719 (Red Hat 11.5.0-2) Ubuntu 24.04 Kernel: Depends on container host Compiler: gcc (Ubuntu 13.3.0-6ubuntu2~24.04) 13.3.0 Ubuntu 22.04 Kernel: Depends on container host Compiler: gcc (Ubuntu 11.4.0-1ubuntu1~22.04) 11.4.0 To view detailed results, visit: https://lab.dpdk.org/results/dashboard/tarballs/32926/ UNH-IOL DPDK Community Lab To manage your email subscriptions, visit: https://lab.dpdk.org/results/dashboard/preferences/subscriptions/