From mboxrd@z Thu Jan 1 00:00:00 1970 Return-Path: Received: from mails.dpdk.org (mails.dpdk.org [217.70.189.124]) by inbox.dpdk.org (Postfix) with ESMTP id 5D861463DE for ; Wed, 12 Mar 2025 08:23:45 +0100 (CET) Received: from mails.dpdk.org (localhost [127.0.0.1]) by mails.dpdk.org (Postfix) with ESMTP id 56DEB402CE; Wed, 12 Mar 2025 08:23:45 +0100 (CET) Received: from mail-pl1-f228.google.com (mail-pl1-f228.google.com [209.85.214.228]) by mails.dpdk.org (Postfix) with ESMTP id 2991840265 for ; Wed, 12 Mar 2025 08:23:44 +0100 (CET) Received: by mail-pl1-f228.google.com with SMTP id d9443c01a7336-22435603572so75965415ad.1 for ; Wed, 12 Mar 2025 00:23:44 -0700 (PDT) DKIM-Signature: v=1; a=rsa-sha256; c=relaxed/relaxed; d=iol.unh.edu; s=unh-iol; t=1741764223; x=1742369023; darn=dpdk.org; h=cc:to:from:subject:message-id:date:from:to:cc:subject:date :message-id:reply-to; bh=lx1aeL6S8W6LvrkbqNdXjdupYgDjrbyjj6KTEU7aGP8=; b=f7d/id53aHA+gRcJd/6RFcTSGwQ6c8J8Y+dogpN+AJC8hDw6z88uupr9tFUDl/5V3w LhE0IgtY+L9NlAGshelDRCZ+u/fRSnocwopPctNRV/bG2LRiMI7QQBh9B74B0dZenaSg Hkd7sf0NTVsgE6dPnqqmp5P7Dg9K1pXJJa0PA= X-Google-DKIM-Signature: v=1; a=rsa-sha256; c=relaxed/relaxed; d=1e100.net; s=20230601; t=1741764223; x=1742369023; h=cc:to:from:subject:message-id:date:x-gm-message-state:from:to:cc :subject:date:message-id:reply-to; bh=lx1aeL6S8W6LvrkbqNdXjdupYgDjrbyjj6KTEU7aGP8=; b=t37NapudzeljEledOO9Vw8R+4Fgeo3fzxLw6hFEwMFIWz7kzEfVOoqIfwQmhB2h1NR haf7cxR+G/nL4uDN96cHomKEaD0ToXzcWWY8mXfUJAap8Mg6aiWwzXyCsgaIS0Tf6vkF w1sowIfUkN3LFAHhbVJqruu94ZMZN8IjD+GZIycZHC4ziKMlFt2E4jmyOlzmrr9G6myM rahovaqOV+pj6DoB7oJJil8yBp0ousX1sZpBwhRlZtC7sJQwPNnsV3qihNGJm8TVhs3Y uOO6ECtgZh3S6kXLq3KnZ2HpfVqg1zHlM/50TiS34UH+61/1CYeES6aJKNhNbc8gqHSL Or+Q== X-Gm-Message-State: AOJu0YxJ5rew5nUwukzq4EHWcrQrQFux0KX4qnupR6SoiS03rO/UQfxH 4zxM3ITJNxjX6MhLdQGFHZrF0nPewWAoFcuPUYKJrYOoWNkYegH7I3J8IhvgfWk0bQOtEmwMStW +k0c/1ndVWaQPKOjqWqJ0z7KYD+EXBZDf X-Gm-Gg: ASbGncsANC572aGqyWygvqLqh/GDtUA7n0KcZrINps14eKdYtD4l92QIJBpDxZ07byb qCTP88gi3HYvGQDrVxNIcXUi9huQJmfN7zAtVCxvR+++7YPTe3VCyoK/iEpMH1nAHOB8m9ua69Z u11itaJV4EP3CL7//FVKGvzfhaETqNtvLU5IyQ7/enEnXyl+cfHCojtLqyracPRCx4+gKfOEhJd h9wUxh4i4sC+2QYlIXw6ts4+EqIKJ3Z04SvRU6vpJVMfByEiTVPIKSKuhKGA0dEygd1W4k0Yk1H vNwUWusl2U6fHBdIqq2b2+7XqN2fOjxWdhHdXLYM X-Google-Smtp-Source: AGHT+IHL9Zf5omlUQjLDWASXNiFUbuqkInHbMJXTpdNoDnKrQousrBMooo7oo3eKU/12pYmEt+mueGMcHLG9 X-Received: by 2002:a17:902:ce8a:b0:224:1935:fb7e with SMTP id d9443c01a7336-22428a9c036mr331699355ad.24.1741764223271; Wed, 12 Mar 2025 00:23:43 -0700 (PDT) Received: from postal.iol.unh.edu (postal.iol.unh.edu. [132.177.123.84]) by smtp-relay.gmail.com with ESMTPS id d9443c01a7336-22410acecb9sm8081805ad.100.2025.03.12.00.23.43 (version=TLS1_2 cipher=ECDHE-ECDSA-AES128-GCM-SHA256 bits=128/128); Wed, 12 Mar 2025 00:23:43 -0700 (PDT) X-Relaying-Domain: iol.unh.edu Date: Wed, 12 Mar 2025 00:23:43 -0700 (PDT) Message-ID: <67d1367f.170a0220.1c8877.8163SMTPIN_ADDED_MISSING@mx.google.com> Received: from [172.21.0.6] (unknown [172.18.0.240]) by postal.iol.unh.edu (Postfix) with ESMTP id 3B7F26052471; Wed, 12 Mar 2025 03:23:40 -0400 (EDT) Subject: |SUCCESS| [GIT MASTER] 39594cdfcb730ea667370b1e304313d10996aff3 From: dpdklab@iol.unh.edu To: Test Report Cc: dpdk-test-reports@iol.unh.edu, Xueming Li , Christian Ehrhardt , Kevin Traynor , Luca Boccassi Content-Type: text/plain X-BeenThere: test-report@dpdk.org X-Mailman-Version: 2.1.29 Precedence: list List-Id: automatic DPDK test reports List-Unsubscribe: , List-Archive: List-Post: List-Help: List-Subscribe: , Errors-To: test-report-bounces@dpdk.org _Testing PASS_ Branch: tags/v24.11 39594cdfcb730ea667370b1e304313d10996aff3 --> testing pass Upstream job id: Generic-DPDK-Compile-Meson#371231 Test environment and result as below: +-----------------------------------+--------------------+-------------------+------------------+-------------------------+-------------------+----------------------+ | Environment | dpdk_meson_compile | dpdk_compile_spdk | dpdk_compile_ovs | dpdk_llvm_clang_compile | dpdk_msvc_compile | dpdk_mingw64_compile | +===================================+====================+===================+==================+=========================+===================+======================+ | CentOS Stream 9 | PASS | PASS | SKIPPED | SKIPPED | SKIPPED | SKIPPED | +-----------------------------------+--------------------+-------------------+------------------+-------------------------+-------------------+----------------------+ | CentOS Stream 10 | PASS | SKIPPED | SKIPPED | SKIPPED | SKIPPED | SKIPPED | +-----------------------------------+--------------------+-------------------+------------------+-------------------------+-------------------+----------------------+ | Debian 12 | PASS | PASS | SKIPPED | SKIPPED | SKIPPED | SKIPPED | +-----------------------------------+--------------------+-------------------+------------------+-------------------------+-------------------+----------------------+ | Fedora 40 (Clang) | PASS | PASS | SKIPPED | SKIPPED | SKIPPED | SKIPPED | +-----------------------------------+--------------------+-------------------+------------------+-------------------------+-------------------+----------------------+ | Fedora 40 | PASS | PASS | SKIPPED | SKIPPED | SKIPPED | SKIPPED | +-----------------------------------+--------------------+-------------------+------------------+-------------------------+-------------------+----------------------+ | Fedora 41 (Clang) | PASS | PASS | PASS | SKIPPED | SKIPPED | SKIPPED | +-----------------------------------+--------------------+-------------------+------------------+-------------------------+-------------------+----------------------+ | Ubuntu 22.04 | PASS | PASS | SKIPPED | SKIPPED | SKIPPED | SKIPPED | +-----------------------------------+--------------------+-------------------+------------------+-------------------------+-------------------+----------------------+ | RHEL8 | PASS | SKIPPED | SKIPPED | SKIPPED | SKIPPED | SKIPPED | +-----------------------------------+--------------------+-------------------+------------------+-------------------------+-------------------+----------------------+ | Ubuntu 24.04 | PASS | PASS | PASS | SKIPPED | SKIPPED | SKIPPED | +-----------------------------------+--------------------+-------------------+------------------+-------------------------+-------------------+----------------------+ | Fedora 41 | PASS | PASS | PASS | SKIPPED | SKIPPED | SKIPPED | +-----------------------------------+--------------------+-------------------+------------------+-------------------------+-------------------+----------------------+ | Ubuntu 20.04 | PASS | SKIPPED | SKIPPED | SKIPPED | SKIPPED | SKIPPED | +-----------------------------------+--------------------+-------------------+------------------+-------------------------+-------------------+----------------------+ | RHEL9 | PASS | SKIPPED | SKIPPED | SKIPPED | SKIPPED | SKIPPED | +-----------------------------------+--------------------+-------------------+------------------+-------------------------+-------------------+----------------------+ | openSUSE Leap 15 | PASS | SKIPPED | SKIPPED | SKIPPED | SKIPPED | SKIPPED | +-----------------------------------+--------------------+-------------------+------------------+-------------------------+-------------------+----------------------+ | Alpine | PASS | SKIPPED | SKIPPED | SKIPPED | SKIPPED | SKIPPED | +-----------------------------------+--------------------+-------------------+------------------+-------------------------+-------------------+----------------------+ | FreeBSD 13.4 | PASS | SKIPPED | SKIPPED | SKIPPED | SKIPPED | SKIPPED | +-----------------------------------+--------------------+-------------------+------------------+-------------------------+-------------------+----------------------+ | Ubuntu 24.04 32 Bit Cross Compile | PASS | SKIPPED | SKIPPED | SKIPPED | SKIPPED | SKIPPED | +-----------------------------------+--------------------+-------------------+------------------+-------------------------+-------------------+----------------------+ | FreeBSD 14.2 | PASS | SKIPPED | SKIPPED | SKIPPED | SKIPPED | SKIPPED | +-----------------------------------+--------------------+-------------------+------------------+-------------------------+-------------------+----------------------+ | Windows Server 2022 | SKIPPED | SKIPPED | SKIPPED | PASS | PASS | PASS | +-----------------------------------+--------------------+-------------------+------------------+-------------------------+-------------------+----------------------+ CentOS Stream 9 Kernel: Depends on container host Compiler: gcc 11.5.0 20240719 (Red Hat 11.5.0-2) CentOS Stream 10 Kernel: Depends on container host Compiler: gcc 14.2.1 20241104 (Red Hat 14.2.1-6) Debian 12 Kernel: Depends on container host Compiler: gcc (Debian 12.2.0-14) 12.2.0 Fedora 40 (Clang) Kernel: Depends on container host Compiler: clang 18.1.8 (Fedora 18.1.8-1.fc40) Fedora 40 Kernel: Depends on container host Compiler: gcc 14.2.1 20240912 (Red Hat 14.2.1-3) Fedora 41 (Clang) Kernel: Depends on container host Compiler: clang 19.1.5 (Fedora 19.1.5-1.fc41) Ubuntu 22.04 Kernel: Depends on container host Compiler: gcc (Ubuntu 11.4.0-1ubuntu1~22.04) 11.4.0 RHEL8 Kernel: Depends on container host Compiler: gcc 8.5.0 20210514 (Red Hat 8.5.0-22) Ubuntu 24.04 Kernel: Depends on container host Compiler: gcc (Ubuntu 13.3.0-6ubuntu2~24.04) 13.3.0 Fedora 41 Kernel: Depends on container host Compiler: gcc 14.2.1 20240912 (Red Hat 14.2.1-3) Ubuntu 20.04 Kernel: Depends on container host Compiler: gcc (Ubuntu 9.4.0-1ubuntu1~20.04.2) 9.4.0 RHEL9 Kernel: Depends on container host Compiler: gcc 11.5.0 20240719 (Red Hat 11.5.0-2) openSUSE Leap 15 Kernel: Depends on container host Compiler: gcc (SUSE Linux) 7.5.0 Alpine Kernel: Depends on container host Compiler: gcc (Alpine 14.2.0) 14.2.0 FreeBSD 13.4 Kernel: 13.4-RELEASE-p1 Compiler: clang 18.1.6 Ubuntu 24.04 32 Bit Cross Compile Kernel: Depends on container host Compiler: gcc (Ubuntu 13.3.0-6ubuntu2~24.04) 13.3.0 FreeBSD 14.2 Kernel: 14.2-RELEASE Compiler: clang 18.1.6 Windows Server 2022 Kernel: 10.0.20348.2031 Compiler: clang 15.0.7, gcc 14.1.0 (MinGW), and MSVC VS 19.39.33521 To view detailed results, visit: https://lab.dpdk.org/results/dashboard/tarballs/32926/ UNH-IOL DPDK Community Lab To manage your email subscriptions, visit: https://lab.dpdk.org/results/dashboard/preferences/subscriptions/